Workbook

Sheet Scoresheet
A1: Scorer | B1: Locality | C1: Latitude | E1: Longitude | G1: Altitude | I1: Date Collected | K1: Completeness | N1: Yes = | P1: 1 | S1: Notes:
N2: No = | P2: leave blank
B3: Highvale Ardley Coal
A4: Status
A5: Species Number | B5: Species / Morphotypes | C5: Lamina | E5: Margin Character States | O5: Size Character States | X5: Apex Character States | AB5: Base Character States | AE5: Length to Width Character States | AJ5: Shape Character States | AN5: Status | AO5: No. | AP5: Name | AQ5: Lamina Dissection | AR5: Margin Character States | AS5: Size Character States | AT5: Apex Character States | AU5: Base Character States | AV5: Length to Width Character States | AW5: Shape Character States
C6: Unlobed | D6: Lobed | E6: No Teeth | F6: Teeth | G6: Teeth Regular | H6: Teeth Irregular | I6: Teeth Close | J6: Teeth Distant | K6: Teeth Round | L6: Teeth Acute | M6: Teeth Compound | N6: Compound<50% | O6: Nanophyll | P6: Leptophyll I | Q6: Leptophyll II | R6: Microphyll I | S6: Microphyll II | T6: Microphyll III | U6: Mesophyll I | V6: Mesophyll II | W6: Mesophyll III | X6: Emarginate | Y6: Round | Z6: Acute | AA6: Attenuate | AB6: Cordate | AC6: Round | AD6: Acute | AE6: L:W <1:1 | AF6: L:W 1-2:1 | AG6: L:W 2-3:1 | AH6: L:W 3-4:1 | AI6: L:W >4:1 | AJ6: Obovate | AK6: Elliptic | AL6: Ovate
A7: =IF(B7>0,(ROW(A7)-6),0) -> 1 | B7: Archeampelos | D7: 1 | F7: 1 | G7: 1 | I7: 1 | J7: 1 | K7: 1 | S7: 1 | T7: 1 | U7: 1 | V7: 1 | Y7: 1 | Z7: 1 | AB7: 1 | AC7: 1 | AE7: 1 | AF7: 1 | AK7: 1 | AL7: 1 | AN7: =IF(AND(AND(AP7="OK",AQ7="OK",AR7="OK",AS7="OK"),AND(AT7="OK",AU7="OK",AV7="OK",AW7="OK")),"Finished",IF(AND(AND(AP7="N",AQ7="N",AR7="N",AS7="N"),AND(AT7="N",AU7="N",AV7="N",AW7="N")),"N/A","Unfinished")) -> Finished | AO7: =IF(A7=0,"N",A7) -> 1 | AP7: =IF(ISBLANK(B7),"N","OK") -> OK | AQ7: =IF((C7+D7)=0,"N","OK") -> OK | AR7: =IF(AND(OR(E7=1,SUM(F7:N7)>=3),OR(AND(F7=1,(SUM(G7:N7)>0)),AND(F7=0,(SUM(G7:N7)=0)))),"OK","N") -> OK | AS7: =IF(SUM(O7:W7)>0,(IF(OR((O7+ABS(P7-O7)+ABS(Q7-P7)+ABS(R7-Q7)+ABS(S7-R7)+ABS(T7-S7)+ABS(U7-T7)+ABS(V7-U7)+ABS(W7-V7)+W7)=2,(O7+ABS(P7-O7)+ABS(Q7-P7)+ABS(R7-Q7)+ABS(S7-R7)+ABS(T7-S7)+ABS(U7-T7)+ABS(V7-U7)+ABS(W7-V7)+W7)=0),"OK","N")),"N") -> OK | AT7: =IF(SUM(X7:AA7)>0,"OK","N") -> OK | AU7: =IF(SUM(AB7:AD7)>0,"OK","N") -> OK | AV7: =IF(SUM(AE7:AI7)>0,(IF(OR((AE7+ABS(AF7-AE7)+ABS(AG7-AF7)+ABS(AH7-AG7)+ABS(AI7-AH7)+AI7)=2,(AE7+ABS(AF7-AE7)+ABS(AG7-AF7)+ABS(AH7-AG7)+ABS(AI7-AH7)+AI7)=0),"OK","N")),"N") -> OK | AW7: =IF(SUM(AJ7:AL7)>0,"OK","N") -> OK
A8: =IF(B8>0,(ROW(A8)-6),0) -> 2 | B8: Browniea | C8: 1 | F8: 1 | G8: 1 | I8: 1 | K8: 1 | L8: 1 | T8: 1 | U8: 1 | V8: 1 | Y8: 1 | Z8: 1 | AC8: 1 | AD8: 1 | AF8: 1 | AK8: 1 | AN8: =IF(AND(AND(AP8="OK",AQ8="OK",AR8="OK",AS8="OK"),AND(AT8="OK",AU8="OK",AV8="OK",AW8="OK")),"Finished",IF(AND(AND(AP8="N",AQ8="N",AR8="N",AS8="N"),AND(AT8="N",AU8="N",AV8="N",AW8="N")),"N/A","Unfinished")) -> Finished | AO8: =IF(A8=0,"N",A8) -> 2 | AP8: =IF(ISBLANK(B8),"N","OK") -> OK | AQ8: =IF((C8+D8)=0,"N","OK") -> OK | AR8: =IF(AND(OR(E8=1,SUM(F8:N8)>=3),OR(AND(F8=1,(SUM(G8:N8)>0)),AND(F8=0,(SUM(G8:N8)=0)))),"OK","N") -> OK | AS8: =IF(SUM(O8:W8)>0,(IF(OR((O8+ABS(P8-O8)+ABS(Q8-P8)+ABS(R8-Q8)+ABS(S8-R8)+ABS(T8-S8)+ABS(U8-T8)+ABS(V8-U8)+ABS(W8-V8)+W8)=2,(O8+ABS(P8-O8)+ABS(Q8-P8)+ABS(R8-Q8)+ABS(S8-R8)+ABS(T8-S8)+ABS(U8-T8)+ABS(V8-U8)+ABS(W8-V8)+W8)=0),"OK","N")),"N") -> OK | AT8: =IF(SUM(X8:AA8)>0,"OK","N") -> OK | AU8: =IF(SUM(AB8:AD8)>0,"OK","N") -> OK | AV8: =IF(SUM(AE8:AI8)>0,(IF(OR((AE8+ABS(AF8-AE8)+ABS(AG8-AF8)+ABS(AH8-AG8)+ABS(AI8-AH8)+AI8)=2,(AE8+ABS(AF8-AE8)+ABS(AG8-AF8)+ABS(AH8-AG8)+ABS(AI8-AH8)+AI8)=0),"OK","N")),"N") -> OK | AW8: =IF(SUM(AJ8:AL8)>0,"OK","N") -> OK
A9: =IF(B9>0,(ROW(A9)-6),0) -> 3 | B9: Craspedodromophyllum | C9: 1 | D9: 1 | F9: 1 | G9: 1 | I9: 1 | K9: 1 | M9: 1 | S9: 1 | T9: 1 | U9: 1 | V9: 1 | W9: 1 | Z9: 1 | AB9: 1 | AF9: 1 | AL9: 1 | AN9: =IF(AND(AND(AP9="OK",AQ9="OK",AR9="OK",AS9="OK"),AND(AT9="OK",AU9="OK",AV9="OK",AW9="OK")),"Finished",IF(AND(AND(AP9="N",AQ9="N",AR9="N",AS9="N"),AND(AT9="N",AU9="N",AV9="N",AW9="N")),"N/A","Unfinished")) -> Finished | AO9: =IF(A9=0,"N",A9) -> 3 | AP9: =IF(ISBLANK(B9),"N","OK") -> OK | AQ9: =IF((C9+D9)=0,"N","OK") -> OK | AR9: =IF(AND(OR(E9=1,SUM(F9:N9)>=3),OR(AND(F9=1,(SUM(G9:N9)>0)),AND(F9=0,(SUM(G9:N9)=0)))),"OK","N") -> OK | AS9: =IF(SUM(O9:W9)>0,(IF(OR((O9+ABS(P9-O9)+ABS(Q9-P9)+ABS(R9-Q9)+ABS(S9-R9)+ABS(T9-S9)+ABS(U9-T9)+ABS(V9-U9)+ABS(W9-V9)+W9)=2,(O9+ABS(P9-O9)+ABS(Q9-P9)+ABS(R9-Q9)+ABS(S9-R9)+ABS(T9-S9)+ABS(U9-T9)+ABS(V9-U9)+ABS(W9-V9)+W9)=0),"OK","N")),"N") -> OK | AT9: =IF(SUM(X9:AA9)>0,"OK","N") -> OK | AU9: =IF(SUM(AB9:AD9)>0,"OK","N") -> OK | AV9: =IF(SUM(AE9:AI9)>0,(IF(OR((AE9+ABS(AF9-AE9)+ABS(AG9-AF9)+ABS(AH9-AG9)+ABS(AI9-AH9)+AI9)=2,(AE9+ABS(AF9-AE9)+ABS(AG9-AF9)+ABS(AH9-AG9)+ABS(AI9-AH9)+AI9)=0),"OK","N")),"N") -> OK | AW9: =IF(SUM(AJ9:AL9)>0,"OK","N") -> OK
A10: =IF(B10>0,(ROW(A10)-6),0) -> 4 | B10: T cuneatum | C10: 1 | F10: 1 | G10: 1 | I10: 1 | K10: 1 | S10: 1 | Z10: 1 | AD10: 1 | AF10: 1 | AK10: 1 | AN10: =IF(AND(AND(AP10="OK",AQ10="OK",AR10="OK",AS10="OK"),AND(AT10="OK",AU10="OK",AV10="OK",AW10="OK")),"Finished",IF(AND(AND(AP10="N",AQ10="N",AR10="N",AS10="N"),AND(AT10="N",AU10="N",AV10="N",AW10="N")),"N/A","Unfinished")) -> Finished | AO10: =IF(A10=0,"N",A10) -> 4 | AP10: =IF(ISBLANK(B10),"N","OK") -> OK | AQ10: =IF((C10+D10)=0,"N","OK") -> OK | AR10: =IF(AND(OR(E10=1,SUM(F10:N10)>=3),OR(AND(F10=1,(SUM(G10:N10)>0)),AND(F10=0,(SUM(G10:N10)=0)))),"OK","N") -> OK | AS10: =IF(SUM(O10:W10)>0,(IF(OR((O10+ABS(P10-O10)+ABS(Q10-P10)+ABS(R10-Q10)+ABS(S10-R10)+ABS(T10-S10)+ABS(U10-T10)+ABS(V10-U10)+ABS(W10-V10)+W10)=2,(O10+ABS(P10-O10)+ABS(Q10-P10)+ABS(R10-Q10)+ABS(S10-R10)+ABS(T10-S10)+ABS(U10-T10)+ABS(V10-U10)+ABS(W10-V10)+W10)=0),"OK","N")),"N") -> OK | AT10: =IF(SUM(X10:AA10)>0,"OK","N") -> OK | AU10: =IF(SUM(AB10:AD10)>0,"OK","N") -> OK | AV10: =IF(SUM(AE10:AI10)>0,(IF(OR((AE10+ABS(AF10-AE10)+ABS(AG10-AF10)+ABS(AH10-AG10)+ABS(AI10-AH10)+AI10)=2,(AE10+ABS(AF10-AE10)+ABS(AG10-AF10)+ABS(AH10-AG10)+ABS(AI10-AH10)+AI10)=0),"OK","N")),"N") -> OK | AW10: =IF(SUM(AJ10:AL10)>0,"OK","N") -> OK
A11: =IF(B11>0,(ROW(A11)-6),0) -> 5 | B11: T flexuosum | C11: 1 | F11: 1 | G11: 1 | I11: 1 | K11: 1 | S11: 1 | T11: 1 | Z11: 1 | AC11: 1 | AD11: 1 | AE11: 1 | AF11: 1 | AL11: 1 | AN11: =IF(AND(AND(AP11="OK",AQ11="OK",AR11="OK",AS11="OK"),AND(AT11="OK",AU11="OK",AV11="OK",AW11="OK")),"Finished",IF(AND(AND(AP11="N",AQ11="N",AR11="N",AS11="N"),AND(AT11="N",AU11="N",AV11="N",AW11="N")),"N/A","Unfinished")) -> Finished | AO11: =IF(A11=0,"N",A11) -> 5 | AP11: =IF(ISBLANK(B11),"N","OK") -> OK | AQ11: =IF((C11+D11)=0,"N","OK") -> OK | AR11: =IF(AND(OR(E11=1,SUM(F11:N11)>=3),OR(AND(F11=1,(SUM(G11:N11)>0)),AND(F11=0,(SUM(G11:N11)=0)))),"OK","N") -> OK | AS11: =IF(SUM(O11:W11)>0,(IF(OR((O11+ABS(P11-O11)+ABS(Q11-P11)+ABS(R11-Q11)+ABS(S11-R11)+ABS(T11-S11)+ABS(U11-T11)+ABS(V11-U11)+ABS(W11-V11)+W11)=2,(O11+ABS(P11-O11)+ABS(Q11-P11)+ABS(R11-Q11)+ABS(S11-R11)+ABS(T11-S11)+ABS(U11-T11)+ABS(V11-U11)+ABS(W11-V11)+W11)=0),"OK","N")),"N") -> OK | AT11: =IF(SUM(X11:AA11)>0,"OK","N") -> OK | AU11: =IF(SUM(AB11:AD11)>0,"OK","N") -> OK | AV11: =IF(SUM(AE11:AI11)>0,(IF(OR((AE11+ABS(AF11-AE11)+ABS(AG11-AF11)+ABS(AH11-AG11)+ABS(AI11-AH11)+AI11)=2,(AE11+ABS(AF11-AE11)+ABS(AG11-AF11)+ABS(AH11-AG11)+ABS(AI11-AH11)+AI11)=0),"OK","N")),"N") -> OK | AW11: =IF(SUM(AJ11:AL11)>0,"OK","N") -> OK
A12: =IF(B12>0,(ROW(A12)-6),0) -> 6 | B12: T genesevianum | C12: 1 | F12: 1 | G12: 1 | I12: 1 | L12: 1 | R12: 1 | AA12: 1 | AC12: 1 | AF12: 1 | AL12: 1 | AN12: =IF(AND(AND(AP12="OK",AQ12="OK",AR12="OK",AS12="OK"),AND(AT12="OK",AU12="OK",AV12="OK",AW12="OK")),"Finished",IF(AND(AND(AP12="N",AQ12="N",AR12="N",AS12="N"),AND(AT12="N",AU12="N",AV12="N",AW12="N")),"N/A","Unfinished")) -> Finished | AO12: =IF(A12=0,"N",A12) -> 6 | AP12: =IF(ISBLANK(B12),"N","OK") -> OK | AQ12: =IF((C12+D12)=0,"N","OK") -> OK | AR12: =IF(AND(OR(E12=1,SUM(F12:N12)>=3),OR(AND(F12=1,(SUM(G12:N12)>0)),AND(F12=0,(SUM(G12:N12)=0)))),"OK","N") -> OK | AS12: =IF(SUM(O12:W12)>0,(IF(OR((O12+ABS(P12-O12)+ABS(Q12-P12)+ABS(R12-Q12)+ABS(S12-R12)+ABS(T12-S12)+ABS(U12-T12)+ABS(V12-U12)+ABS(W12-V12)+W12)=2,(O12+ABS(P12-O12)+ABS(Q12-P12)+ABS(R12-Q12)+ABS(S12-R12)+ABS(T12-S12)+ABS(U12-T12)+ABS(V12-U12)+ABS(W12-V12)+W12)=0),"OK","N")),"N") -> OK | AT12: =IF(SUM(X12:AA12)>0,"OK","N") -> OK | AU12: =IF(SUM(AB12:AD12)>0,"OK","N") -> OK | AV12: =IF(SUM(AE12:AI12)>0,(IF(OR((AE12+ABS(AF12-AE12)+ABS(AG12-AF12)+ABS(AH12-AG12)+ABS(AI12-AH12)+AI12)=2,(AE12+ABS(AF12-AE12)+ABS(AG12-AF12)+ABS(AH12-AG12)+ABS(AI12-AH12)+AI12)=0),"OK","N")),"N") -> OK | AW12: =IF(SUM(AJ12:AL12)>0,"OK","N") -> OK
A13: =IF(B13>0,(ROW(A13)-6),0) -> 7 | B13: Zizyphoides | C13: 1 | E13: 1 | R13: 1 | S13: 1 | T13: 1 | Y13: 1 | Z13: 1 | AC13: 1 | AE13: 1 | AF13: 1 | AK13: 1 | AL13: 1 | AN13: =IF(AND(AND(AP13="OK",AQ13="OK",AR13="OK",AS13="OK"),AND(AT13="OK",AU13="OK",AV13="OK",AW13="OK")),"Finished",IF(AND(AND(AP13="N",AQ13="N",AR13="N",AS13="N"),AND(AT13="N",AU13="N",AV13="N",AW13="N")),"N/A","Unfinished")) -> Finished | AO13: =IF(A13=0,"N",A13) -> 7 | AP13: =IF(ISBLANK(B13),"N","OK") -> OK | AQ13: =IF((C13+D13)=0,"N","OK") -> OK | AR13: =IF(AND(OR(E13=1,SUM(F13:N13)>=3),OR(AND(F13=1,(SUM(G13:N13)>0)),AND(F13=0,(SUM(G13:N13)=0)))),"OK","N") -> OK | AS13: =IF(SUM(O13:W13)>0,(IF(OR((O13+ABS(P13-O13)+ABS(Q13-P13)+ABS(R13-Q13)+ABS(S13-R13)+ABS(T13-S13)+ABS(U13-T13)+ABS(V13-U13)+ABS(W13-V13)+W13)=2,(O13+ABS(P13-O13)+ABS(Q13-P13)+ABS(R13-Q13)+ABS(S13-R13)+ABS(T13-S13)+ABS(U13-T13)+ABS(V13-U13)+ABS(W13-V13)+W13)=0),"OK","N")),"N") -> OK | AT13: =IF(SUM(X13:AA13)>0,"OK","N") -> OK | AU13: =IF(SUM(AB13:AD13)>0,"OK","N") -> OK | AV13: =IF(SUM(AE13:AI13)>0,(IF(OR((AE13+ABS(AF13-AE13)+ABS(AG13-AF13)+ABS(AH13-AG13)+ABS(AI13-AH13)+AI13)=2,(AE13+ABS(AF13-AE13)+ABS(AG13-AF13)+ABS(AH13-AG13)+ABS(AI13-AH13)+AI13)=0),"OK","N")),"N") -> OK | AW13: =IF(SUM(AJ13:AL13)>0,"OK","N") -> OK
A14: =IF(B14>0,(ROW(A14)-6),0) -> 8 | B14: Pterospermites | C14: 1 | E14: 1 | F14: 1 | H14: 1 | J14: 1 | L14: 1 | U14: 1 | V14: 1 | W14: 1 | AA14: 1 | AB14: 1 | AC14: 1 | AF14: 1 | AL14: 1 | AN14: =IF(AND(AND(AP14="OK",AQ14="OK",AR14="OK",AS14="OK"),AND(AT14="OK",AU14="OK",AV14="OK",AW14="OK")),"Finished",IF(AND(AND(AP14="N",AQ14="N",AR14="N",AS14="N"),AND(AT14="N",AU14="N",AV14="N",AW14="N")),"N/A","Unfinished")) -> Finished | AO14: =IF(A14=0,"N",A14) -> 8 | AP14: =IF(ISBLANK(B14),"N","OK") -> OK | AQ14: =IF((C14+D14)=0,"N","OK") -> OK | AR14: =IF(AND(OR(E14=1,SUM(F14:N14)>=3),OR(AND(F14=1,(SUM(G14:N14)>0)),AND(F14=0,(SUM(G14:N14)=0)))),"OK","N") -> OK | AS14: =IF(SUM(O14:W14)>0,(IF(OR((O14+ABS(P14-O14)+ABS(Q14-P14)+ABS(R14-Q14)+ABS(S14-R14)+ABS(T14-S14)+ABS(U14-T14)+ABS(V14-U14)+ABS(W14-V14)+W14)=2,(O14+ABS(P14-O14)+ABS(Q14-P14)+ABS(R14-Q14)+ABS(S14-R14)+ABS(T14-S14)+ABS(U14-T14)+ABS(V14-U14)+ABS(W14-V14)+W14)=0),"OK","N")),"N") -> OK | AT14: =IF(SUM(X14:AA14)>0,"OK","N") -> OK | AU14: =IF(SUM(AB14:AD14)>0,"OK","N") -> OK | AV14: =IF(SUM(AE14:AI14)>0,(IF(OR((AE14+ABS(AF14-AE14)+ABS(AG14-AF14)+ABS(AH14-AG14)+ABS(AI14-AH14)+AI14)=2,(AE14+ABS(AF14-AE14)+ABS(AG14-AF14)+ABS(AH14-AG14)+ABS(AI14-AH14)+AI14)=0),"OK","N")),"N") -> OK | AW14: =IF(SUM(AJ14:AL14)>0,"OK","N") -> OK
A15: =IF(B15>0,(ROW(A15)-6),0) -> 9 | B15: Indet 1 | D15: 1 | F15: 1 | G15: 1 | I15: 1 | M15: 1 | T15: 1 | Z15: 1 | AB15: 1 | AF15: 1 | AK15: 1 | AN15: =IF(AND(AND(AP15="OK",AQ15="OK",AR15="OK",AS15="OK"),AND(AT15="OK",AU15="OK",AV15="OK",AW15="OK")),"Finished",IF(AND(AND(AP15="N",AQ15="N",AR15="N",AS15="N"),AND(AT15="N",AU15="N",AV15="N",AW15="N")),"N/A","Unfinished")) -> Finished | AO15: =IF(A15=0,"N",A15) -> 9 | AP15: =IF(ISBLANK(B15),"N","OK") -> OK | AQ15: =IF((C15+D15)=0,"N","OK") -> OK | AR15: =IF(AND(OR(E15=1,SUM(F15:N15)>=3),OR(AND(F15=1,(SUM(G15:N15)>0)),AND(F15=0,(SUM(G15:N15)=0)))),"OK","N") -> OK | AS15: =IF(SUM(O15:W15)>0,(IF(OR((O15+ABS(P15-O15)+ABS(Q15-P15)+ABS(R15-Q15)+ABS(S15-R15)+ABS(T15-S15)+ABS(U15-T15)+ABS(V15-U15)+ABS(W15-V15)+W15)=2,(O15+ABS(P15-O15)+ABS(Q15-P15)+ABS(R15-Q15)+ABS(S15-R15)+ABS(T15-S15)+ABS(U15-T15)+ABS(V15-U15)+ABS(W15-V15)+W15)=0),"OK","N")),"N") -> OK | AT15: =IF(SUM(X15:AA15)>0,"OK","N") -> OK | AU15: =IF(SUM(AB15:AD15)>0,"OK","N") -> OK | AV15: =IF(SUM(AE15:AI15)>0,(IF(OR((AE15+ABS(AF15-AE15)+ABS(AG15-AF15)+ABS(AH15-AG15)+ABS(AI15-AH15)+AI15)=2,(AE15+ABS(AF15-AE15)+ABS(AG15-AF15)+ABS(AH15-AG15)+ABS(AI15-AH15)+AI15)=0),"OK","N")),"N") -> OK | AW15: =IF(SUM(AJ15:AL15)>0,"OK","N") -> OK
A16: =IF(B16>0,(ROW(A16)-6),0) -> 10 | B16: 'Paranymphaea' | C16: 1 | E16: 1 | T16: 1 | U16: 1 | V16: 1 | W16: 1 | AB16: 1 | AN16: =IF(AND(AND(AP16="OK",AQ16="OK",AR16="OK",AS16="OK"),AND(AT16="OK",AU16="OK",AV16="OK",AW16="OK")),"Finished",IF(AND(AND(AP16="N",AQ16="N",AR16="N",AS16="N"),AND(AT16="N",AU16="N",AV16="N",AW16="N")),"N/A","Unfinished")) -> Unfinished | AO16: =IF(A16=0,"N",A16) -> 10 | AP16: =IF(ISBLANK(B16),"N","OK") -> OK | AQ16: =IF((C16+D16)=0,"N","OK") -> OK | AR16: =IF(AND(OR(E16=1,SUM(F16:N16)>=3),OR(AND(F16=1,(SUM(G16:N16)>0)),AND(F16=0,(SUM(G16:N16)=0)))),"OK","N") -> OK | AS16: =IF(SUM(O16:W16)>0,(IF(OR((O16+ABS(P16-O16)+ABS(Q16-P16)+ABS(R16-Q16)+ABS(S16-R16)+ABS(T16-S16)+ABS(U16-T16)+ABS(V16-U16)+ABS(W16-V16)+W16)=2,(O16+ABS(P16-O16)+ABS(Q16-P16)+ABS(R16-Q16)+ABS(S16-R16)+ABS(T16-S16)+ABS(U16-T16)+ABS(V16-U16)+ABS(W16-V16)+W16)=0),"OK","N")),"N") -> OK | AT16: =IF(SUM(X16:AA16)>0,"OK","N") -> N | AU16: =IF(SUM(AB16:AD16)>0,"OK","N") -> OK | AV16: =IF(SUM(AE16:AI16)>0,(IF(OR((AE16+ABS(AF16-AE16)+ABS(AG16-AF16)+ABS(AH16-AG16)+ABS(AI16-AH16)+AI16)=2,(AE16+ABS(AF16-AE16)+ABS(AG16-AF16)+ABS(AH16-AG16)+ABS(AI16-AH16)+AI16)=0),"OK","N")),"N") -> N | AW16: =IF(SUM(AJ16:AL16)>0,"OK","N") -> N
A17: =IF(B17>0,(ROW(A17)-6),0) -> 11 | B17: Platanites 1 | D17: 1 | F17: 1 | G17: 1 | J17: 1 | K17: 1 | U17: 1 | V17: 1 | AC17: 1 | AD17: 1 | AF17: 1 | AK17: 1 | AN17: =IF(AND(AND(AP17="OK",AQ17="OK",AR17="OK",AS17="OK"),AND(AT17="OK",AU17="OK",AV17="OK",AW17="OK")),"Finished",IF(AND(AND(AP17="N",AQ17="N",AR17="N",AS17="N"),AND(AT17="N",AU17="N",AV17="N",AW17="N")),"N/A","Unfinished")) -> Unfinished | AO17: =IF(A17=0,"N",A17) -> 11 | AP17: =IF(ISBLANK(B17),"N","OK") -> OK | AQ17: =IF((C17+D17)=0,"N","OK") -> OK | AR17: =IF(AND(OR(E17=1,SUM(F17:N17)>=3),OR(AND(F17=1,(SUM(G17:N17)>0)),AND(F17=0,(SUM(G17:N17)=0)))),"OK","N") -> OK | AS17: =IF(SUM(O17:W17)>0,(IF(OR((O17+ABS(P17-O17)+ABS(Q17-P17)+ABS(R17-Q17)+ABS(S17-R17)+ABS(T17-S17)+ABS(U17-T17)+ABS(V17-U17)+ABS(W17-V17)+W17)=2,(O17+ABS(P17-O17)+ABS(Q17-P17)+ABS(R17-Q17)+ABS(S17-R17)+ABS(T17-S17)+ABS(U17-T17)+ABS(V17-U17)+ABS(W17-V17)+W17)=0),"OK","N")),"N") -> OK | AT17: =IF(SUM(X17:AA17)>0,"OK","N") -> N | AU17: =IF(SUM(AB17:AD17)>0,"OK","N") -> OK | AV17: =IF(SUM(AE17:AI17)>0,(IF(OR((AE17+ABS(AF17-AE17)+ABS(AG17-AF17)+ABS(AH17-AG17)+ABS(AI17-AH17)+AI17)=2,(AE17+ABS(AF17-AE17)+ABS(AG17-AF17)+ABS(AH17-AG17)+ABS(AI17-AH17)+AI17)=0),"OK","N")),"N") -> OK | AW17: =IF(SUM(AJ17:AL17)>0,"OK","N") -> OK
A18: =IF(B18>0,(ROW(A18)-6),0) -> 12 | B18: Indet 7 | C18: 1 | F18: 1 | G18: 1 | I18: 1 | K18: 1 | U18: 1 | V18: 1 | W18: 1 | AD18: 1 | AF18: 1 | AK18: 1 | AN18: =IF(AND(AND(AP18="OK",AQ18="OK",AR18="OK",AS18="OK"),AND(AT18="OK",AU18="OK",AV18="OK",AW18="OK")),"Finished",IF(AND(AND(AP18="N",AQ18="N",AR18="N",AS18="N"),AND(AT18="N",AU18="N",AV18="N",AW18="N")),"N/A","Unfinished")) -> Unfinished | AO18: =IF(A18=0,"N",A18) -> 12 | AP18: =IF(ISBLANK(B18),"N","OK") -> OK | AQ18: =IF((C18+D18)=0,"N","OK") -> OK | AR18: =IF(AND(OR(E18=1,SUM(F18:N18)>=3),OR(AND(F18=1,(SUM(G18:N18)>0)),AND(F18=0,(SUM(G18:N18)=0)))),"OK","N") -> OK | AS18: =IF(SUM(O18:W18)>0,(IF(OR((O18+ABS(P18-O18)+ABS(Q18-P18)+ABS(R18-Q18)+ABS(S18-R18)+ABS(T18-S18)+ABS(U18-T18)+ABS(V18-U18)+ABS(W18-V18)+W18)=2,(O18+ABS(P18-O18)+ABS(Q18-P18)+ABS(R18-Q18)+ABS(S18-R18)+ABS(T18-S18)+ABS(U18-T18)+ABS(V18-U18)+ABS(W18-V18)+W18)=0),"OK","N")),"N") -> OK | AT18: =IF(SUM(X18:AA18)>0,"OK","N") -> N | AU18: =IF(SUM(AB18:AD18)>0,"OK","N") -> OK | AV18: =IF(SUM(AE18:AI18)>0,(IF(OR((AE18+ABS(AF18-AE18)+ABS(AG18-AF18)+ABS(AH18-AG18)+ABS(AI18-AH18)+AI18)=2,(AE18+ABS(AF18-AE18)+ABS(AG18-AF18)+ABS(AH18-AG18)+ABS(AI18-AH18)+AI18)=0),"OK","N")),"N") -> OK | AW18: =IF(SUM(AJ18:AL18)>0,"OK","N") -> OK
A19: =IF(B19>0,(ROW(A19)-6),0) -> 13 | B19: Indet 2 | D19: 1 | F19: 1 | H19: 1 | J19: 1 | L19: 1 | T19: 1 | AC19: 1 | AF19: 1 | AL19: 1 | AN19: =IF(AND(AND(AP19="OK",AQ19="OK",AR19="OK",AS19="OK"),AND(AT19="OK",AU19="OK",AV19="OK",AW19="OK")),"Finished",IF(AND(AND(AP19="N",AQ19="N",AR19="N",AS19="N"),AND(AT19="N",AU19="N",AV19="N",AW19="N")),"N/A","Unfinished")) -> Unfinished | AO19: =IF(A19=0,"N",A19) -> 13 | AP19: =IF(ISBLANK(B19),"N","OK") -> OK | AQ19: =IF((C19+D19)=0,"N","OK") -> OK | AR19: =IF(AND(OR(E19=1,SUM(F19:N19)>=3),OR(AND(F19=1,(SUM(G19:N19)>0)),AND(F19=0,(SUM(G19:N19)=0)))),"OK","N") -> OK | AS19: =IF(SUM(O19:W19)>0,(IF(OR((O19+ABS(P19-O19)+ABS(Q19-P19)+ABS(R19-Q19)+ABS(S19-R19)+ABS(T19-S19)+ABS(U19-T19)+ABS(V19-U19)+ABS(W19-V19)+W19)=2,(O19+ABS(P19-O19)+ABS(Q19-P19)+ABS(R19-Q19)+ABS(S19-R19)+ABS(T19-S19)+ABS(U19-T19)+ABS(V19-U19)+ABS(W19-V19)+W19)=0),"OK","N")),"N") -> OK | AT19: =IF(SUM(X19:AA19)>0,"OK","N") -> N | AU19: =IF(SUM(AB19:AD19)>0,"OK","N") -> OK | AV19: =IF(SUM(AE19:AI19)>0,(IF(OR((AE19+ABS(AF19-AE19)+ABS(AG19-AF19)+ABS(AH19-AG19)+ABS(AI19-AH19)+AI19)=2,(AE19+ABS(AF19-AE19)+ABS(AG19-AF19)+ABS(AH19-AG19)+ABS(AI19-AH19)+AI19)=0),"OK","N")),"N") -> OK | AW19: =IF(SUM(AJ19:AL19)>0,"OK","N") -> OK
A20: =IF(B20>0,(ROW(A20)-6),0) -> 14 | B20: Indet 3 | C20: 1 | F20: 1 | G20: 1 | I20: 1 | K20: 1 | U20: 1 | Z20: 1 | AN20: =IF(AND(AND(AP20="OK",AQ20="OK",AR20="OK",AS20="OK"),AND(AT20="OK",AU20="OK",AV20="OK",AW20="OK")),"Finished",IF(AND(AND(AP20="N",AQ20="N",AR20="N",AS20="N"),AND(AT20="N",AU20="N",AV20="N",AW20="N")),"N/A","Unfinished")) -> Unfinished | AO20: =IF(A20=0,"N",A20) -> 14 | AP20: =IF(ISBLANK(B20),"N","OK") -> OK | AQ20: =IF((C20+D20)=0,"N","OK") -> OK | AR20: =IF(AND(OR(E20=1,SUM(F20:N20)>=3),OR(AND(F20=1,(SUM(G20:N20)>0)),AND(F20=0,(SUM(G20:N20)=0)))),"OK","N") -> OK | AS20: =IF(SUM(O20:W20)>0,(IF(OR((O20+ABS(P20-O20)+ABS(Q20-P20)+ABS(R20-Q20)+ABS(S20-R20)+ABS(T20-S20)+ABS(U20-T20)+ABS(V20-U20)+ABS(W20-V20)+W20)=2,(O20+ABS(P20-O20)+ABS(Q20-P20)+ABS(R20-Q20)+ABS(S20-R20)+ABS(T20-S20)+ABS(U20-T20)+ABS(V20-U20)+ABS(W20-V20)+W20)=0),"OK","N")),"N") -> OK | AT20: =IF(SUM(X20:AA20)>0,"OK","N") -> OK | AU20: =IF(SUM(AB20:AD20)>0,"OK","N") -> N | AV20: =IF(SUM(AE20:AI20)>0,(IF(OR((AE20+ABS(AF20-AE20)+ABS(AG20-AF20)+ABS(AH20-AG20)+ABS(AI20-AH20)+AI20)=2,(AE20+ABS(AF20-AE20)+ABS(AG20-AF20)+ABS(AH20-AG20)+ABS(AI20-AH20)+AI20)=0),"OK","N")),"N") -> N | AW20: =IF(SUM(AJ20:AL20)>0,"OK","N") -> N
A21: =IF(B21>0,(ROW(A21)-6),0) -> 15 | B21: Indet 4 | C21: 1 | F21: 1 | K21: 1 | W21: 1 | AC21: 1 | AN21: =IF(AND(AND(AP21="OK",AQ21="OK",AR21="OK",AS21="OK"),AND(AT21="OK",AU21="OK",AV21="OK",AW21="OK")),"Finished",IF(AND(AND(AP21="N",AQ21="N",AR21="N",AS21="N"),AND(AT21="N",AU21="N",AV21="N",AW21="N")),"N/A","Unfinished")) -> Unfinished | AO21: =IF(A21=0,"N",A21) -> 15 | AP21: =IF(ISBLANK(B21),"N","OK") -> OK | AQ21: =IF((C21+D21)=0,"N","OK") -> OK | AR21: =IF(AND(OR(E21=1,SUM(F21:N21)>=3),OR(AND(F21=1,(SUM(G21:N21)>0)),AND(F21=0,(SUM(G21:N21)=0)))),"OK","N") -> N | AS21: =IF(SUM(O21:W21)>0,(IF(OR((O21+ABS(P21-O21)+ABS(Q21-P21)+ABS(R21-Q21)+ABS(S21-R21)+ABS(T21-S21)+ABS(U21-T21)+ABS(V21-U21)+ABS(W21-V21)+W21)=2,(O21+ABS(P21-O21)+ABS(Q21-P21)+ABS(R21-Q21)+ABS(S21-R21)+ABS(T21-S21)+ABS(U21-T21)+ABS(V21-U21)+ABS(W21-V21)+W21)=0),"OK","N")),"N") -> OK | AT21: =IF(SUM(X21:AA21)>0,"OK","N") -> N | AU21: =IF(SUM(AB21:AD21)>0,"OK","N") -> OK | AV21: =IF(SUM(AE21:AI21)>0,(IF(OR((AE21+ABS(AF21-AE21)+ABS(AG21-AF21)+ABS(AH21-AG21)+ABS(AI21-AH21)+AI21)=2,(AE21+ABS(AF21-AE21)+ABS(AG21-AF21)+ABS(AH21-AG21)+ABS(AI21-AH21)+AI21)=0),"OK","N")),"N") -> N | AW21: =IF(SUM(AJ21:AL21)>0,"OK","N") -> N
A22: =IF(B22>0,(ROW(A22)-6),0) -> 16 | B22: Indet 8 | F22: 1 | G22: 1 | I22: 1 | L22: 1 | AC22: 1 | AN22: =IF(AND(AND(AP22="OK",AQ22="OK",AR22="OK",AS22="OK"),AND(AT22="OK",AU22="OK",AV22="OK",AW22="OK")),"Finished",IF(AND(AND(AP22="N",AQ22="N",AR22="N",AS22="N"),AND(AT22="N",AU22="N",AV22="N",AW22="N")),"N/A","Unfinished")) -> Unfinished | AO22: =IF(A22=0,"N",A22) -> 16 | AP22: =IF(ISBLANK(B22),"N","OK") -> OK | AQ22: =IF((C22+D22)=0,"N","OK") -> N | AR22: =IF(AND(OR(E22=1,SUM(F22:N22)>=3),OR(AND(F22=1,(SUM(G22:N22)>0)),AND(F22=0,(SUM(G22:N22)=0)))),"OK","N") -> OK | AS22: =IF(SUM(O22:W22)>0,(IF(OR((O22+ABS(P22-O22)+ABS(Q22-P22)+ABS(R22-Q22)+ABS(S22-R22)+ABS(T22-S22)+ABS(U22-T22)+ABS(V22-U22)+ABS(W22-V22)+W22)=2,(O22+ABS(P22-O22)+ABS(Q22-P22)+ABS(R22-Q22)+ABS(S22-R22)+ABS(T22-S22)+ABS(U22-T22)+ABS(V22-U22)+ABS(W22-V22)+W22)=0),"OK","N")),"N") -> N | AT22: =IF(SUM(X22:AA22)>0,"OK","N") -> N | AU22: =IF(SUM(AB22:AD22)>0,"OK","N") -> OK | AV22: =IF(SUM(AE22:AI22)>0,(IF(OR((AE22+ABS(AF22-AE22)+ABS(AG22-AF22)+ABS(AH22-AG22)+ABS(AI22-AH22)+AI22)=2,(AE22+ABS(AF22-AE22)+ABS(AG22-AF22)+ABS(AH22-AG22)+ABS(AI22-AH22)+AI22)=0),"OK","N")),"N") -> N | AW22: =IF(SUM(AJ22:AL22)>0,"OK","N") -> N
A23: =IF(B23>0,(ROW(A23)-6),0) -> 17 | B23: Indet 5 | C23: 1 | F23: 1 | G23: 1 | I23: 1 | K23: 1 | T23: 1 | AB23: 1 | AE23: 1 | AN23: =IF(AND(AND(AP23="OK",AQ23="OK",AR23="OK",AS23="OK"),AND(AT23="OK",AU23="OK",AV23="OK",AW23="OK")),"Finished",IF(AND(AND(AP23="N",AQ23="N",AR23="N",AS23="N"),AND(AT23="N",AU23="N",AV23="N",AW23="N")),"N/A","Unfinished")) -> Unfinished | AO23: =IF(A23=0,"N",A23) -> 17 | AP23: =IF(ISBLANK(B23),"N","OK") -> OK | AQ23: =IF((C23+D23)=0,"N","OK") -> OK | AR23: =IF(AND(OR(E23=1,SUM(F23:N23)>=3),OR(AND(F23=1,(SUM(G23:N23)>0)),AND(F23=0,(SUM(G23:N23)=0)))),"OK","N") -> OK | AS23: =IF(SUM(O23:W23)>0,(IF(OR((O23+ABS(P23-O23)+ABS(Q23-P23)+ABS(R23-Q23)+ABS(S23-R23)+ABS(T23-S23)+ABS(U23-T23)+ABS(V23-U23)+ABS(W23-V23)+W23)=2,(O23+ABS(P23-O23)+ABS(Q23-P23)+ABS(R23-Q23)+ABS(S23-R23)+ABS(T23-S23)+ABS(U23-T23)+ABS(V23-U23)+ABS(W23-V23)+W23)=0),"OK","N")),"N") -> OK | AT23: =IF(SUM(X23:AA23)>0,"OK","N") -> N | AU23: =IF(SUM(AB23:AD23)>0,"OK","N") -> OK | AV23: =IF(SUM(AE23:AI23)>0,(IF(OR((AE23+ABS(AF23-AE23)+ABS(AG23-AF23)+ABS(AH23-AG23)+ABS(AI23-AH23)+AI23)=2,(AE23+ABS(AF23-AE23)+ABS(AG23-AF23)+ABS(AH23-AG23)+ABS(AI23-AH23)+AI23)=0),"OK","N")),"N") -> OK | AW23: =IF(SUM(AJ23:AL23)>0,"OK","N") -> N
A24: =IF(B24>0,(ROW(A24)-6),0) -> 18 | B24: Indet 6 | D24: 1 | F24: 1 | H24: 1 | I24: 1 | K24: 1 | V24: 1 | Z24: 1 | AC24: 1 | AN24: =IF(AND(AND(AP24="OK",AQ24="OK",AR24="OK",AS24="OK"),AND(AT24="OK",AU24="OK",AV24="OK",AW24="OK")),"Finished",IF(AND(AND(AP24="N",AQ24="N",AR24="N",AS24="N"),AND(AT24="N",AU24="N",AV24="N",AW24="N")),"N/A","Unfinished")) -> Unfinished | AO24: =IF(A24=0,"N",A24) -> 18 | AP24: =IF(ISBLANK(B24),"N","OK") -> OK | AQ24: =IF((C24+D24)=0,"N","OK") -> OK | AR24: =IF(AND(OR(E24=1,SUM(F24:N24)>=3),OR(AND(F24=1,(SUM(G24:N24)>0)),AND(F24=0,(SUM(G24:N24)=0)))),"OK","N") -> OK | AS24: =IF(SUM(O24:W24)>0,(IF(OR((O24+ABS(P24-O24)+ABS(Q24-P24)+ABS(R24-Q24)+ABS(S24-R24)+ABS(T24-S24)+ABS(U24-T24)+ABS(V24-U24)+ABS(W24-V24)+W24)=2,(O24+ABS(P24-O24)+ABS(Q24-P24)+ABS(R24-Q24)+ABS(S24-R24)+ABS(T24-S24)+ABS(U24-T24)+ABS(V24-U24)+ABS(W24-V24)+W24)=0),"OK","N")),"N") -> OK | AT24: =IF(SUM(X24:AA24)>0,"OK","N") -> OK | AU24: =IF(SUM(AB24:AD24)>0,"OK","N") -> OK | AV24: =IF(SUM(AE24:AI24)>0,(IF(OR((AE24+ABS(AF24-AE24)+ABS(AG24-AF24)+ABS(AH24-AG24)+ABS(AI24-AH24)+AI24)=2,(AE24+ABS(AF24-AE24)+ABS(AG24-AF24)+ABS(AH24-AG24)+ABS(AI24-AH24)+AI24)=0),"OK","N")),"N") -> N | AW24: =IF(SUM(AJ24:AL24)>0,"OK","N") -> N
A25: =IF(B25>0,(ROW(A25)-6),0) -> 0 | AN25: =IF(AND(AND(AP25="OK",AQ25="OK",AR25="OK",AS25="OK"),AND(AT25="OK",AU25="OK",AV25="OK",AW25="OK")),"Finished",IF(AND(AND(AP25="N",AQ25="N",AR25="N",AS25="N"),AND(AT25="N",AU25="N",AV25="N",AW25="N")),"N/A","Unfinished")) -> N/A | AO25: =IF(A25=0,"N",A25) -> N | AP25: =IF(ISBLANK(B25),"N","OK") -> N | AQ25: =IF((C25+D25)=0,"N","OK") -> N | AR25: =IF(AND(OR(E25=1,SUM(F25:N25)>=3),OR(AND(F25=1,(SUM(G25:N25)>0)),AND(F25=0,(SUM(G25:N25)=0)))),"OK","N") -> N | AS25: =IF(SUM(O25:W25)>0,(IF(OR((O25+ABS(P25-O25)+ABS(Q25-P25)+ABS(R25-Q25)+ABS(S25-R25)+ABS(T25-S25)+ABS(U25-T25)+ABS(V25-U25)+ABS(W25-V25)+W25)=2,(O25+ABS(P25-O25)+ABS(Q25-P25)+ABS(R25-Q25)+ABS(S25-R25)+ABS(T25-S25)+ABS(U25-T25)+ABS(V25-U25)+ABS(W25-V25)+W25)=0),"OK","N")),"N") -> N | AT25: =IF(SUM(X25:AA25)>0,"OK","N") -> N | AU25: =IF(SUM(AB25:AD25)>0,"OK","N") -> N | AV25: =IF(SUM(AE25:AI25)>0,(IF(OR((AE25+ABS(AF25-AE25)+ABS(AG25-AF25)+ABS(AH25-AG25)+ABS(AI25-AH25)+AI25)=2,(AE25+ABS(AF25-AE25)+ABS(AG25-AF25)+ABS(AH25-AG25)+ABS(AI25-AH25)+AI25)=0),"OK","N")),"N") -> N | AW25: =IF(SUM(AJ25:AL25)>0,"OK","N") -> N
A26: =IF(B26>0,(ROW(A26)-6),0) -> 0 | AN26: =IF(AND(AND(AP26="OK",AQ26="OK",AR26="OK",AS26="OK"),AND(AT26="OK",AU26="OK",AV26="OK",AW26="OK")),"Finished",IF(AND(AND(AP26="N",AQ26="N",AR26="N",AS26="N"),AND(AT26="N",AU26="N",AV26="N",AW26="N")),"N/A","Unfinished")) -> N/A | AO26: =IF(A26=0,"N",A26) -> N | AP26: =IF(ISBLANK(B26),"N","OK") -> N | AQ26: =IF((C26+D26)=0,"N","OK") -> N | AR26: =IF(AND(OR(E26=1,SUM(F26:N26)>=3),OR(AND(F26=1,(SUM(G26:N26)>0)),AND(F26=0,(SUM(G26:N26)=0)))),"OK","N") -> N | AS26: =IF(SUM(O26:W26)>0,(IF(OR((O26+ABS(P26-O26)+ABS(Q26-P26)+ABS(R26-Q26)+ABS(S26-R26)+ABS(T26-S26)+ABS(U26-T26)+ABS(V26-U26)+ABS(W26-V26)+W26)=2,(O26+ABS(P26-O26)+ABS(Q26-P26)+ABS(R26-Q26)+ABS(S26-R26)+ABS(T26-S26)+ABS(U26-T26)+ABS(V26-U26)+ABS(W26-V26)+W26)=0),"OK","N")),"N") -> N | AT26: =IF(SUM(X26:AA26)>0,"OK","N") -> N | AU26: =IF(SUM(AB26:AD26)>0,"OK","N") -> N | AV26: =IF(SUM(AE26:AI26)>0,(IF(OR((AE26+ABS(AF26-AE26)+ABS(AG26-AF26)+ABS(AH26-AG26)+ABS(AI26-AH26)+AI26)=2,(AE26+ABS(AF26-AE26)+ABS(AG26-AF26)+ABS(AH26-AG26)+ABS(AI26-AH26)+AI26)=0),"OK","N")),"N") -> N | AW26: =IF(SUM(AJ26:AL26)>0,"OK","N") -> N
A27: =IF(B27>0,(ROW(A27)-6),0) -> 0 | AN27: =IF(AND(AND(AP27="OK",AQ27="OK",AR27="OK",AS27="OK"),AND(AT27="OK",AU27="OK",AV27="OK",AW27="OK")),"Finished",IF(AND(AND(AP27="N",AQ27="N",AR27="N",AS27="N"),AND(AT27="N",AU27="N",AV27="N",AW27="N")),"N/A","Unfinished")) -> N/A | AO27: =IF(A27=0,"N",A27) -> N | AP27: =IF(ISBLANK(B27),"N","OK") -> N | AQ27: =IF((C27+D27)=0,"N","OK") -> N | AR27: =IF(AND(OR(E27=1,SUM(F27:N27)>=3),OR(AND(F27=1,(SUM(G27:N27)>0)),AND(F27=0,(SUM(G27:N27)=0)))),"OK","N") -> N | AS27: =IF(SUM(O27:W27)>0,(IF(OR((O27+ABS(P27-O27)+ABS(Q27-P27)+ABS(R27-Q27)+ABS(S27-R27)+ABS(T27-S27)+ABS(U27-T27)+ABS(V27-U27)+ABS(W27-V27)+W27)=2,(O27+ABS(P27-O27)+ABS(Q27-P27)+ABS(R27-Q27)+ABS(S27-R27)+ABS(T27-S27)+ABS(U27-T27)+ABS(V27-U27)+ABS(W27-V27)+W27)=0),"OK","N")),"N") -> N | AT27: =IF(SUM(X27:AA27)>0,"OK","N") -> N | AU27: =IF(SUM(AB27:AD27)>0,"OK","N") -> N | AV27: =IF(SUM(AE27:AI27)>0,(IF(OR((AE27+ABS(AF27-AE27)+ABS(AG27-AF27)+ABS(AH27-AG27)+ABS(AI27-AH27)+AI27)=2,(AE27+ABS(AF27-AE27)+ABS(AG27-AF27)+ABS(AH27-AG27)+ABS(AI27-AH27)+AI27)=0),"OK","N")),"N") -> N | AW27: =IF(SUM(AJ27:AL27)>0,"OK","N") -> N
A28: =IF(B28>0,(ROW(A28)-6),0) -> 0 | AN28: =IF(AND(AND(AP28="OK",AQ28="OK",AR28="OK",AS28="OK"),AND(AT28="OK",AU28="OK",AV28="OK",AW28="OK")),"Finished",IF(AND(AND(AP28="N",AQ28="N",AR28="N",AS28="N"),AND(AT28="N",AU28="N",AV28="N",AW28="N")),"N/A","Unfinished")) -> N/A | AO28: =IF(A28=0,"N",A28) -> N | AP28: =IF(ISBLANK(B28),"N","OK") -> N | AQ28: =IF((C28+D28)=0,"N","OK") -> N | AR28: =IF(AND(OR(E28=1,SUM(F28:N28)>=3),OR(AND(F28=1,(SUM(G28:N28)>0)),AND(F28=0,(SUM(G28:N28)=0)))),"OK","N") -> N | AS28: =IF(SUM(O28:W28)>0,(IF(OR((O28+ABS(P28-O28)+ABS(Q28-P28)+ABS(R28-Q28)+ABS(S28-R28)+ABS(T28-S28)+ABS(U28-T28)+ABS(V28-U28)+ABS(W28-V28)+W28)=2,(O28+ABS(P28-O28)+ABS(Q28-P28)+ABS(R28-Q28)+ABS(S28-R28)+ABS(T28-S28)+ABS(U28-T28)+ABS(V28-U28)+ABS(W28-V28)+W28)=0),"OK","N")),"N") -> N | AT28: =IF(SUM(X28:AA28)>0,"OK","N") -> N | AU28: =IF(SUM(AB28:AD28)>0,"OK","N") -> N | AV28: =IF(SUM(AE28:AI28)>0,(IF(OR((AE28+ABS(AF28-AE28)+ABS(AG28-AF28)+ABS(AH28-AG28)+ABS(AI28-AH28)+AI28)=2,(AE28+ABS(AF28-AE28)+ABS(AG28-AF28)+ABS(AH28-AG28)+ABS(AI28-AH28)+AI28)=0),"OK","N")),"N") -> N | AW28: =IF(SUM(AJ28:AL28)>0,"OK","N") -> N
A29: =IF(B29>0,(ROW(A29)-6),0) -> 0 | AN29: =IF(AND(AND(AP29="OK",AQ29="OK",AR29="OK",AS29="OK"),AND(AT29="OK",AU29="OK",AV29="OK",AW29="OK")),"Finished",IF(AND(AND(AP29="N",AQ29="N",AR29="N",AS29="N"),AND(AT29="N",AU29="N",AV29="N",AW29="N")),"N/A","Unfinished")) -> N/A | AO29: =IF(A29=0,"N",A29) -> N | AP29: =IF(ISBLANK(B29),"N","OK") -> N | AQ29: =IF((C29+D29)=0,"N","OK") -> N | AR29: =IF(AND(OR(E29=1,SUM(F29:N29)>=3),OR(AND(F29=1,(SUM(G29:N29)>0)),AND(F29=0,(SUM(G29:N29)=0)))),"OK","N") -> N | AS29: =IF(SUM(O29:W29)>0,(IF(OR((O29+ABS(P29-O29)+ABS(Q29-P29)+ABS(R29-Q29)+ABS(S29-R29)+ABS(T29-S29)+ABS(U29-T29)+ABS(V29-U29)+ABS(W29-V29)+W29)=2,(O29+ABS(P29-O29)+ABS(Q29-P29)+ABS(R29-Q29)+ABS(S29-R29)+ABS(T29-S29)+ABS(U29-T29)+ABS(V29-U29)+ABS(W29-V29)+W29)=0),"OK","N")),"N") -> N | AT29: =IF(SUM(X29:AA29)>0,"OK","N") -> N | AU29: =IF(SUM(AB29:AD29)>0,"OK","N") -> N | AV29: =IF(SUM(AE29:AI29)>0,(IF(OR((AE29+ABS(AF29-AE29)+ABS(AG29-AF29)+ABS(AH29-AG29)+ABS(AI29-AH29)+AI29)=2,(AE29+ABS(AF29-AE29)+ABS(AG29-AF29)+ABS(AH29-AG29)+ABS(AI29-AH29)+AI29)=0),"OK","N")),"N") -> N | AW29: =IF(SUM(AJ29:AL29)>0,"OK","N") -> N
A30: =IF(B30>0,(ROW(A30)-6),0) -> 0 | AN30: =IF(AND(AND(AP30="OK",AQ30="OK",AR30="OK",AS30="OK"),AND(AT30="OK",AU30="OK",AV30="OK",AW30="OK")),"Finished",IF(AND(AND(AP30="N",AQ30="N",AR30="N",AS30="N"),AND(AT30="N",AU30="N",AV30="N",AW30="N")),"N/A","Unfinished")) -> N/A | AO30: =IF(A30=0,"N",A30) -> N | AP30: =IF(ISBLANK(B30),"N","OK") -> N | AQ30: =IF((C30+D30)=0,"N","OK") -> N | AR30: =IF(AND(OR(E30=1,SUM(F30:N30)>=3),OR(AND(F30=1,(SUM(G30:N30)>0)),AND(F30=0,(SUM(G30:N30)=0)))),"OK","N") -> N | AS30: =IF(SUM(O30:W30)>0,(IF(OR((O30+ABS(P30-O30)+ABS(Q30-P30)+ABS(R30-Q30)+ABS(S30-R30)+ABS(T30-S30)+ABS(U30-T30)+ABS(V30-U30)+ABS(W30-V30)+W30)=2,(O30+ABS(P30-O30)+ABS(Q30-P30)+ABS(R30-Q30)+ABS(S30-R30)+ABS(T30-S30)+ABS(U30-T30)+ABS(V30-U30)+ABS(W30-V30)+W30)=0),"OK","N")),"N") -> N | AT30: =IF(SUM(X30:AA30)>0,"OK","N") -> N | AU30: =IF(SUM(AB30:AD30)>0,"OK","N") -> N | AV30: =IF(SUM(AE30:AI30)>0,(IF(OR((AE30+ABS(AF30-AE30)+ABS(AG30-AF30)+ABS(AH30-AG30)+ABS(AI30-AH30)+AI30)=2,(AE30+ABS(AF30-AE30)+ABS(AG30-AF30)+ABS(AH30-AG30)+ABS(AI30-AH30)+AI30)=0),"OK","N")),"N") -> N | AW30: =IF(SUM(AJ30:AL30)>0,"OK","N") -> N
A31: =IF(B31>0,(ROW(A31)-6),0) -> 0 | AN31: =IF(AND(AND(AP31="OK",AQ31="OK",AR31="OK",AS31="OK"),AND(AT31="OK",AU31="OK",AV31="OK",AW31="OK")),"Finished",IF(AND(AND(AP31="N",AQ31="N",AR31="N",AS31="N"),AND(AT31="N",AU31="N",AV31="N",AW31="N")),"N/A","Unfinished")) -> N/A | AO31: =IF(A31=0,"N",A31) -> N | AP31: =IF(ISBLANK(B31),"N","OK") -> N | AQ31: =IF((C31+D31)=0,"N","OK") -> N | AR31: =IF(AND(OR(E31=1,SUM(F31:N31)>=3),OR(AND(F31=1,(SUM(G31:N31)>0)),AND(F31=0,(SUM(G31:N31)=0)))),"OK","N") -> N | AS31: =IF(SUM(O31:W31)>0,(IF(OR((O31+ABS(P31-O31)+ABS(Q31-P31)+ABS(R31-Q31)+ABS(S31-R31)+ABS(T31-S31)+ABS(U31-T31)+ABS(V31-U31)+ABS(W31-V31)+W31)=2,(O31+ABS(P31-O31)+ABS(Q31-P31)+ABS(R31-Q31)+ABS(S31-R31)+ABS(T31-S31)+ABS(U31-T31)+ABS(V31-U31)+ABS(W31-V31)+W31)=0),"OK","N")),"N") -> N | AT31: =IF(SUM(X31:AA31)>0,"OK","N") -> N | AU31: =IF(SUM(AB31:AD31)>0,"OK","N") -> N | AV31: =IF(SUM(AE31:AI31)>0,(IF(OR((AE31+ABS(AF31-AE31)+ABS(AG31-AF31)+ABS(AH31-AG31)+ABS(AI31-AH31)+AI31)=2,(AE31+ABS(AF31-AE31)+ABS(AG31-AF31)+ABS(AH31-AG31)+ABS(AI31-AH31)+AI31)=0),"OK","N")),"N") -> N | AW31: =IF(SUM(AJ31:AL31)>0,"OK","N") -> N
A32: =IF(B32>0,(ROW(A32)-6),0) -> 0 | AN32: =IF(AND(AND(AP32="OK",AQ32="OK",AR32="OK",AS32="OK"),AND(AT32="OK",AU32="OK",AV32="OK",AW32="OK")),"Finished",IF(AND(AND(AP32="N",AQ32="N",AR32="N",AS32="N"),AND(AT32="N",AU32="N",AV32="N",AW32="N")),"N/A","Unfinished")) -> N/A | AO32: =IF(A32=0,"N",A32) -> N | AP32: =IF(ISBLANK(B32),"N","OK") -> N | AQ32: =IF((C32+D32)=0,"N","OK") -> N | AR32: =IF(AND(OR(E32=1,SUM(F32:N32)>=3),OR(AND(F32=1,(SUM(G32:N32)>0)),AND(F32=0,(SUM(G32:N32)=0)))),"OK","N") -> N | AS32: =IF(SUM(O32:W32)>0,(IF(OR((O32+ABS(P32-O32)+ABS(Q32-P32)+ABS(R32-Q32)+ABS(S32-R32)+ABS(T32-S32)+ABS(U32-T32)+ABS(V32-U32)+ABS(W32-V32)+W32)=2,(O32+ABS(P32-O32)+ABS(Q32-P32)+ABS(R32-Q32)+ABS(S32-R32)+ABS(T32-S32)+ABS(U32-T32)+ABS(V32-U32)+ABS(W32-V32)+W32)=0),"OK","N")),"N") -> N | AT32: =IF(SUM(X32:AA32)>0,"OK","N") -> N | AU32: =IF(SUM(AB32:AD32)>0,"OK","N") -> N | AV32: =IF(SUM(AE32:AI32)>0,(IF(OR((AE32+ABS(AF32-AE32)+ABS(AG32-AF32)+ABS(AH32-AG32)+ABS(AI32-AH32)+AI32)=2,(AE32+ABS(AF32-AE32)+ABS(AG32-AF32)+ABS(AH32-AG32)+ABS(AI32-AH32)+AI32)=0),"OK","N")),"N") -> N | AW32: =IF(SUM(AJ32:AL32)>0,"OK","N") -> N
A33: =IF(B33>0,(ROW(A33)-6),0) -> 0 | AN33: =IF(AND(AND(AP33="OK",AQ33="OK",AR33="OK",AS33="OK"),AND(AT33="OK",AU33="OK",AV33="OK",AW33="OK")),"Finished",IF(AND(AND(AP33="N",AQ33="N",AR33="N",AS33="N"),AND(AT33="N",AU33="N",AV33="N",AW33="N")),"N/A","Unfinished")) -> N/A | AO33: =IF(A33=0,"N",A33) -> N | AP33: =IF(ISBLANK(B33),"N","OK") -> N | AQ33: =IF((C33+D33)=0,"N","OK") -> N | AR33: =IF(AND(OR(E33=1,SUM(F33:N33)>=3),OR(AND(F33=1,(SUM(G33:N33)>0)),AND(F33=0,(SUM(G33:N33)=0)))),"OK","N") -> N | AS33: =IF(SUM(O33:W33)>0,(IF(OR((O33+ABS(P33-O33)+ABS(Q33-P33)+ABS(R33-Q33)+ABS(S33-R33)+ABS(T33-S33)+ABS(U33-T33)+ABS(V33-U33)+ABS(W33-V33)+W33)=2,(O33+ABS(P33-O33)+ABS(Q33-P33)+ABS(R33-Q33)+ABS(S33-R33)+ABS(T33-S33)+ABS(U33-T33)+ABS(V33-U33)+ABS(W33-V33)+W33)=0),"OK","N")),"N") -> N | AT33: =IF(SUM(X33:AA33)>0,"OK","N") -> N | AU33: =IF(SUM(AB33:AD33)>0,"OK","N") -> N | AV33: =IF(SUM(AE33:AI33)>0,(IF(OR((AE33+ABS(AF33-AE33)+ABS(AG33-AF33)+ABS(AH33-AG33)+ABS(AI33-AH33)+AI33)=2,(AE33+ABS(AF33-AE33)+ABS(AG33-AF33)+ABS(AH33-AG33)+ABS(AI33-AH33)+AI33)=0),"OK","N")),"N") -> N | AW33: =IF(SUM(AJ33:AL33)>0,"OK","N") -> N
A34: =IF(B34>0,(ROW(A34)-6),0) -> 0 | AN34: =IF(AND(AND(AP34="OK",AQ34="OK",AR34="OK",AS34="OK"),AND(AT34="OK",AU34="OK",AV34="OK",AW34="OK")),"Finished",IF(AND(AND(AP34="N",AQ34="N",AR34="N",AS34="N"),AND(AT34="N",AU34="N",AV34="N",AW34="N")),"N/A","Unfinished")) -> N/A | AO34: =IF(A34=0,"N",A34) -> N | AP34: =IF(ISBLANK(B34),"N","OK") -> N | AQ34: =IF((C34+D34)=0,"N","OK") -> N | AR34: =IF(AND(OR(E34=1,SUM(F34:N34)>=3),OR(AND(F34=1,(SUM(G34:N34)>0)),AND(F34=0,(SUM(G34:N34)=0)))),"OK","N") -> N | AS34: =IF(SUM(O34:W34)>0,(IF(OR((O34+ABS(P34-O34)+ABS(Q34-P34)+ABS(R34-Q34)+ABS(S34-R34)+ABS(T34-S34)+ABS(U34-T34)+ABS(V34-U34)+ABS(W34-V34)+W34)=2,(O34+ABS(P34-O34)+ABS(Q34-P34)+ABS(R34-Q34)+ABS(S34-R34)+ABS(T34-S34)+ABS(U34-T34)+ABS(V34-U34)+ABS(W34-V34)+W34)=0),"OK","N")),"N") -> N | AT34: =IF(SUM(X34:AA34)>0,"OK","N") -> N | AU34: =IF(SUM(AB34:AD34)>0,"OK","N") -> N | AV34: =IF(SUM(AE34:AI34)>0,(IF(OR((AE34+ABS(AF34-AE34)+ABS(AG34-AF34)+ABS(AH34-AG34)+ABS(AI34-AH34)+AI34)=2,(AE34+ABS(AF34-AE34)+ABS(AG34-AF34)+ABS(AH34-AG34)+ABS(AI34-AH34)+AI34)=0),"OK","N")),"N") -> N | AW34: =IF(SUM(AJ34:AL34)>0,"OK","N") -> N
A35: =IF(B35>0,(ROW(A35)-6),0) -> 0 | AN35: =IF(AND(AND(AP35="OK",AQ35="OK",AR35="OK",AS35="OK"),AND(AT35="OK",AU35="OK",AV35="OK",AW35="OK")),"Finished",IF(AND(AND(AP35="N",AQ35="N",AR35="N",AS35="N"),AND(AT35="N",AU35="N",AV35="N",AW35="N")),"N/A","Unfinished")) -> N/A | AO35: =IF(A35=0,"N",A35) -> N | AP35: =IF(ISBLANK(B35),"N","OK") -> N | AQ35: =IF((C35+D35)=0,"N","OK") -> N | AR35: =IF(AND(OR(E35=1,SUM(F35:N35)>=3),OR(AND(F35=1,(SUM(G35:N35)>0)),AND(F35=0,(SUM(G35:N35)=0)))),"OK","N") -> N | AS35: =IF(SUM(O35:W35)>0,(IF(OR((O35+ABS(P35-O35)+ABS(Q35-P35)+ABS(R35-Q35)+ABS(S35-R35)+ABS(T35-S35)+ABS(U35-T35)+ABS(V35-U35)+ABS(W35-V35)+W35)=2,(O35+ABS(P35-O35)+ABS(Q35-P35)+ABS(R35-Q35)+ABS(S35-R35)+ABS(T35-S35)+ABS(U35-T35)+ABS(V35-U35)+ABS(W35-V35)+W35)=0),"OK","N")),"N") -> N | AT35: =IF(SUM(X35:AA35)>0,"OK","N") -> N | AU35: =IF(SUM(AB35:AD35)>0,"OK","N") -> N | AV35: =IF(SUM(AE35:AI35)>0,(IF(OR((AE35+ABS(AF35-AE35)+ABS(AG35-AF35)+ABS(AH35-AG35)+ABS(AI35-AH35)+AI35)=2,(AE35+ABS(AF35-AE35)+ABS(AG35-AF35)+ABS(AH35-AG35)+ABS(AI35-AH35)+AI35)=0),"OK","N")),"N") -> N | AW35: =IF(SUM(AJ35:AL35)>0,"OK","N") -> N
A36: =IF(B36>0,(ROW(A36)-6),0) -> 0 | AN36: =IF(AND(AND(AP36="OK",AQ36="OK",AR36="OK",AS36="OK"),AND(AT36="OK",AU36="OK",AV36="OK",AW36="OK")),"Finished",IF(AND(AND(AP36="N",AQ36="N",AR36="N",AS36="N"),AND(AT36="N",AU36="N",AV36="N",AW36="N")),"N/A","Unfinished")) -> N/A | AO36: =IF(A36=0,"N",A36) -> N | AP36: =IF(ISBLANK(B36),"N","OK") -> N | AQ36: =IF((C36+D36)=0,"N","OK") -> N | AR36: =IF(AND(OR(E36=1,SUM(F36:N36)>=3),OR(AND(F36=1,(SUM(G36:N36)>0)),AND(F36=0,(SUM(G36:N36)=0)))),"OK","N") -> N | AS36: =IF(SUM(O36:W36)>0,(IF(OR((O36+ABS(P36-O36)+ABS(Q36-P36)+ABS(R36-Q36)+ABS(S36-R36)+ABS(T36-S36)+ABS(U36-T36)+ABS(V36-U36)+ABS(W36-V36)+W36)=2,(O36+ABS(P36-O36)+ABS(Q36-P36)+ABS(R36-Q36)+ABS(S36-R36)+ABS(T36-S36)+ABS(U36-T36)+ABS(V36-U36)+ABS(W36-V36)+W36)=0),"OK","N")),"N") -> N | AT36: =IF(SUM(X36:AA36)>0,"OK","N") -> N | AU36: =IF(SUM(AB36:AD36)>0,"OK","N") -> N | AV36: =IF(SUM(AE36:AI36)>0,(IF(OR((AE36+ABS(AF36-AE36)+ABS(AG36-AF36)+ABS(AH36-AG36)+ABS(AI36-AH36)+AI36)=2,(AE36+ABS(AF36-AE36)+ABS(AG36-AF36)+ABS(AH36-AG36)+ABS(AI36-AH36)+AI36)=0),"OK","N")),"N") -> N | AW36: =IF(SUM(AJ36:AL36)>0,"OK","N") -> N
... A106: =IF(B106>0,(ROW(A106)-6),0) -> 0 | AN106: =IF(AND(AND(AP106="OK",AQ106="OK",AR106="OK",AS106="OK"),AND(AT106="OK",AU106="OK",AV106="OK",AW106="OK")),"Finished",IF(AND(AND(AP106="N",AQ106="N",AR106="N",AS106="N"),AND(AT106="N",AU106="N",AV106="N",AW106="N")),"N/A","Unfinished")) -> N/A | AO106: =IF(A106=0,"N",A106) -> N | AP106: =IF(ISBLANK(B106),"N","OK") -> N | AQ106: =IF((C106+D106)=0,"N","OK") -> N | AR106: =IF(AND(OR(E106=1,SUM(F106:N106)>=3),OR(AND(F106=1,(SUM(G106:N106)>0)),AND(F106=0,(SUM(G106:N106)=0)))),"OK","N") -> N | AS106: =IF(SUM(O106:W106)>0,(IF(OR((O106+ABS(P106-O106)+ABS(Q106-P106)+ABS(R106-Q106)+ABS(S106-R106)+ABS(T106-S106)+ABS(U106-T106)+ABS(V106-U106)+ABS(W106-V106)+W106)=2,(O106+ABS(P106-O106)+ABS(Q106-P106)+ABS(R106-Q106)+ABS(S106-R106)+ABS(T106-S106)+ABS(U106-T106)+ABS(V106-U106)+ABS(W106-V106)+W106)=0),"OK","N")),"N") -> N | AT106: =IF(SUM(X106:AA106)>0,"OK","N") -> N | AU106: =IF(SUM(AB106:AD106)>0,"OK","N") -> N | AV106: =IF(SUM(AE106:AI106)>0,(IF(OR((AE106+ABS(AF106-AE106)+ABS(AG106-AF106)+ABS(AH106-AG106)+ABS(AI106-AH106)+AI106)=2,(AE106+ABS(AF106-AE106)+ABS(AG106-AF106)+ABS(AH106-AG106)+ABS(AI106-AH106)+AI106)=0),"OK","N")),"N") -> N | AW106: =IF(SUM(AJ106:AL106)>0,"OK","N") -> N
A107: End

Sheet Result
A1: Scorer | B1: Locality | D1: Latitude | E1: Longitude | F1: Altitude | G1: Date Collected | H1: Completeness | I1: Notes
A3: =Scoresheet!A3 -> 0 | B3: =Scoresheet!B3 -> Highvale Ardley Coal | D3: =Scoresheet!C3 -> 0 | E3: =Scoresheet!E3 -> 0 | F3: =Scoresheet!G3 -> 0 | G3: =Scoresheet!I3 -> 0 | H3: =AQ114 -> 0.66666667 | I3: =Scoresheet!M3 -> 0
C5: Lamina | D5: Dissection
C6: Unlobed | D6: Lobed | E6: No Teeth | F6: Tth Regular | G6: Teeth Close | H6: Teeth Round | I6: Teeth Acute | J6: Tth Compound | K6: Nanophyll | L6: Leptophyll I | M6: Leptophyll II | N6: Microphyll I | O6: Microphyll II | P6: Microphyll III | Q6: Mesophyll I | R6: Mesophyll II | S6: Mesophyll III | T6: Apex Emarg. | U6: Apex Round | V6: Apex Acute | W6: Apex Atten. | X6: Base Cordate | Y6: Base Round | Z6: Base Acute | AA6: L:W<1:1 | AB6: L:W 1-2:1 | AC6: L:W 2-3:1 | AD6: L:W 3-4:1 | AE6: L:W>4:1 | AF6: Obovate | AG6: Elliptic | AH6: Ovate | AQ6: Species No. | AR6: Lobed | AS6: No Teeth | AT6: Tth Regular | AU6: Teeth Close | AV6: Teeth Round | AW6: Teeth Acute | AX6: Tth Compound | AY6: Nanophyll | AZ6: Leptophyll I | BA6: Leptophyll II | BB6: Microphyll I | BC6: Microphyll II | BD6: Microphyll III | BE6: Mesophyll I | BF6: Mesophyll II | BG6: Mesophyll III | BH6: Apex Emarg. | BI6: Apex Round | BJ6: Apex Acute | BK6: Apex Atten. | BL6: Base Cordate | BM6: Base Round | BN6: Base Acute | BO6: L:W<1:1 | BP6: L:W 1-2:1 | BQ6: L:W 2-3:1 | BR6: L:W 3-4:1 | BS6: L:W>4:1 | BT6: Obovate | BU6: Elliptic | BV6: Ovate | BX6: Lobing | BY6: Margin | BZ6: Size | CA6: Apex | CB6: Base | CC6: L:W | CD6: Shape
A7: =IF(B7>0,(ROW(A7)-6),0) -> 1 | B7: =Scoresheet!B7 -> Archeampelos | C7: =IF(Scoresheet!C7=0,0,Scoresheet!C7/(Scoresheet!C7+Scoresheet!D7)) -> 0 | D7: =IF(Scoresheet!D7=0,0,Scoresheet!D7/(Scoresheet!C7+Scoresheet!D7)) -> 1 | E7: =IF(Scoresheet!E7=0,0,Scoresheet!E7/(Scoresheet!E7+Scoresheet!F7)) -> 0 | F7: =IF(Scoresheet!G7=0,0,Scoresheet!G7/(Scoresheet!G7+Scoresheet!H7)*(IF(Result!E7=0,1,Result!E7))) -> 1 | G7: =IF(Scoresheet!I7=0,0,Scoresheet!I7/(Scoresheet!I7+Scoresheet!J7)*(IF(Result!E7=0,1,Result!E7))) -> 0.5 | H7: =IF(Scoresheet!K7=0,0,Scoresheet!K7/(Scoresheet!L7+Scoresheet!K7)*(IF(Result!E7=0,1,Result!E7))) -> 1 | I7: =IF(Scoresheet!L7=0,0,Scoresheet!L7/(Scoresheet!K7+Scoresheet!L7)*(IF(Result!E7=0,1,Result!E7))) -> 0 | J7: =IF(Scoresheet!M7=0,0,Scoresheet!M7/(Scoresheet!M7+Scoresheet!N7)) -> 0 | K7: =(IF(OR((Scoresheet!$O7+ABS(Scoresheet!$P7-Scoresheet!$O7)+ABS(Scoresheet!$Q7-Scoresheet!$P7)+ABS(Scoresheet!$R7-Scoresheet!$Q7)+ABS(Scoresheet!$S7-Scoresheet!$R7)+ABS(Scoresheet!$T7-Scoresheet!$S7)+ABS(Scoresheet!$U7-Scoresheet!$T7)+ABS(Scoresheet!$V7-Scoresheet!$U7)+ABS(Scoresheet!$W7-Scoresheet!$V7)+Scoresheet!$W7)=2,(Scoresheet!$O7+ABS(Scoresheet!$P7-Scoresheet!$O7)+ABS(Scoresheet!$Q7-Scoresheet!$P7)+ABS(Scoresheet!$R7-Scoresheet!$Q7)+ABS(Scoresheet!$S7-Scoresheet!$R7)+ABS(Scoresheet!$T7-Scoresheet!$S7)+ABS(Scoresheet!$U7-Scoresheet!$T7)+ABS(Scoresheet!$V7-Scoresheet!$U7)+ABS(Scoresheet!$W7-Scoresheet!$V7)+Scoresheet!$W7)=0),(IF((Scoresheet!$O7+Scoresheet!$P7+Scoresheet!$Q7+Scoresheet!$R7+Scoresheet!$S7+Scoresheet!$T7+Scoresheet!$U7+Scoresheet!$V7+Scoresheet!$W7)=0,0,ROUND(Scoresheet!O7/(Scoresheet!$O7+Scoresheet!$P7+Scoresheet!$Q7+Scoresheet!$R7+Scoresheet!$S7+Scoresheet!$T7+Scoresheet!$U7+Scoresheet!$V7+Scoresheet!$W7),2))),"ERR!")) -> 0 | L7: =(IF(OR((Scoresheet!$O7+ABS(Scoresheet!$P7-Scoresheet!$O7)+ABS(Scoresheet!$Q7-Scoresheet!$P7)+ABS(Scoresheet!$R7-Scoresheet!$Q7)+ABS(Scoresheet!$S7-Scoresheet!$R7)+ABS(Scoresheet!$T7-Scoresheet!$S7)+ABS(Scoresheet!$U7-Scoresheet!$T7)+ABS(Scoresheet!$V7-Scoresheet!$U7)+ABS(Scoresheet!$W7-Scoresheet!$V7)+Scoresheet!$W7)=2,(Scoresheet!$O7+ABS(Scoresheet!$P7-Scoresheet!$O7)+ABS(Scoresheet!$Q7-Scoresheet!$P7)+ABS(Scoresheet!$R7-Scoresheet!$Q7)+ABS(Scoresheet!$S7-Scoresheet!$R7)+ABS(Scoresheet!$T7-Scoresheet!$S7)+ABS(Scoresheet!$U7-Scoresheet!$T7)+ABS(Scoresheet!$V7-Scoresheet!$U7)+ABS(Scoresheet!$W7-Scoresheet!$V7)+Scoresheet!$W7)=0),(IF((Scoresheet!$O7+Scoresheet!$P7+Scoresheet!$Q7+Scoresheet!$R7+Scoresheet!$S7+Scoresheet!$T7+Scoresheet!$U7+Scoresheet!$V7+Scoresheet!$W7)=0,0,ROUND(Scoresheet!P7/(Scoresheet!$O7+Scoresheet!$P7+Scoresheet!$Q7+Scoresheet!$R7+Scoresheet!$S7+Scoresheet!$T7+Scoresheet!$U7+Scoresheet!$V7+Scoresheet!$W7),2))),"ERR!")) -> 0 | M7: =(IF(OR((Scoresheet!$O7+ABS(Scoresheet!$P7-Scoresheet!$O7)+ABS(Scoresheet!$Q7-Scoresheet!$P7)+ABS(Scoresheet!$R7-Scoresheet!$Q7)+ABS(Scoresheet!$S7-Scoresheet!$R7)+ABS(Scoresheet!$T7-Scoresheet!$S7)+ABS(Scoresheet!$U7-Scoresheet!$T7)+ABS(Scoresheet!$V7-Scoresheet!$U7)+ABS(Scoresheet!$W7-Scoresheet!$V7)+Scoresheet!$W7)=2,(Scoresheet!$O7+ABS(Scoresheet!$P7-Scoresheet!$O7)+ABS(Scoresheet!$Q7-Scoresheet!$P7)+ABS(Scoresheet!$R7-Scoresheet!$Q7)+ABS(Scoresheet!$S7-Scoresheet!$R7)+ABS(Scoresheet!$T7-Scoresheet!$S7)+ABS(Scoresheet!$U7-Scoresheet!$T7)+ABS(Scoresheet!$V7-Scoresheet!$U7)+ABS(Scoresheet!$W7-Scoresheet!$V7)+Scoresheet!$W7)=0),(IF((Scoresheet!$O7+Scoresheet!$P7+Scoresheet!$Q7+Scoresheet!$R7+Scoresheet!$S7+Scoresheet!$T7+Scoresheet!$U7+Scoresheet!$V7+Scoresheet!$W7)=0,0,ROUND(Scoresheet!Q7/(Scoresheet!$O7+Scoresheet!$P7+Scoresheet!$Q7+Scoresheet!$R7+Scoresheet!$S7+Scoresheet!$T7+Scoresheet!$U7+Scoresheet!$V7+Scoresheet!$W7),2))),"ERR!")) -> 0 | N7: =(IF(OR((Scoresheet!$O7+ABS(Scoresheet!$P7-Scoresheet!$O7)+ABS(Scoresheet!$Q7-Scoresheet!$P7)+ABS(Scoresheet!$R7-Scoresheet!$Q7)+ABS(Scoresheet!$S7-Scoresheet!$R7)+ABS(Scoresheet!$T7-Scoresheet!$S7)+ABS(Scoresheet!$U7-Scoresheet!$T7)+ABS(Scoresheet!$V7-Scoresheet!$U7)+ABS(Scoresheet!$W7-Scoresheet!$V7)+Scoresheet!$W7)=2,(Scoresheet!$O7+ABS(Scoresheet!$P7-Scoresheet!$O7)+ABS(Scoresheet!$Q7-Scoresheet!$P7)+ABS(Scoresheet!$R7-Scoresheet!$Q7)+ABS(Scoresheet!$S7-Scoresheet!$R7)+ABS(Scoresheet!$T7-Scoresheet!$S7)+ABS(Scoresheet!$U7-Scoresheet!$T7)+ABS(Scoresheet!$V7-Scoresheet!$U7)+ABS(Scoresheet!$W7-Scoresheet!$V7)+Scoresheet!$W7)=0),(IF((Scoresheet!$O7+Scoresheet!$P7+Scoresheet!$Q7+Scoresheet!$R7+Scoresheet!$S7+Scoresheet!$T7+Scoresheet!$U7+Scoresheet!$V7+Scoresheet!$W7)=0,0,ROUND(Scoresheet!R7/(Scoresheet!$O7+Scoresheet!$P7+Scoresheet!$Q7+Scoresheet!$R7+Scoresheet!$S7+Scoresheet!$T7+Scoresheet!$U7+Scoresheet!$V7+Scoresheet!$W7),2))),"ERR!")) -> 0 | O7: =(IF(OR((Scoresheet!$O7+ABS(Scoresheet!$P7-Scoresheet!$O7)+ABS(Scoresheet!$Q7-Scoresheet!$P7)+ABS(Scoresheet!$R7-Scoresheet!$Q7)+ABS(Scoresheet!$S7-Scoresheet!$R7)+ABS(Scoresheet!$T7-Scoresheet!$S7)+ABS(Scoresheet!$U7-Scoresheet!$T7)+ABS(Scoresheet!$V7-Scoresheet!$U7)+ABS(Scoresheet!$W7-Scoresheet!$V7)+Scoresheet!$W7)=2,(Scoresheet!$O7+ABS(Scoresheet!$P7-Scoresheet!$O7)+ABS(Scoresheet!$Q7-Scoresheet!$P7)+ABS(Scoresheet!$R7-Scoresheet!$Q7)+ABS(Scoresheet!$S7-Scoresheet!$R7)+ABS(Scoresheet!$T7-Scoresheet!$S7)+ABS(Scoresheet!$U7-Scoresheet!$T7)+ABS(Scoresheet!$V7-Scoresheet!$U7)+ABS(Scoresheet!$W7-Scoresheet!$V7)+Scoresheet!$W7)=0),(IF((Scoresheet!$O7+Scoresheet!$P7+Scoresheet!$Q7+Scoresheet!$R7+Scoresheet!$S7+Scoresheet!$T7+Scoresheet!$U7+Scoresheet!$V7+Scoresheet!$W7)=0,0,ROUND(Scoresheet!S7/(Scoresheet!$O7+Scoresheet!$P7+Scoresheet!$Q7+Scoresheet!$R7+Scoresheet!$S7+Scoresheet!$T7+Scoresheet!$U7+Scoresheet!$V7+Scoresheet!$W7),2))),"ERR!")) -> 0.25 | P7: =(IF(OR((Scoresheet!$O7+ABS(Scoresheet!$P7-Scoresheet!$O7)+ABS(Scoresheet!$Q7-Scoresheet!$P7)+ABS(Scoresheet!$R7-Scoresheet!$Q7)+ABS(Scoresheet!$S7-Scoresheet!$R7)+ABS(Scoresheet!$T7-Scoresheet!$S7)+ABS(Scoresheet!$U7-Scoresheet!$T7)+ABS(Scoresheet!$V7-Scoresheet!$U7)+ABS(Scoresheet!$W7-Scoresheet!$V7)+Scoresheet!$W7)=2,(Scoresheet!$O7+ABS(Scoresheet!$P7-Scoresheet!$O7)+ABS(Scoresheet!$Q7-Scoresheet!$P7)+ABS(Scoresheet!$R7-Scoresheet!$Q7)+ABS(Scoresheet!$S7-Scoresheet!$R7)+ABS(Scoresheet!$T7-Scoresheet!$S7)+ABS(Scoresheet!$U7-Scoresheet!$T7)+ABS(Scoresheet!$V7-Scoresheet!$U7)+ABS(Scoresheet!$W7-Scoresheet!$V7)+Scoresheet!$W7)=0),(IF((Scoresheet!$O7+Scoresheet!$P7+Scoresheet!$Q7+Scoresheet!$R7+Scoresheet!$S7+Scoresheet!$T7+Scoresheet!$U7+Scoresheet!$V7+Scoresheet!$W7)=0,0,ROUND(Scoresheet!T7/(Scoresheet!$O7+Scoresheet!$P7+Scoresheet!$Q7+Scoresheet!$R7+Scoresheet!$S7+Scoresheet!$T7+Scoresheet!$U7+Scoresheet!$V7+Scoresheet!$W7),2))),"ERR!")) -> 0.25 | Q7: =(IF(OR((Scoresheet!$O7+ABS(Scoresheet!$P7-Scoresheet!$O7)+ABS(Scoresheet!$Q7-Scoresheet!$P7)+ABS(Scoresheet!$R7-Scoresheet!$Q7)+ABS(Scoresheet!$S7-Scoresheet!$R7)+ABS(Scoresheet!$T7-Scoresheet!$S7)+ABS(Scoresheet!$U7-Scoresheet!$T7)+ABS(Scoresheet!$V7-Scoresheet!$U7)+ABS(Scoresheet!$W7-Scoresheet!$V7)+Scoresheet!$W7)=2,(Scoresheet!$O7+ABS(Scoresheet!$P7-Scoresheet!$O7)+ABS(Scoresheet!$Q7-Scoresheet!$P7)+ABS(Scoresheet!$R7-Scoresheet!$Q7)+ABS(Scoresheet!$S7-Scoresheet!$R7)+ABS(Scoresheet!$T7-Scoresheet!$S7)+ABS(Scoresheet!$U7-Scoresheet!$T7)+ABS(Scoresheet!$V7-Scoresheet!$U7)+ABS(Scoresheet!$W7-Scoresheet!$V7)+Scoresheet!$W7)=0),(IF((Scoresheet!$O7+Scoresheet!$P7+Scoresheet!$Q7+Scoresheet!$R7+Scoresheet!$S7+Scoresheet!$T7+Scoresheet!$U7+Scoresheet!$V7+Scoresheet!$W7)=0,0,ROUND(Scoresheet!U7/(Scoresheet!$O7+Scoresheet!$P7+Scoresheet!$Q7+Scoresheet!$R7+Scoresheet!$S7+Scoresheet!$T7+Scoresheet!$U7+Scoresheet!$V7+Scoresheet!$W7),2))),"ERR!")) -> 0.25 | R7: =(IF(OR((Scoresheet!$O7+ABS(Scoresheet!$P7-Scoresheet!$O7)+ABS(Scoresheet!$Q7-Scoresheet!$P7)+ABS(Scoresheet!$R7-Scoresheet!$Q7)+ABS(Scoresheet!$S7-Scoresheet!$R7)+ABS(Scoresheet!$T7-Scoresheet!$S7)+ABS(Scoresheet!$U7-Scoresheet!$T7)+ABS(Scoresheet!$V7-Scoresheet!$U7)+ABS(Scoresheet!$W7-Scoresheet!$V7)+Scoresheet!$W7)=2,(Scoresheet!$O7+ABS(Scoresheet!$P7-Scoresheet!$O7)+ABS(Scoresheet!$Q7-Scoresheet!$P7)+ABS(Scoresheet!$R7-Scoresheet!$Q7)+ABS(Scoresheet!$S7-Scoresheet!$R7)+ABS(Scoresheet!$T7-Scoresheet!$S7)+ABS(Scoresheet!$U7-Scoresheet!$T7)+ABS(Scoresheet!$V7-Scoresheet!$U7)+ABS(Scoresheet!$W7-Scoresheet!$V7)+Scoresheet!$W7)=0),(IF((Scoresheet!$O7+Scoresheet!$P7+Scoresheet!$Q7+Scoresheet!$R7+Scoresheet!$S7+Scoresheet!$T7+Scoresheet!$U7+Scoresheet!$V7+Scoresheet!$W7)=0,0,ROUND(Scoresheet!V7/(Scoresheet!$O7+Scoresheet!$P7+Scoresheet!$Q7+Scoresheet!$R7+Scoresheet!$S7+Scoresheet!$T7+Scoresheet!$U7+Scoresheet!$V7+Scoresheet!$W7),2))),"ERR!")) -> 0.25 | S7: =(IF(OR((Scoresheet!$O7+ABS(Scoresheet!$P7-Scoresheet!$O7)+ABS(Scoresheet!$Q7-Scoresheet!$P7)+ABS(Scoresheet!$R7-Scoresheet!$Q7)+ABS(Scoresheet!$S7-Scoresheet!$R7)+ABS(Scoresheet!$T7-Scoresheet!$S7)+ABS(Scoresheet!$U7-Scoresheet!$T7)+ABS(Scoresheet!$V7-Scoresheet!$U7)+ABS(Scoresheet!$W7-Scoresheet!$V7)+Scoresheet!$W7)=2,(Scoresheet!$O7+ABS(Scoresheet!$P7-Scoresheet!$O7)+ABS(Scoresheet!$Q7-Scoresheet!$P7)+ABS(Scoresheet!$R7-Scoresheet!$Q7)+ABS(Scoresheet!$S7-Scoresheet!$R7)+ABS(Scoresheet!$T7-Scoresheet!$S7)+ABS(Scoresheet!$U7-Scoresheet!$T7)+ABS(Scoresheet!$V7-Scoresheet!$U7)+ABS(Scoresheet!$W7-Scoresheet!$V7)+Scoresheet!$W7)=0),(IF((Scoresheet!$O7+Scoresheet!$P7+Scoresheet!$Q7+Scoresheet!$R7+Scoresheet!$S7+Scoresheet!$T7+Scoresheet!$U7+Scoresheet!$V7+Scoresheet!$W7)=0,0,ROUND(Scoresheet!W7/(Scoresheet!$O7+Scoresheet!$P7+Scoresheet!$Q7+Scoresheet!$R7+Scoresheet!$S7+Scoresheet!$T7+Scoresheet!$U7+Scoresheet!$V7+Scoresheet!$W7),2))),"ERR!")) -> 0 | T7: =Scoresheet!X7 -> 0 | U7: =IF((Scoresheet!$Y7+Scoresheet!$Z7+Scoresheet!$AA7)=0,0,FLOOR(Scoresheet!Y7/(Scoresheet!$Y7+Scoresheet!$Z7+Scoresheet!$AA7),0.01)) -> 0.5 | V7: =IF((Scoresheet!$Y7+Scoresheet!$Z7+Scoresheet!$AA7)=0,0,FLOOR(Scoresheet!Z7/(Scoresheet!$Y7+Scoresheet!$Z7+Scoresheet!$AA7),0.01)) -> 0.5 | W7: =IF((Scoresheet!$Y7+Scoresheet!$Z7+Scoresheet!$AA7)=0,0,FLOOR(Scoresheet!AA7/(Scoresheet!$Y7+Scoresheet!$Z7+Scoresheet!$AA7),0.01)) -> 0 | X7: =IF((Scoresheet!$AB7+Scoresheet!$AC7+Scoresheet!$AD7)=0,0,FLOOR(Scoresheet!AB7/(Scoresheet!$AB7+Scoresheet!$AC7+Scoresheet!$AD7),0.01)) -> 0.5 | Y7: =IF((Scoresheet!$AB7+Scoresheet!$AC7+Scoresheet!$AD7)=0,0,FLOOR(Scoresheet!AC7/(Scoresheet!$AB7+Scoresheet!$AC7+Scoresheet!$AD7),0.01)) -> 0.5 | Z7: =IF((Scoresheet!$AB7+Scoresheet!$AC7+Scoresheet!$AD7)=0,0,FLOOR(Scoresheet!AD7/(Scoresheet!$AB7+Scoresheet!$AC7+Scoresheet!$AD7),0.01)) -> 0 | AA7: =IF(OR((Scoresheet!$AE7+ABS(Scoresheet!$AF7-Scoresheet!$AE7)+ABS(Scoresheet!$AG7-Scoresheet!$AF7)+ABS(Scoresheet!$AH7-Scoresheet!$AG7)+ABS(Scoresheet!$AI7-Scoresheet!$AH7)+Scoresheet!$AI7)=2,(Scoresheet!$AE7+ABS(Scoresheet!$AF7-Scoresheet!$AE7)+ABS(Scoresheet!$AG7-Scoresheet!$AF7)+ABS(Scoresheet!$AH7-Scoresheet!$AG7)+ABS(Scoresheet!$AI7-Scoresheet!$AH7)+Scoresheet!$AI7)=0),(IF((Scoresheet!$AE7+Scoresheet!$AF7+Scoresheet!$AG7+Scoresheet!$AH7+Scoresheet!$AI7)=0,0,ROUND(Scoresheet!AE7/(Scoresheet!$AE7+Scoresheet!$AF7+Scoresheet!$AG7+Scoresheet!$AH7+Scoresheet!$AI7),2))),"ERR!") -> 0.5 | AB7: =IF(OR((Scoresheet!$AE7+ABS(Scoresheet!$AF7-Scoresheet!$AE7)+ABS(Scoresheet!$AG7-Scoresheet!$AF7)+ABS(Scoresheet!$AH7-Scoresheet!$AG7)+ABS(Scoresheet!$AI7-Scoresheet!$AH7)+Scoresheet!$AI7)=2,(Scoresheet!$AE7+ABS(Scoresheet!$AF7-Scoresheet!$AE7)+ABS(Scoresheet!$AG7-Scoresheet!$AF7)+ABS(Scoresheet!$AH7-Scoresheet!$AG7)+ABS(Scoresheet!$AI7-Scoresheet!$AH7)+Scoresheet!$AI7)=0),(IF((Scoresheet!$AE7+Scoresheet!$AF7+Scoresheet!$AG7+Scoresheet!$AH7+Scoresheet!$AI7)=0,0,ROUND(Scoresheet!AF7/(Scoresheet!$AE7+Scoresheet!$AF7+Scoresheet!$AG7+Scoresheet!$AH7+Scoresheet!$AI7),2))),"ERR!") -> 0.5 | AC7: =IF(OR((Scoresheet!$AE7+ABS(Scoresheet!$AF7-Scoresheet!$AE7)+ABS(Scoresheet!$AG7-Scoresheet!$AF7)+ABS(Scoresheet!$AH7-Scoresheet!$AG7)+ABS(Scoresheet!$AI7-Scoresheet!$AH7)+Scoresheet!$AI7)=2,(Scoresheet!$AE7+ABS(Scoresheet!$AF7-Scoresheet!$AE7)+ABS(Scoresheet!$AG7-Scoresheet!$AF7)+ABS(Scoresheet!$AH7-Scoresheet!$AG7)+ABS(Scoresheet!$AI7-Scoresheet!$AH7)+Scoresheet!$AI7)=0),(IF((Scoresheet!$AE7+Scoresheet!$AF7+Scoresheet!$AG7+Scoresheet!$AH7+Scoresheet!$AI7)=0,0,ROUND(Scoresheet!AG7/(Scoresheet!$AE7+Scoresheet!$AF7+Scoresheet!$AG7+Scoresheet!$AH7+Scoresheet!$AI7),2))),"ERR!") -> 0 | AD7: =IF(OR((Scoresheet!$AE7+ABS(Scoresheet!$AF7-Scoresheet!$AE7)+ABS(Scoresheet!$AG7-Scoresheet!$AF7)+ABS(Scoresheet!$AH7-Scoresheet!$AG7)+ABS(Scoresheet!$AI7-Scoresheet!$AH7)+Scoresheet!$AI7)=2,(Scoresheet!$AE7+ABS(Scoresheet!$AF7-Scoresheet!$AE7)+ABS(Scoresheet!$AG7-Scoresheet!$AF7)+ABS(Scoresheet!$AH7-Scoresheet!$AG7)+ABS(Scoresheet!$AI7-Scoresheet!$AH7)+Scoresheet!$AI7)=0),(IF((Scoresheet!$AE7+Scoresheet!$AF7+Scoresheet!$AG7+Scoresheet!$AH7+Scoresheet!$AI7)=0,0,ROUND(Scoresheet!AH7/(Scoresheet!$AE7+Scoresheet!$AF7+Scoresheet!$AG7+Scoresheet!$AH7+Scoresheet!$AI7),2))),"ERR!") -> 0 | AE7: =IF(OR((Scoresheet!$AE7+ABS(Scoresheet!$AF7-Scoresheet!$AE7)+ABS(Scoresheet!$AG7-Scoresheet!$AF7)+ABS(Scoresheet!$AH7-Scoresheet!$AG7)+ABS(Scoresheet!$AI7-Scoresheet!$AH7)+Scoresheet!$AI7)=2,(Scoresheet!$AE7+ABS(Scoresheet!$AF7-Scoresheet!$AE7)+ABS(Scoresheet!$AG7-Scoresheet!$AF7)+ABS(Scoresheet!$AH7-Scoresheet!$AG7)+ABS(Scoresheet!$AI7-Scoresheet!$AH7)+Scoresheet!$AI7)=0),(IF((Scoresheet!$AE7+Scoresheet!$AF7+Scoresheet!$AG7+Scoresheet!$AH7+Scoresheet!$AI7)=0,0,ROUND(Scoresheet!AI7/(Scoresheet!$AE7+Scoresheet!$AF7+Scoresheet!$AG7+Scoresheet!$AH7+Scoresheet!$AI7),2))),"ERR!") -> 0 | AF7: =IF((Scoresheet!$AJ7+Scoresheet!$AK7+Scoresheet!$AL7)=0,0,FLOOR(Scoresheet!AJ7/(Scoresheet!$AJ7+Scoresheet!$AK7+Scoresheet!$AL7),0.01)) -> 0 | AG7: =IF((Scoresheet!$AJ7+Scoresheet!$AK7+Scoresheet!$AL7)=0,0,FLOOR(Scoresheet!AK7/(Scoresheet!$AJ7+Scoresheet!$AK7+Scoresheet!$AL7),0.01)) -> 0.5 | AH7: =IF((Scoresheet!$AJ7+Scoresheet!$AK7+Scoresheet!$AL7)=0,0,FLOOR(Scoresheet!AL7/(Scoresheet!$AJ7+Scoresheet!$AK7+Scoresheet!$AL7),0.01)) -> 0.5 | AQ7: =IF((B7)>0,1,0) -> 1 | AR7: =IF(C7+D7>0,1,0) -> 1 | AS7: =IF(E7>0,1,0) -> 0 | AT7: =IF(F7>0,1,0) -> 1 | AU7: =IF(G7>0,1,0) -> 1 | AV7: =IF(H7>0,1,0) -> 1 | AW7: =IF(I7>0,1,0) -> 0 | AX7: =IF(J7>0,1,0) -> 0 | AY7: =IF(K7>0,1,0) -> 0 | AZ7: =IF(L7>0,1,0) -> 0 | ... BV7: =IF(AH7>0,1,0) -> 1 | BX7: =AR7 -> 1 | BY7: =IF(AS7+AT7+AU7+AV7+AW7+AX7>0,1,0) -> 1 | BZ7: =IF(AY7+AZ7+BA7+BB7+BC7+BD7+BE7+BF7+BG7>0,1,0) -> 1 | CA7: =IF(BH7+BI7+BJ7+BK7>0,1,0) -> 1 | CB7: =IF(BL7+BM7+BN7>0,1,0) -> 1 | CC7: =IF(BO7+BP7+BQ7+BR7+BS7>0,1,0) -> 1 | CD7: =IF(BT7+BU7+BV7>0,1,0) -> 1
A8: =IF(B8>0,(ROW(A8)-6),0) -> 2 | B8: =Scoresheet!B8 -> Browniea | C8: =IF(Scoresheet!C8=0,0,Scoresheet!C8/(Scoresheet!C8+Scoresheet!D8)) -> 1 | D8: =IF(Scoresheet!D8=0,0,Scoresheet!D8/(Scoresheet!C8+Scoresheet!D8)) -> 0 | E8: =IF(Scoresheet!E8=0,0,Scoresheet!E8/(Scoresheet!E8+Scoresheet!F8)) -> 0 | F8: =IF(Scoresheet!G8=0,0,Scoresheet!G8/(Scoresheet!G8+Scoresheet!H8)*(IF(Result!E8=0,1,Result!E8))) -> 1 | G8: =IF(Scoresheet!I8=0,0,Scoresheet!I8/(Scoresheet!I8+Scoresheet!J8)*(IF(Result!E8=0,1,Result!E8))) -> 1 | H8: =IF(Scoresheet!K8=0,0,Scoresheet!K8/(Scoresheet!L8+Scoresheet!K8)*(IF(Result!E8=0,1,Result!E8))) -> 0.5 | I8: =IF(Scoresheet!L8=0,0,Scoresheet!L8/(Scoresheet!K8+Scoresheet!L8)*(IF(Result!E8=0,1,Result!E8))) -> 0.5 | J8: =IF(Scoresheet!M8=0,0,Scoresheet!M8/(Scoresheet!M8+Scoresheet!N8)) -> 0 | K8: =(IF(OR((Scoresheet!$O8+ABS(Scoresheet!$P8-Scoresheet!$O8)+ABS(Scoresheet!$Q8-Scoresheet!$P8)+ABS(Scoresheet!$R8-Scoresheet!$Q8)+ABS(Scoresheet!$S8-Scoresheet!$R8)+ABS(Scoresheet!$T8-Scoresheet!$S8)+ABS(Scoresheet!$U8-Scoresheet!$T8)+ABS(Scoresheet!$V8-Scoresheet!$U8)+ABS(Scoresheet!$W8-Scoresheet!$V8)+Scoresheet!$W8)=2,(Scoresheet!$O8+ABS(Scoresheet!$P8-Scoresheet!$O8)+ABS(Scoresheet!$Q8-Scoresheet!$P8)+ABS(Scoresheet!$R8-Scoresheet!$Q8)+ABS(Scoresheet!$S8-Scoresheet!$R8)+ABS(Scoresheet!$T8-Scoresheet!$S8)+ABS(Scoresheet!$U8-Scoresheet!$T8)+ABS(Scoresheet!$V8-Scoresheet!$U8)+ABS(Scoresheet!$W8-Scoresheet!$V8)+Scoresheet!$W8)=0),(IF((Scoresheet!$O8+Scoresheet!$P8+Scoresheet!$Q8+Scoresheet!$R8+Scoresheet!$S8+Scoresheet!$T8+Scoresheet!$U8+Scoresheet!$V8+Scoresheet!$W8)=0,0,ROUND(Scoresheet!O8/(Scoresheet!$O8+Scoresheet!$P8+Scoresheet!$Q8+Scoresheet!$R8+Scoresheet!$S8+Scoresheet!$T8+Scoresheet!$U8+Scoresheet!$V8+Scoresheet!$W8),2))),"ERR!")) -> 0 | L8: =(IF(OR((Scoresheet!$O8+ABS(Scoresheet!$P8-Scoresheet!$O8)+ABS(Scoresheet!$Q8-Scoresheet!$P8)+ABS(Scoresheet!$R8-Scoresheet!$Q8)+ABS(Scoresheet!$S8-Scoresheet!$R8)+ABS(Scoresheet!$T8-Scoresheet!$S8)+ABS(Scoresheet!$U8-Scoresheet!$T8)+ABS(Scoresheet!$V8-Scoresheet!$U8)+ABS(Scoresheet!$W8-Scoresheet!$V8)+Scoresheet!$W8)=2,(Scoresheet!$O8+ABS(Scoresheet!$P8-Scoresheet!$O8)+ABS(Scoresheet!$Q8-Scoresheet!$P8)+ABS(Scoresheet!$R8-Scoresheet!$Q8)+ABS(Scoresheet!$S8-Scoresheet!$R8)+ABS(Scoresheet!$T8-Scoresheet!$S8)+ABS(Scoresheet!$U8-Scoresheet!$T8)+ABS(Scoresheet!$V8-Scoresheet!$U8)+ABS(Scoresheet!$W8-Scoresheet!$V8)+Scoresheet!$W8)=0),(IF((Scoresheet!$O8+Scoresheet!$P8+Scoresheet!$Q8+Scoresheet!$R8+Scoresheet!$S8+Scoresheet!$T8+Scoresheet!$U8+Scoresheet!$V8+Scoresheet!$W8)=0,0,ROUND(Scoresheet!P8/(Scoresheet!$O8+Scoresheet!$P8+Scoresheet!$Q8+Scoresheet!$R8+Scoresheet!$S8+Scoresheet!$T8+Scoresheet!$U8+Scoresheet!$V8+Scoresheet!$W8),2))),"ERR!")) -> 0 | M8: =(IF(OR((Scoresheet!$O8+ABS(Scoresheet!$P8-Scoresheet!$O8)+ABS(Scoresheet!$Q8-Scoresheet!$P8)+ABS(Scoresheet!$R8-Scoresheet!$Q8)+ABS(Scoresheet!$S8-Scoresheet!$R8)+ABS(Scoresheet!$T8-Scoresheet!$S8)+ABS(Scoresheet!$U8-Scoresheet!$T8)+ABS(Scoresheet!$V8-Scoresheet!$U8)+ABS(Scoresheet!$W8-Scoresheet!$V8)+Scoresheet!$W8)=2,(Scoresheet!$O8+ABS(Scoresheet!$P8-Scoresheet!$O8)+ABS(Scoresheet!$Q8-Scoresheet!$P8)+ABS(Scoresheet!$R8-Scoresheet!$Q8)+ABS(Scoresheet!$S8-Scoresheet!$R8)+ABS(Scoresheet!$T8-Scoresheet!$S8)+ABS(Scoresheet!$U8-Scoresheet!$T8)+ABS(Scoresheet!$V8-Scoresheet!$U8)+ABS(Scoresheet!$W8-Scoresheet!$V8)+Scoresheet!$W8)=0),(IF((Scoresheet!$O8+Scoresheet!$P8+Scoresheet!$Q8+Scoresheet!$R8+Scoresheet!$S8+Scoresheet!$T8+Scoresheet!$U8+Scoresheet!$V8+Scoresheet!$W8)=0,0,ROUND(Scoresheet!Q8/(Scoresheet!$O8+Scoresheet!$P8+Scoresheet!$Q8+Scoresheet!$R8+Scoresheet!$S8+Scoresheet!$T8+Scoresheet!$U8+Scoresheet!$V8+Scoresheet!$W8),2))),"ERR!")) -> 0 | N8: =(IF(OR((Scoresheet!$O8+ABS(Scoresheet!$P8-Scoresheet!$O8)+ABS(Scoresheet!$Q8-Scoresheet!$P8)+ABS(Scoresheet!$R8-Scoresheet!$Q8)+ABS(Scoresheet!$S8-Scoresheet!$R8)+ABS(Scoresheet!$T8-Scoresheet!$S8)+ABS(Scoresheet!$U8-Scoresheet!$T8)+ABS(Scoresheet!$V8-Scoresheet!$U8)+ABS(Scoresheet!$W8-Scoresheet!$V8)+Scoresheet!$W8)=2,(Scoresheet!$O8+ABS(Scoresheet!$P8-Scoresheet!$O8)+ABS(Scoresheet!$Q8-Scoresheet!$P8)+ABS(Scoresheet!$R8-Scoresheet!$Q8)+ABS(Scoresheet!$S8-Scoresheet!$R8)+ABS(Scoresheet!$T8-Scoresheet!$S8)+ABS(Scoresheet!$U8-Scoresheet!$T8)+ABS(Scoresheet!$V8-Scoresheet!$U8)+ABS(Scoresheet!$W8-Scoresheet!$V8)+Scoresheet!$W8)=0),(IF((Scoresheet!$O8+Scoresheet!$P8+Scoresheet!$Q8+Scoresheet!$R8+Scoresheet!$S8+Scoresheet!$T8+Scoresheet!$U8+Scoresheet!$V8+Scoresheet!$W8)=0,0,ROUND(Scoresheet!R8/(Scoresheet!$O8+Scoresheet!$P8+Scoresheet!$Q8+Scoresheet!$R8+Scoresheet!$S8+Scoresheet!$T8+Scoresheet!$U8+Scoresheet!$V8+Scoresheet!$W8),2))),"ERR!")) -> 0 | O8: =(IF(OR((Scoresheet!$O8+ABS(Scoresheet!$P8-Scoresheet!$O8)+ABS(Scoresheet!$Q8-Scoresheet!$P8)+ABS(Scoresheet!$R8-Scoresheet!$Q8)+ABS(Scoresheet!$S8-Scoresheet!$R8)+ABS(Scoresheet!$T8-Scoresheet!$S8)+ABS(Scoresheet!$U8-Scoresheet!$T8)+ABS(Scoresheet!$V8-Scoresheet!$U8)+ABS(Scoresheet!$W8-Scoresheet!$V8)+Scoresheet!$W8)=2,(Scoresheet!$O8+ABS(Scoresheet!$P8-Scoresheet!$O8)+ABS(Scoresheet!$Q8-Scoresheet!$P8)+ABS(Scoresheet!$R8-Scoresheet!$Q8)+ABS(Scoresheet!$S8-Scoresheet!$R8)+ABS(Scoresheet!$T8-Scoresheet!$S8)+ABS(Scoresheet!$U8-Scoresheet!$T8)+ABS(Scoresheet!$V8-Scoresheet!$U8)+ABS(Scoresheet!$W8-Scoresheet!$V8)+Scoresheet!$W8)=0),(IF((Scoresheet!$O8+Scoresheet!$P8+Scoresheet!$Q8+Scoresheet!$R8+Scoresheet!$S8+Scoresheet!$T8+Scoresheet!$U8+Scoresheet!$V8+Scoresheet!$W8)=0,0,ROUND(Scoresheet!S8/(Scoresheet!$O8+Scoresheet!$P8+Scoresheet!$Q8+Scoresheet!$R8+Scoresheet!$S8+Scoresheet!$T8+Scoresheet!$U8+Scoresheet!$V8+Scoresheet!$W8),2))),"ERR!")) -> 0 | P8: =(IF(OR((Scoresheet!$O8+ABS(Scoresheet!$P8-Scoresheet!$O8)+ABS(Scoresheet!$Q8-Scoresheet!$P8)+ABS(Scoresheet!$R8-Scoresheet!$Q8)+ABS(Scoresheet!$S8-Scoresheet!$R8)+ABS(Scoresheet!$T8-Scoresheet!$S8)+ABS(Scoresheet!$U8-Scoresheet!$T8)+ABS(Scoresheet!$V8-Scoresheet!$U8)+ABS(Scoresheet!$W8-Scoresheet!$V8)+Scoresheet!$W8)=2,(Scoresheet!$O8+ABS(Scoresheet!$P8-Scoresheet!$O8)+ABS(Scoresheet!$Q8-Scoresheet!$P8)+ABS(Scoresheet!$R8-Scoresheet!$Q8)+ABS(Scoresheet!$S8-Scoresheet!$R8)+ABS(Scoresheet!$T8-Scoresheet!$S8)+ABS(Scoresheet!$U8-Scoresheet!$T8)+ABS(Scoresheet!$V8-Scoresheet!$U8)+ABS(Scoresheet!$W8-Scoresheet!$V8)+Scoresheet!$W8)=0),(IF((Scoresheet!$O8+Scoresheet!$P8+Scoresheet!$Q8+Scoresheet!$R8+Scoresheet!$S8+Scoresheet!$T8+Scoresheet!$U8+Scoresheet!$V8+Scoresheet!$W8)=0,0,ROUND(Scoresheet!T8/(Scoresheet!$O8+Scoresheet!$P8+Scoresheet!$Q8+Scoresheet!$R8+Scoresheet!$S8+Scoresheet!$T8+Scoresheet!$U8+Scoresheet!$V8+Scoresheet!$W8),2))),"ERR!")) -> 0.33 | Q8: =(IF(OR((Scoresheet!$O8+ABS(Scoresheet!$P8-Scoresheet!$O8)+ABS(Scoresheet!$Q8-Scoresheet!$P8)+ABS(Scoresheet!$R8-Scoresheet!$Q8)+ABS(Scoresheet!$S8-Scoresheet!$R8)+ABS(Scoresheet!$T8-Scoresheet!$S8)+ABS(Scoresheet!$U8-Scoresheet!$T8)+ABS(Scoresheet!$V8-Scoresheet!$U8)+ABS(Scoresheet!$W8-Scoresheet!$V8)+Scoresheet!$W8)=2,(Scoresheet!$O8+ABS(Scoresheet!$P8-Scoresheet!$O8)+ABS(Scoresheet!$Q8-Scoresheet!$P8)+ABS(Scoresheet!$R8-Scoresheet!$Q8)+ABS(Scoresheet!$S8-Scoresheet!$R8)+ABS(Scoresheet!$T8-Scoresheet!$S8)+ABS(Scoresheet!$U8-Scoresheet!$T8)+ABS(Scoresheet!$V8-Scoresheet!$U8)+ABS(Scoresheet!$W8-Scoresheet!$V8)+Scoresheet!$W8)=0),(IF((Scoresheet!$O8+Scoresheet!$P8+Scoresheet!$Q8+Scoresheet!$R8+Scoresheet!$S8+Scoresheet!$T8+Scoresheet!$U8+Scoresheet!$V8+Scoresheet!$W8)=0,0,ROUND(Scoresheet!U8/(Scoresheet!$O8+Scoresheet!$P8+Scoresheet!$Q8+Scoresheet!$R8+Scoresheet!$S8+Scoresheet!$T8+Scoresheet!$U8+Scoresheet!$V8+Scoresheet!$W8),2))),"ERR!")) -> 0.33 | R8: =(IF(OR((Scoresheet!$O8+ABS(Scoresheet!$P8-Scoresheet!$O8)+ABS(Scoresheet!$Q8-Scoresheet!$P8)+ABS(Scoresheet!$R8-Scoresheet!$Q8)+ABS(Scoresheet!$S8-Scoresheet!$R8)+ABS(Scoresheet!$T8-Scoresheet!$S8)+ABS(Scoresheet!$U8-Scoresheet!$T8)+ABS(Scoresheet!$V8-Scoresheet!$U8)+ABS(Scoresheet!$W8-Scoresheet!$V8)+Scoresheet!$W8)=2,(Scoresheet!$O8+ABS(Scoresheet!$P8-Scoresheet!$O8)+ABS(Scoresheet!$Q8-Scoresheet!$P8)+ABS(Scoresheet!$R8-Scoresheet!$Q8)+ABS(Scoresheet!$S8-Scoresheet!$R8)+ABS(Scoresheet!$T8-Scoresheet!$S8)+ABS(Scoresheet!$U8-Scoresheet!$T8)+ABS(Scoresheet!$V8-Scoresheet!$U8)+ABS(Scoresheet!$W8-Scoresheet!$V8)+Scoresheet!$W8)=0),(IF((Scoresheet!$O8+Scoresheet!$P8+Scoresheet!$Q8+Scoresheet!$R8+Scoresheet!$S8+Scoresheet!$T8+Scoresheet!$U8+Scoresheet!$V8+Scoresheet!$W8)=0,0,ROUND(Scoresheet!V8/(Scoresheet!$O8+Scoresheet!$P8+Scoresheet!$Q8+Scoresheet!$R8+Scoresheet!$S8+Scoresheet!$T8+Scoresheet!$U8+Scoresheet!$V8+Scoresheet!$W8),2))),"ERR!")) -> 0.33 | S8: =(IF(OR((Scoresheet!$O8+ABS(Scoresheet!$P8-Scoresheet!$O8)+ABS(Scoresheet!$Q8-Scoresheet!$P8)+ABS(Scoresheet!$R8-Scoresheet!$Q8)+ABS(Scoresheet!$S8-Scoresheet!$R8)+ABS(Scoresheet!$T8-Scoresheet!$S8)+ABS(Scoresheet!$U8-Scoresheet!$T8)+ABS(Scoresheet!$V8-Scoresheet!$U8)+ABS(Scoresheet!$W8-Scoresheet!$V8)+Scoresheet!$W8)=2,(Scoresheet!$O8+ABS(Scoresheet!$P8-Scoresheet!$O8)+ABS(Scoresheet!$Q8-Scoresheet!$P8)+ABS(Scoresheet!$R8-Scoresheet!$Q8)+ABS(Scoresheet!$S8-Scoresheet!$R8)+ABS(Scoresheet!$T8-Scoresheet!$S8)+ABS(Scoresheet!$U8-Scoresheet!$T8)+ABS(Scoresheet!$V8-Scoresheet!$U8)+ABS(Scoresheet!$W8-Scoresheet!$V8)+Scoresheet!$W8)=0),(IF((Scoresheet!$O8+Scoresheet!$P8+Scoresheet!$Q8+Scoresheet!$R8+Scoresheet!$S8+Scoresheet!$T8+Scoresheet!$U8+Scoresheet!$V8+Scoresheet!$W8)=0,0,ROUND(Scoresheet!W8/(Scoresheet!$O8+Scoresheet!$P8+Scoresheet!$Q8+Scoresheet!$R8+Scoresheet!$S8+Scoresheet!$T8+Scoresheet!$U8+Scoresheet!$V8+Scoresheet!$W8),2))),"ERR!")) -> 0 | T8: =Scoresheet!X8 -> 0 | U8: =IF((Scoresheet!$Y8+Scoresheet!$Z8+Scoresheet!$AA8)=0,0,FLOOR(Scoresheet!Y8/(Scoresheet!$Y8+Scoresheet!$Z8+Scoresheet!$AA8),0.01)) -> 0.5 | V8: =IF((Scoresheet!$Y8+Scoresheet!$Z8+Scoresheet!$AA8)=0,0,FLOOR(Scoresheet!Z8/(Scoresheet!$Y8+Scoresheet!$Z8+Scoresheet!$AA8),0.01)) -> 0.5 | W8: =IF((Scoresheet!$Y8+Scoresheet!$Z8+Scoresheet!$AA8)=0,0,FLOOR(Scoresheet!AA8/(Scoresheet!$Y8+Scoresheet!$Z8+Scoresheet!$AA8),0.01)) -> 0 | X8: =IF((Scoresheet!$AB8+Scoresheet!$AC8+Scoresheet!$AD8)=0,0,FLOOR(Scoresheet!AB8/(Scoresheet!$AB8+Scoresheet!$AC8+Scoresheet!$AD8),0.01)) -> 0 | Y8: =IF((Scoresheet!$AB8+Scoresheet!$AC8+Scoresheet!$AD8)=0,0,FLOOR(Scoresheet!AC8/(Scoresheet!$AB8+Scoresheet!$AC8+Scoresheet!$AD8),0.01)) -> 0.5 | Z8: =IF((Scoresheet!$AB8+Scoresheet!$AC8+Scoresheet!$AD8)=0,0,FLOOR(Scoresheet!AD8/(Scoresheet!$AB8+Scoresheet!$AC8+Scoresheet!$AD8),0.01)) -> 0.5 | AA8: =IF(OR((Scoresheet!$AE8+ABS(Scoresheet!$AF8-Scoresheet!$AE8)+ABS(Scoresheet!$AG8-Scoresheet!$AF8)+ABS(Scoresheet!$AH8-Scoresheet!$AG8)+ABS(Scoresheet!$AI8-Scoresheet!$AH8)+Scoresheet!$AI8)=2,(Scoresheet!$AE8+ABS(Scoresheet!$AF8-Scoresheet!$AE8)+ABS(Scoresheet!$AG8-Scoresheet!$AF8)+ABS(Scoresheet!$AH8-Scoresheet!$AG8)+ABS(Scoresheet!$AI8-Scoresheet!$AH8)+Scoresheet!$AI8)=0),(IF((Scoresheet!$AE8+Scoresheet!$AF8+Scoresheet!$AG8+Scoresheet!$AH8+Scoresheet!$AI8)=0,0,ROUND(Scoresheet!AE8/(Scoresheet!$AE8+Scoresheet!$AF8+Scoresheet!$AG8+Scoresheet!$AH8+Scoresheet!$AI8),2))),"ERR!") -> 0 | AB8: =IF(OR((Scoresheet!$AE8+ABS(Scoresheet!$AF8-Scoresheet!$AE8)+ABS(Scoresheet!$AG8-Scoresheet!$AF8)+ABS(Scoresheet!$AH8-Scoresheet!$AG8)+ABS(Scoresheet!$AI8-Scoresheet!$AH8)+Scoresheet!$AI8)=2,(Scoresheet!$AE8+ABS(Scoresheet!$AF8-Scoresheet!$AE8)+ABS(Scoresheet!$AG8-Scoresheet!$AF8)+ABS(Scoresheet!$AH8-Scoresheet!$AG8)+ABS(Scoresheet!$AI8-Scoresheet!$AH8)+Scoresheet!$AI8)=0),(IF((Scoresheet!$AE8+Scoresheet!$AF8+Scoresheet!$AG8+Scoresheet!$AH8+Scoresheet!$AI8)=0,0,ROUND(Scoresheet!AF8/(Scoresheet!$AE8+Scoresheet!$AF8+Scoresheet!$AG8+Scoresheet!$AH8+Scoresheet!$AI8),2))),"ERR!") -> 1 | AC8: =IF(OR((Scoresheet!$AE8+ABS(Scoresheet!$AF8-Scoresheet!$AE8)+ABS(Scoresheet!$AG8-Scoresheet!$AF8)+ABS(Scoresheet!$AH8-Scoresheet!$AG8)+ABS(Scoresheet!$AI8-Scoresheet!$AH8)+Scoresheet!$AI8)=2,(Scoresheet!$AE8+ABS(Scoresheet!$AF8-Scoresheet!$AE8)+ABS(Scoresheet!$AG8-Scoresheet!$AF8)+ABS(Scoresheet!$AH8-Scoresheet!$AG8)+ABS(Scoresheet!$AI8-Scoresheet!$AH8)+Scoresheet!$AI8)=0),(IF((Scoresheet!$AE8+Scoresheet!$AF8+Scoresheet!$AG8+Scoresheet!$AH8+Scoresheet!$AI8)=0,0,ROUND(Scoresheet!AG8/(Scoresheet!$AE8+Scoresheet!$AF8+Scoresheet!$AG8+Scoresheet!$AH8+Scoresheet!$AI8),2))),"ERR!") -> 0 | AD8: =IF(OR((Scoresheet!$AE8+ABS(Scoresheet!$AF8-Scoresheet!$AE8)+ABS(Scoresheet!$AG8-Scoresheet!$AF8)+ABS(Scoresheet!$AH8-Scoresheet!$AG8)+ABS(Scoresheet!$AI8-Scoresheet!$AH8)+Scoresheet!$AI8)=2,(Scoresheet!$AE8+ABS(Scoresheet!$AF8-Scoresheet!$AE8)+ABS(Scoresheet!$AG8-Scoresheet!$AF8)+ABS(Scoresheet!$AH8-Scoresheet!$AG8)+ABS(Scoresheet!$AI8-Scoresheet!$AH8)+Scoresheet!$AI8)=0),(IF((Scoresheet!$AE8+Scoresheet!$AF8+Scoresheet!$AG8+Scoresheet!$AH8+Scoresheet!$AI8)=0,0,ROUND(Scoresheet!AH8/(Scoresheet!$AE8+Scoresheet!$AF8+Scoresheet!$AG8+Scoresheet!$AH8+Scoresheet!$AI8),2))),"ERR!") -> 0 | AE8: =IF(OR((Scoresheet!$AE8+ABS(Scoresheet!$AF8-Scoresheet!$AE8)+ABS(Scoresheet!$AG8-Scoresheet!$AF8)+ABS(Scoresheet!$AH8-Scoresheet!$AG8)+ABS(Scoresheet!$AI8-Scoresheet!$AH8)+Scoresheet!$AI8)=2,(Scoresheet!$AE8+ABS(Scoresheet!$AF8-Scoresheet!$AE8)+ABS(Scoresheet!$AG8-Scoresheet!$AF8)+ABS(Scoresheet!$AH8-Scoresheet!$AG8)+ABS(Scoresheet!$AI8-Scoresheet!$AH8)+Scoresheet!$AI8)=0),(IF((Scoresheet!$AE8+Scoresheet!$AF8+Scoresheet!$AG8+Scoresheet!$AH8+Scoresheet!$AI8)=0,0,ROUND(Scoresheet!AI8/(Scoresheet!$AE8+Scoresheet!$AF8+Scoresheet!$AG8+Scoresheet!$AH8+Scoresheet!$AI8),2))),"ERR!") -> 0 | AF8: =IF((Scoresheet!$AJ8+Scoresheet!$AK8+Scoresheet!$AL8)=0,0,FLOOR(Scoresheet!AJ8/(Scoresheet!$AJ8+Scoresheet!$AK8+Scoresheet!$AL8),0.01)) -> 0 | AG8: =IF((Scoresheet!$AJ8+Scoresheet!$AK8+Scoresheet!$AL8)=0,0,FLOOR(Scoresheet!AK8/(Scoresheet!$AJ8+Scoresheet!$AK8+Scoresheet!$AL8),0.01)) -> 1 | AH8: =IF((Scoresheet!$AJ8+Scoresheet!$AK8+Scoresheet!$AL8)=0,0,FLOOR(Scoresheet!AL8/(Scoresheet!$AJ8+Scoresheet!$AK8+Scoresheet!$AL8),0.01)) -> 0 | AQ8: =IF((B8)>0,1,0) -> 1 | AR8: =IF(C8+D8>0,1,0) -> 1 | AS8: =IF(E8>0,1,0) -> 0 | AT8: =IF(F8>0,1,0) -> 1 | AU8: =IF(G8>0,1,0) -> 1 | AV8: =IF(H8>0,1,0) -> 1 | AW8: =IF(I8>0,1,0) -> 1 | AX8: =IF(J8>0,1,0) -> 0 | AY8: =IF(K8>0,1,0) -> 0 | AZ8: =IF(L8>0,1,0) -> 0 | ... BV8: =IF(AH8>0,1,0) -> 0 | BX8: =AR8 -> 1 | BY8: =IF(AS8+AT8+AU8+AV8+AW8+AX8>0,1,0) -> 1 | BZ8: =IF(AY8+AZ8+BA8+BB8+BC8+BD8+BE8+BF8+BG8>0,1,0) -> 1 | CA8: =IF(BH8+BI8+BJ8+BK8>0,1,0) -> 1 | CB8: =IF(BL8+BM8+BN8>0,1,0) -> 1 | CC8: =IF(BO8+BP8+BQ8+BR8+BS8>0,1,0) -> 1 | CD8: =IF(BT8+BU8+BV8>0,1,0) -> 1
A9: =IF(B9>0,(ROW(A9)-6),0) -> 3 | B9: =Scoresheet!B9 -> Craspedodromophyllum | C9: =IF(Scoresheet!C9=0,0,Scoresheet!C9/(Scoresheet!C9+Scoresheet!D9)) -> 0.5 | D9: =IF(Scoresheet!D9=0,0,Scoresheet!D9/(Scoresheet!C9+Scoresheet!D9)) -> 0.5 | E9: =IF(Scoresheet!E9=0,0,Scoresheet!E9/(Scoresheet!E9+Scoresheet!F9)) -> 0 | F9: =IF(Scoresheet!G9=0,0,Scoresheet!G9/(Scoresheet!G9+Scoresheet!H9)*(IF(Result!E9=0,1,Result!E9))) -> 1 | G9: =IF(Scoresheet!I9=0,0,Scoresheet!I9/(Scoresheet!I9+Scoresheet!J9)*(IF(Result!E9=0,1,Result!E9))) -> 1 | H9: =IF(Scoresheet!K9=0,0,Scoresheet!K9/(Scoresheet!L9+Scoresheet!K9)*(IF(Result!E9=0,1,Result!E9))) -> 1 | I9: =IF(Scoresheet!L9=0,0,Scoresheet!L9/(Scoresheet!K9+Scoresheet!L9)*(IF(Result!E9=0,1,Result!E9))) -> 0 | J9: =IF(Scoresheet!M9=0,0,Scoresheet!M9/(Scoresheet!M9+Scoresheet!N9)) -> 1 | K9: =(IF(OR((Scoresheet!$O9+ABS(Scoresheet!$P9-Scoresheet!$O9)+ABS(Scoresheet!$Q9-Scoresheet!$P9)+ABS(Scoresheet!$R9-Scoresheet!$Q9)+ABS(Scoresheet!$S9-Scoresheet!$R9)+ABS(Scoresheet!$T9-Scoresheet!$S9)+ABS(Scoresheet!$U9-Scoresheet!$T9)+ABS(Scoresheet!$V9-Scoresheet!$U9)+ABS(Scoresheet!$W9-Scoresheet!$V9)+Scoresheet!$W9)=2,(Scoresheet!$O9+ABS(Scoresheet!$P9-Scoresheet!$O9)+ABS(Scoresheet!$Q9-Scoresheet!$P9)+ABS(Scoresheet!$R9-Scoresheet!$Q9)+ABS(Scoresheet!$S9-Scoresheet!$R9)+ABS(Scoresheet!$T9-Scoresheet!$S9)+ABS(Scoresheet!$U9-Scoresheet!$T9)+ABS(Scoresheet!$V9-Scoresheet!$U9)+ABS(Scoresheet!$W9-Scoresheet!$V9)+Scoresheet!$W9)=0),(IF((Scoresheet!$O9+Scoresheet!$P9+Scoresheet!$Q9+Scoresheet!$R9+Scoresheet!$S9+Scoresheet!$T9+Scoresheet!$U9+Scoresheet!$V9+Scoresheet!$W9)=0,0,ROUND(Scoresheet!O9/(Scoresheet!$O9+Scoresheet!$P9+Scoresheet!$Q9+Scoresheet!$R9+Scoresheet!$S9+Scoresheet!$T9+Scoresheet!$U9+Scoresheet!$V9+Scoresheet!$W9),2))),"ERR!")) -> 0 | L9: =(IF(OR((Scoresheet!$O9+ABS(Scoresheet!$P9-Scoresheet!$O9)+ABS(Scoresheet!$Q9-Scoresheet!$P9)+ABS(Scoresheet!$R9-Scoresheet!$Q9)+ABS(Scoresheet!$S9-Scoresheet!$R9)+ABS(Scoresheet!$T9-Scoresheet!$S9)+ABS(Scoresheet!$U9-Scoresheet!$T9)+ABS(Scoresheet!$V9-Scoresheet!$U9)+ABS(Scoresheet!$W9-Scoresheet!$V9)+Scoresheet!$W9)=2,(Scoresheet!$O9+ABS(Scoresheet!$P9-Scoresheet!$O9)+ABS(Scoresheet!$Q9-Scoresheet!$P9)+ABS(Scoresheet!$R9-Scoresheet!$Q9)+ABS(Scoresheet!$S9-Scoresheet!$R9)+ABS(Scoresheet!$T9-Scoresheet!$S9)+ABS(Scoresheet!$U9-Scoresheet!$T9)+ABS(Scoresheet!$V9-Scoresheet!$U9)+ABS(Scoresheet!$W9-Scoresheet!$V9)+Scoresheet!$W9)=0),(IF((Scoresheet!$O9+Scoresheet!$P9+Scoresheet!$Q9+Scoresheet!$R9+Scoresheet!$S9+Scoresheet!$T9+Scoresheet!$U9+Scoresheet!$V9+Scoresheet!$W9)=0,0,ROUND(Scoresheet!P9/(Scoresheet!$O9+Scoresheet!$P9+Scoresheet!$Q9+Scoresheet!$R9+Scoresheet!$S9+Scoresheet!$T9+Scoresheet!$U9+Scoresheet!$V9+Scoresheet!$W9),2))),"ERR!")) -> 0 | M9: =(IF(OR((Scoresheet!$O9+ABS(Scoresheet!$P9-Scoresheet!$O9)+ABS(Scoresheet!$Q9-Scoresheet!$P9)+ABS(Scoresheet!$R9-Scoresheet!$Q9)+ABS(Scoresheet!$S9-Scoresheet!$R9)+ABS(Scoresheet!$T9-Scoresheet!$S9)+ABS(Scoresheet!$U9-Scoresheet!$T9)+ABS(Scoresheet!$V9-Scoresheet!$U9)+ABS(Scoresheet!$W9-Scoresheet!$V9)+Scoresheet!$W9)=2,(Scoresheet!$O9+ABS(Scoresheet!$P9-Scoresheet!$O9)+ABS(Scoresheet!$Q9-Scoresheet!$P9)+ABS(Scoresheet!$R9-Scoresheet!$Q9)+ABS(Scoresheet!$S9-Scoresheet!$R9)+ABS(Scoresheet!$T9-Scoresheet!$S9)+ABS(Scoresheet!$U9-Scoresheet!$T9)+ABS(Scoresheet!$V9-Scoresheet!$U9)+ABS(Scoresheet!$W9-Scoresheet!$V9)+Scoresheet!$W9)=0),(IF((Scoresheet!$O9+Scoresheet!$P9+Scoresheet!$Q9+Scoresheet!$R9+Scoresheet!$S9+Scoresheet!$T9+Scoresheet!$U9+Scoresheet!$V9+Scoresheet!$W9)=0,0,ROUND(Scoresheet!Q9/(Scoresheet!$O9+Scoresheet!$P9+Scoresheet!$Q9+Scoresheet!$R9+Scoresheet!$S9+Scoresheet!$T9+Scoresheet!$U9+Scoresheet!$V9+Scoresheet!$W9),2))),"ERR!")) -> 0 | N9: =(IF(OR((Scoresheet!$O9+ABS(Scoresheet!$P9-Scoresheet!$O9)+ABS(Scoresheet!$Q9-Scoresheet!$P9)+ABS(Scoresheet!$R9-Scoresheet!$Q9)+ABS(Scoresheet!$S9-Scoresheet!$R9)+ABS(Scoresheet!$T9-Scoresheet!$S9)+ABS(Scoresheet!$U9-Scoresheet!$T9)+ABS(Scoresheet!$V9-Scoresheet!$U9)+ABS(Scoresheet!$W9-Scoresheet!$V9)+Scoresheet!$W9)=2,(Scoresheet!$O9+ABS(Scoresheet!$P9-Scoresheet!$O9)+ABS(Scoresheet!$Q9-Scoresheet!$P9)+ABS(Scoresheet!$R9-Scoresheet!$Q9)+ABS(Scoresheet!$S9-Scoresheet!$R9)+ABS(Scoresheet!$T9-Scoresheet!$S9)+ABS(Scoresheet!$U9-Scoresheet!$T9)+ABS(Scoresheet!$V9-Scoresheet!$U9)+ABS(Scoresheet!$W9-Scoresheet!$V9)+Scoresheet!$W9)=0),(IF((Scoresheet!$O9+Scoresheet!$P9+Scoresheet!$Q9+Scoresheet!$R9+Scoresheet!$S9+Scoresheet!$T9+Scoresheet!$U9+Scoresheet!$V9+Scoresheet!$W9)=0,0,ROUND(Scoresheet!R9/(Scoresheet!$O9+Scoresheet!$P9+Scoresheet!$Q9+Scoresheet!$R9+Scoresheet!$S9+Scoresheet!$T9+Scoresheet!$U9+Scoresheet!$V9+Scoresheet!$W9),2))),"ERR!")) -> 0 | O9: =(IF(OR((Scoresheet!$O9+ABS(Scoresheet!$P9-Scoresheet!$O9)+ABS(Scoresheet!$Q9-Scoresheet!$P9)+ABS(Scoresheet!$R9-Scoresheet!$Q9)+ABS(Scoresheet!$S9-Scoresheet!$R9)+ABS(Scoresheet!$T9-Scoresheet!$S9)+ABS(Scoresheet!$U9-Scoresheet!$T9)+ABS(Scoresheet!$V9-Scoresheet!$U9)+ABS(Scoresheet!$W9-Scoresheet!$V9)+Scoresheet!$W9)=2,(Scoresheet!$O9+ABS(Scoresheet!$P9-Scoresheet!$O9)+ABS(Scoresheet!$Q9-Scoresheet!$P9)+ABS(Scoresheet!$R9-Scoresheet!$Q9)+ABS(Scoresheet!$S9-Scoresheet!$R9)+ABS(Scoresheet!$T9-Scoresheet!$S9)+ABS(Scoresheet!$U9-Scoresheet!$T9)+ABS(Scoresheet!$V9-Scoresheet!$U9)+ABS(Scoresheet!$W9-Scoresheet!$V9)+Scoresheet!$W9)=0),(IF((Scoresheet!$O9+Scoresheet!$P9+Scoresheet!$Q9+Scoresheet!$R9+Scoresheet!$S9+Scoresheet!$T9+Scoresheet!$U9+Scoresheet!$V9+Scoresheet!$W9)=0,0,ROUND(Scoresheet!S9/(Scoresheet!$O9+Scoresheet!$P9+Scoresheet!$Q9+Scoresheet!$R9+Scoresheet!$S9+Scoresheet!$T9+Scoresheet!$U9+Scoresheet!$V9+Scoresheet!$W9),2))),"ERR!")) -> 0.2 | P9: =(IF(OR((Scoresheet!$O9+ABS(Scoresheet!$P9-Scoresheet!$O9)+ABS(Scoresheet!$Q9-Scoresheet!$P9)+ABS(Scoresheet!$R9-Scoresheet!$Q9)+ABS(Scoresheet!$S9-Scoresheet!$R9)+ABS(Scoresheet!$T9-Scoresheet!$S9)+ABS(Scoresheet!$U9-Scoresheet!$T9)+ABS(Scoresheet!$V9-Scoresheet!$U9)+ABS(Scoresheet!$W9-Scoresheet!$V9)+Scoresheet!$W9)=2,(Scoresheet!$O9+ABS(Scoresheet!$P9-Scoresheet!$O9)+ABS(Scoresheet!$Q9-Scoresheet!$P9)+ABS(Scoresheet!$R9-Scoresheet!$Q9)+ABS(Scoresheet!$S9-Scoresheet!$R9)+ABS(Scoresheet!$T9-Scoresheet!$S9)+ABS(Scoresheet!$U9-Scoresheet!$T9)+ABS(Scoresheet!$V9-Scoresheet!$U9)+ABS(Scoresheet!$W9-Scoresheet!$V9)+Scoresheet!$W9)=0),(IF((Scoresheet!$O9+Scoresheet!$P9+Scoresheet!$Q9+Scoresheet!$R9+Scoresheet!$S9+Scoresheet!$T9+Scoresheet!$U9+Scoresheet!$V9+Scoresheet!$W9)=0,0,ROUND(Scoresheet!T9/(Scoresheet!$O9+Scoresheet!$P9+Scoresheet!$Q9+Scoresheet!$R9+Scoresheet!$S9+Scoresheet!$T9+Scoresheet!$U9+Scoresheet!$V9+Scoresheet!$W9),2))),"ERR!")) -> 0.2 | Q9: =(IF(OR((Scoresheet!$O9+ABS(Scoresheet!$P9-Scoresheet!$O9)+ABS(Scoresheet!$Q9-Scoresheet!$P9)+ABS(Scoresheet!$R9-Scoresheet!$Q9)+ABS(Scoresheet!$S9-Scoresheet!$R9)+ABS(Scoresheet!$T9-Scoresheet!$S9)+ABS(Scoresheet!$U9-Scoresheet!$T9)+ABS(Scoresheet!$V9-Scoresheet!$U9)+ABS(Scoresheet!$W9-Scoresheet!$V9)+Scoresheet!$W9)=2,(Scoresheet!$O9+ABS(Scoresheet!$P9-Scoresheet!$O9)+ABS(Scoresheet!$Q9-Scoresheet!$P9)+ABS(Scoresheet!$R9-Scoresheet!$Q9)+ABS(Scoresheet!$S9-Scoresheet!$R9)+ABS(Scoresheet!$T9-Scoresheet!$S9)+ABS(Scoresheet!$U9-Scoresheet!$T9)+ABS(Scoresheet!$V9-Scoresheet!$U9)+ABS(Scoresheet!$W9-Scoresheet!$V9)+Scoresheet!$W9)=0),(IF((Scoresheet!$O9+Scoresheet!$P9+Scoresheet!$Q9+Scoresheet!$R9+Scoresheet!$S9+Scoresheet!$T9+Scoresheet!$U9+Scoresheet!$V9+Scoresheet!$W9)=0,0,ROUND(Scoresheet!U9/(Scoresheet!$O9+Scoresheet!$P9+Scoresheet!$Q9+Scoresheet!$R9+Scoresheet!$S9+Scoresheet!$T9+Scoresheet!$U9+Scoresheet!$V9+Scoresheet!$W9),2))),"ERR!")) -> 0.2 | R9: =(IF(OR((Scoresheet!$O9+ABS(Scoresheet!$P9-Scoresheet!$O9)+ABS(Scoresheet!$Q9-Scoresheet!$P9)+ABS(Scoresheet!$R9-Scoresheet!$Q9)+ABS(Scoresheet!$S9-Scoresheet!$R9)+ABS(Scoresheet!$T9-Scoresheet!$S9)+ABS(Scoresheet!$U9-Scoresheet!$T9)+ABS(Scoresheet!$V9-Scoresheet!$U9)+ABS(Scoresheet!$W9-Scoresheet!$V9)+Scoresheet!$W9)=2,(Scoresheet!$O9+ABS(Scoresheet!$P9-Scoresheet!$O9)+ABS(Scoresheet!$Q9-Scoresheet!$P9)+ABS(Scoresheet!$R9-Scoresheet!$Q9)+ABS(Scoresheet!$S9-Scoresheet!$R9)+ABS(Scoresheet!$T9-Scoresheet!$S9)+ABS(Scoresheet!$U9-Scoresheet!$T9)+ABS(Scoresheet!$V9-Scoresheet!$U9)+ABS(Scoresheet!$W9-Scoresheet!$V9)+Scoresheet!$W9)=0),(IF((Scoresheet!$O9+Scoresheet!$P9+Scoresheet!$Q9+Scoresheet!$R9+Scoresheet!$S9+Scoresheet!$T9+Scoresheet!$U9+Scoresheet!$V9+Scoresheet!$W9)=0,0,ROUND(Scoresheet!V9/(Scoresheet!$O9+Scoresheet!$P9+Scoresheet!$Q9+Scoresheet!$R9+Scoresheet!$S9+Scoresheet!$T9+Scoresheet!$U9+Scoresheet!$V9+Scoresheet!$W9),2))),"ERR!")) -> 0.2 | S9: =(IF(OR((Scoresheet!$O9+ABS(Scoresheet!$P9-Scoresheet!$O9)+ABS(Scoresheet!$Q9-Scoresheet!$P9)+ABS(Scoresheet!$R9-Scoresheet!$Q9)+ABS(Scoresheet!$S9-Scoresheet!$R9)+ABS(Scoresheet!$T9-Scoresheet!$S9)+ABS(Scoresheet!$U9-Scoresheet!$T9)+ABS(Scoresheet!$V9-Scoresheet!$U9)+ABS(Scoresheet!$W9-Scoresheet!$V9)+Scoresheet!$W9)=2,(Scoresheet!$O9+ABS(Scoresheet!$P9-Scoresheet!$O9)+ABS(Scoresheet!$Q9-Scoresheet!$P9)+ABS(Scoresheet!$R9-Scoresheet!$Q9)+ABS(Scoresheet!$S9-Scoresheet!$R9)+ABS(Scoresheet!$T9-Scoresheet!$S9)+ABS(Scoresheet!$U9-Scoresheet!$T9)+ABS(Scoresheet!$V9-Scoresheet!$U9)+ABS(Scoresheet!$W9-Scoresheet!$V9)+Scoresheet!$W9)=0),(IF((Scoresheet!$O9+Scoresheet!$P9+Scoresheet!$Q9+Scoresheet!$R9+Scoresheet!$S9+Scoresheet!$T9+Scoresheet!$U9+Scoresheet!$V9+Scoresheet!$W9)=0,0,ROUND(Scoresheet!W9/(Scoresheet!$O9+Scoresheet!$P9+Scoresheet!$Q9+Scoresheet!$R9+Scoresheet!$S9+Scoresheet!$T9+Scoresheet!$U9+Scoresheet!$V9+Scoresheet!$W9),2))),"ERR!")) -> 0.2 | T9: =Scoresheet!X9 -> 0 | U9: =IF((Scoresheet!$Y9+Scoresheet!$Z9+Scoresheet!$AA9)=0,0,FLOOR(Scoresheet!Y9/(Scoresheet!$Y9+Scoresheet!$Z9+Scoresheet!$AA9),0.01)) -> 0 | V9: =IF((Scoresheet!$Y9+Scoresheet!$Z9+Scoresheet!$AA9)=0,0,FLOOR(Scoresheet!Z9/(Scoresheet!$Y9+Scoresheet!$Z9+Scoresheet!$AA9),0.01)) -> 1 | W9: =IF((Scoresheet!$Y9+Scoresheet!$Z9+Scoresheet!$AA9)=0,0,FLOOR(Scoresheet!AA9/(Scoresheet!$Y9+Scoresheet!$Z9+Scoresheet!$AA9),0.01)) -> 0 | X9: =IF((Scoresheet!$AB9+Scoresheet!$AC9+Scoresheet!$AD9)=0,0,FLOOR(Scoresheet!AB9/(Scoresheet!$AB9+Scoresheet!$AC9+Scoresheet!$AD9),0.01)) -> 1 | Y9: =IF((Scoresheet!$AB9+Scoresheet!$AC9+Scoresheet!$AD9)=0,0,FLOOR(Scoresheet!AC9/(Scoresheet!$AB9+Scoresheet!$AC9+Scoresheet!$AD9),0.01)) -> 0 | Z9: =IF((Scoresheet!$AB9+Scoresheet!$AC9+Scoresheet!$AD9)=0,0,FLOOR(Scoresheet!AD9/(Scoresheet!$AB9+Scoresheet!$AC9+Scoresheet!$AD9),0.01)) -> 0 | AA9: =IF(OR((Scoresheet!$AE9+ABS(Scoresheet!$AF9-Scoresheet!$AE9)+ABS(Scoresheet!$AG9-Scoresheet!$AF9)+ABS(Scoresheet!$AH9-Scoresheet!$AG9)+ABS(Scoresheet!$AI9-Scoresheet!$AH9)+Scoresheet!$AI9)=2,(Scoresheet!$AE9+ABS(Scoresheet!$AF9-Scoresheet!$AE9)+ABS(Scoresheet!$AG9-Scoresheet!$AF9)+ABS(Scoresheet!$AH9-Scoresheet!$AG9)+ABS(Scoresheet!$AI9-Scoresheet!$AH9)+Scoresheet!$AI9)=0),(IF((Scoresheet!$AE9+Scoresheet!$AF9+Scoresheet!$AG9+Scoresheet!$AH9+Scoresheet!$AI9)=0,0,ROUND(Scoresheet!AE9/(Scoresheet!$AE9+Scoresheet!$AF9+Scoresheet!$AG9+Scoresheet!$AH9+Scoresheet!$AI9),2))),"ERR!") -> 0 | AB9: =IF(OR((Scoresheet!$AE9+ABS(Scoresheet!$AF9-Scoresheet!$AE9)+ABS(Scoresheet!$AG9-Scoresheet!$AF9)+ABS(Scoresheet!$AH9-Scoresheet!$AG9)+ABS(Scoresheet!$AI9-Scoresheet!$AH9)+Scoresheet!$AI9)=2,(Scoresheet!$AE9+ABS(Scoresheet!$AF9-Scoresheet!$AE9)+ABS(Scoresheet!$AG9-Scoresheet!$AF9)+ABS(Scoresheet!$AH9-Scoresheet!$AG9)+ABS(Scoresheet!$AI9-Scoresheet!$AH9)+Scoresheet!$AI9)=0),(IF((Scoresheet!$AE9+Scoresheet!$AF9+Scoresheet!$AG9+Scoresheet!$AH9+Scoresheet!$AI9)=0,0,ROUND(Scoresheet!AF9/(Scoresheet!$AE9+Scoresheet!$AF9+Scoresheet!$AG9+Scoresheet!$AH9+Scoresheet!$AI9),2))),"ERR!") -> 1 | AC9: =IF(OR((Scoresheet!$AE9+ABS(Scoresheet!$AF9-Scoresheet!$AE9)+ABS(Scoresheet!$AG9-Scoresheet!$AF9)+ABS(Scoresheet!$AH9-Scoresheet!$AG9)+ABS(Scoresheet!$AI9-Scoresheet!$AH9)+Scoresheet!$AI9)=2,(Scoresheet!$AE9+ABS(Scoresheet!$AF9-Scoresheet!$AE9)+ABS(Scoresheet!$AG9-Scoresheet!$AF9)+ABS(Scoresheet!$AH9-Scoresheet!$AG9)+ABS(Scoresheet!$AI9-Scoresheet!$AH9)+Scoresheet!$AI9)=0),(IF((Scoresheet!$AE9+Scoresheet!$AF9+Scoresheet!$AG9+Scoresheet!$AH9+Scoresheet!$AI9)=0,0,ROUND(Scoresheet!AG9/(Scoresheet!$AE9+Scoresheet!$AF9+Scoresheet!$AG9+Scoresheet!$AH9+Scoresheet!$AI9),2))),"ERR!") -> 0 | AD9: =IF(OR((Scoresheet!$AE9+ABS(Scoresheet!$AF9-Scoresheet!$AE9)+ABS(Scoresheet!$AG9-Scoresheet!$AF9)+ABS(Scoresheet!$AH9-Scoresheet!$AG9)+ABS(Scoresheet!$AI9-Scoresheet!$AH9)+Scoresheet!$AI9)=2,(Scoresheet!$AE9+ABS(Scoresheet!$AF9-Scoresheet!$AE9)+ABS(Scoresheet!$AG9-Scoresheet!$AF9)+ABS(Scoresheet!$AH9-Scoresheet!$AG9)+ABS(Scoresheet!$AI9-Scoresheet!$AH9)+Scoresheet!$AI9)=0),(IF((Scoresheet!$AE9+Scoresheet!$AF9+Scoresheet!$AG9+Scoresheet!$AH9+Scoresheet!$AI9)=0,0,ROUND(Scoresheet!AH9/(Scoresheet!$AE9+Scoresheet!$AF9+Scoresheet!$AG9+Scoresheet!$AH9+Scoresheet!$AI9),2))),"ERR!") -> 0 | AE9: =IF(OR((Scoresheet!$AE9+ABS(Scoresheet!$AF9-Scoresheet!$AE9)+ABS(Scoresheet!$AG9-Scoresheet!$AF9)+ABS(Scoresheet!$AH9-Scoresheet!$AG9)+ABS(Scoresheet!$AI9-Scoresheet!$AH9)+Scoresheet!$AI9)=2,(Scoresheet!$AE9+ABS(Scoresheet!$AF9-Scoresheet!$AE9)+ABS(Scoresheet!$AG9-Scoresheet!$AF9)+ABS(Scoresheet!$AH9-Scoresheet!$AG9)+ABS(Scoresheet!$AI9-Scoresheet!$AH9)+Scoresheet!$AI9)=0),(IF((Scoresheet!$AE9+Scoresheet!$AF9+Scoresheet!$AG9+Scoresheet!$AH9+Scoresheet!$AI9)=0,0,ROUND(Scoresheet!AI9/(Scoresheet!$AE9+Scoresheet!$AF9+Scoresheet!$AG9+Scoresheet!$AH9+Scoresheet!$AI9),2))),"ERR!") -> 0 | AF9: =IF((Scoresheet!$AJ9+Scoresheet!$AK9+Scoresheet!$AL9)=0,0,FLOOR(Scoresheet!AJ9/(Scoresheet!$AJ9+Scoresheet!$AK9+Scoresheet!$AL9),0.01)) -> 0 | AG9: =IF((Scoresheet!$AJ9+Scoresheet!$AK9+Scoresheet!$AL9)=0,0,FLOOR(Scoresheet!AK9/(Scoresheet!$AJ9+Scoresheet!$AK9+Scoresheet!$AL9),0.01)) -> 0 | AH9: =IF((Scoresheet!$AJ9+Scoresheet!$AK9+Scoresheet!$AL9)=0,0,FLOOR(Scoresheet!AL9/(Scoresheet!$AJ9+Scoresheet!$AK9+Scoresheet!$AL9),0.01)) -> 1 | AQ9: =IF((B9)>0,1,0) -> 1 | AR9: =IF(C9+D9>0,1,0) -> 1 | AS9: =IF(E9>0,1,0) -> 0 | AT9: =IF(F9>0,1,0) -> 1 | AU9: =IF(G9>0,1,0) -> 1 | AV9: =IF(H9>0,1,0) -> 1 | AW9: =IF(I9>0,1,0) -> 0 | AX9: =IF(J9>0,1,0) -> 1 | AY9: =IF(K9>0,1,0) -> 0 | AZ9: =IF(L9>0,1,0) -> 0 | ... BV9: =IF(AH9>0,1,0) -> 1 | BX9: =AR9 -> 1 | BY9: =IF(AS9+AT9+AU9+AV9+AW9+AX9>0,1,0) -> 1 | BZ9: =IF(AY9+AZ9+BA9+BB9+BC9+BD9+BE9+BF9+BG9>0,1,0) -> 1 | CA9: =IF(BH9+BI9+BJ9+BK9>0,1,0) -> 1 | CB9: =IF(BL9+BM9+BN9>0,1,0) -> 1 | CC9: =IF(BO9+BP9+BQ9+BR9+BS9>0,1,0) -> 1 | CD9: =IF(BT9+BU9+BV9>0,1,0) -> 1
A10: =IF(B10>0,(ROW(A10)-6),0) -> 4 | B10: =Scoresheet!B10 -> T cuneatum | C10: =IF(Scoresheet!C10=0,0,Scoresheet!C10/(Scoresheet!C10+Scoresheet!D10)) -> 1 | D10: =IF(Scoresheet!D10=0,0,Scoresheet!D10/(Scoresheet!C10+Scoresheet!D10)) -> 0 | E10: =IF(Scoresheet!E10=0,0,Scoresheet!E10/(Scoresheet!E10+Scoresheet!F10)) -> 0 | F10: =IF(Scoresheet!G10=0,0,Scoresheet!G10/(Scoresheet!G10+Scoresheet!H10)*(IF(Result!E10=0,1,Result!E10))) -> 1 | G10: =IF(Scoresheet!I10=0,0,Scoresheet!I10/(Scoresheet!I10+Scoresheet!J10)*(IF(Result!E10=0,1,Result!E10))) -> 1 | H10: =IF(Scoresheet!K10=0,0,Scoresheet!K10/(Scoresheet!L10+Scoresheet!K10)*(IF(Result!E10=0,1,Result!E10))) -> 1 | I10: =IF(Scoresheet!L10=0,0,Scoresheet!L10/(Scoresheet!K10+Scoresheet!L10)*(IF(Result!E10=0,1,Result!E10))) -> 0 | J10: =IF(Scoresheet!M10=0,0,Scoresheet!M10/(Scoresheet!M10+Scoresheet!N10)) -> 0 | K10: =(IF(OR((Scoresheet!$O10+ABS(Scoresheet!$P10-Scoresheet!$O10)+ABS(Scoresheet!$Q10-Scoresheet!$P10)+ABS(Scoresheet!$R10-Scoresheet!$Q10)+ABS(Scoresheet!$S10-Scoresheet!$R10)+ABS(Scoresheet!$T10-Scoresheet!$S10)+ABS(Scoresheet!$U10-Scoresheet!$T10)+ABS(Scoresheet!$V10-Scoresheet!$U10)+ABS(Scoresheet!$W10-Scoresheet!$V10)+Scoresheet!$W10)=2,(Scoresheet!$O10+ABS(Scoresheet!$P10-Scoresheet!$O10)+ABS(Scoresheet!$Q10-Scoresheet!$P10)+ABS(Scoresheet!$R10-Scoresheet!$Q10)+ABS(Scoresheet!$S10-Scoresheet!$R10)+ABS(Scoresheet!$T10-Scoresheet!$S10)+ABS(Scoresheet!$U10-Scoresheet!$T10)+ABS(Scoresheet!$V10-Scoresheet!$U10)+ABS(Scoresheet!$W10-Scoresheet!$V10)+Scoresheet!$W10)=0),(IF((Scoresheet!$O10+Scoresheet!$P10+Scoresheet!$Q10+Scoresheet!$R10+Scoresheet!$S10+Scoresheet!$T10+Scoresheet!$U10+Scoresheet!$V10+Scoresheet!$W10)=0,0,ROUND(Scoresheet!O10/(Scoresheet!$O10+Scoresheet!$P10+Scoresheet!$Q10+Scoresheet!$R10+Scoresheet!$S10+Scoresheet!$T10+Scoresheet!$U10+Scoresheet!$V10+Scoresheet!$W10),2))),"ERR!")) -> 0 | L10: =(IF(OR((Scoresheet!$O10+ABS(Scoresheet!$P10-Scoresheet!$O10)+ABS(Scoresheet!$Q10-Scoresheet!$P10)+ABS(Scoresheet!$R10-Scoresheet!$Q10)+ABS(Scoresheet!$S10-Scoresheet!$R10)+ABS(Scoresheet!$T10-Scoresheet!$S10)+ABS(Scoresheet!$U10-Scoresheet!$T10)+ABS(Scoresheet!$V10-Scoresheet!$U10)+ABS(Scoresheet!$W10-Scoresheet!$V10)+Scoresheet!$W10)=2,(Scoresheet!$O10+ABS(Scoresheet!$P10-Scoresheet!$O10)+ABS(Scoresheet!$Q10-Scoresheet!$P10)+ABS(Scoresheet!$R10-Scoresheet!$Q10)+ABS(Scoresheet!$S10-Scoresheet!$R10)+ABS(Scoresheet!$T10-Scoresheet!$S10)+ABS(Scoresheet!$U10-Scoresheet!$T10)+ABS(Scoresheet!$V10-Scoresheet!$U10)+ABS(Scoresheet!$W10-Scoresheet!$V10)+Scoresheet!$W10)=0),(IF((Scoresheet!$O10+Scoresheet!$P10+Scoresheet!$Q10+Scoresheet!$R10+Scoresheet!$S10+Scoresheet!$T10+Scoresheet!$U10+Scoresheet!$V10+Scoresheet!$W10)=0,0,ROUND(Scoresheet!P10/(Scoresheet!$O10+Scoresheet!$P10+Scoresheet!$Q10+Scoresheet!$R10+Scoresheet!$S10+Scoresheet!$T10+Scoresheet!$U10+Scoresheet!$V10+Scoresheet!$W10),2))),"ERR!")) -> 0 | M10: =(IF(OR((Scoresheet!$O10+ABS(Scoresheet!$P10-Scoresheet!$O10)+ABS(Scoresheet!$Q10-Scoresheet!$P10)+ABS(Scoresheet!$R10-Scoresheet!$Q10)+ABS(Scoresheet!$S10-Scoresheet!$R10)+ABS(Scoresheet!$T10-Scoresheet!$S10)+ABS(Scoresheet!$U10-Scoresheet!$T10)+ABS(Scoresheet!$V10-Scoresheet!$U10)+ABS(Scoresheet!$W10-Scoresheet!$V10)+Scoresheet!$W10)=2,(Scoresheet!$O10+ABS(Scoresheet!$P10-Scoresheet!$O10)+ABS(Scoresheet!$Q10-Scoresheet!$P10)+ABS(Scoresheet!$R10-Scoresheet!$Q10)+ABS(Scoresheet!$S10-Scoresheet!$R10)+ABS(Scoresheet!$T10-Scoresheet!$S10)+ABS(Scoresheet!$U10-Scoresheet!$T10)+ABS(Scoresheet!$V10-Scoresheet!$U10)+ABS(Scoresheet!$W10-Scoresheet!$V10)+Scoresheet!$W10)=0),(IF((Scoresheet!$O10+Scoresheet!$P10+Scoresheet!$Q10+Scoresheet!$R10+Scoresheet!$S10+Scoresheet!$T10+Scoresheet!$U10+Scoresheet!$V10+Scoresheet!$W10)=0,0,ROUND(Scoresheet!Q10/(Scoresheet!$O10+Scoresheet!$P10+Scoresheet!$Q10+Scoresheet!$R10+Scoresheet!$S10+Scoresheet!$T10+Scoresheet!$U10+Scoresheet!$V10+Scoresheet!$W10),2))),"ERR!")) -> 0 | N10: =(IF(OR((Scoresheet!$O10+ABS(Scoresheet!$P10-Scoresheet!$O10)+ABS(Scoresheet!$Q10-Scoresheet!$P10)+ABS(Scoresheet!$R10-Scoresheet!$Q10)+ABS(Scoresheet!$S10-Scoresheet!$R10)+ABS(Scoresheet!$T10-Scoresheet!$S10)+ABS(Scoresheet!$U10-Scoresheet!$T10)+ABS(Scoresheet!$V10-Scoresheet!$U10)+ABS(Scoresheet!$W10-Scoresheet!$V10)+Scoresheet!$W10)=2,(Scoresheet!$O10+ABS(Scoresheet!$P10-Scoresheet!$O10)+ABS(Scoresheet!$Q10-Scoresheet!$P10)+ABS(Scoresheet!$R10-Scoresheet!$Q10)+ABS(Scoresheet!$S10-Scoresheet!$R10)+ABS(Scoresheet!$T10-Scoresheet!$S10)+ABS(Scoresheet!$U10-Scoresheet!$T10)+ABS(Scoresheet!$V10-Scoresheet!$U10)+ABS(Scoresheet!$W10-Scoresheet!$V10)+Scoresheet!$W10)=0),(IF((Scoresheet!$O10+Scoresheet!$P10+Scoresheet!$Q10+Scoresheet!$R10+Scoresheet!$S10+Scoresheet!$T10+Scoresheet!$U10+Scoresheet!$V10+Scoresheet!$W10)=0,0,ROUND(Scoresheet!R10/(Scoresheet!$O10+Scoresheet!$P10+Scoresheet!$Q10+Scoresheet!$R10+Scoresheet!$S10+Scoresheet!$T10+Scoresheet!$U10+Scoresheet!$V10+Scoresheet!$W10),2))),"ERR!")) -> 0 | O10: =(IF(OR((Scoresheet!$O10+ABS(Scoresheet!$P10-Scoresheet!$O10)+ABS(Scoresheet!$Q10-Scoresheet!$P10)+ABS(Scoresheet!$R10-Scoresheet!$Q10)+ABS(Scoresheet!$S10-Scoresheet!$R10)+ABS(Scoresheet!$T10-Scoresheet!$S10)+ABS(Scoresheet!$U10-Scoresheet!$T10)+ABS(Scoresheet!$V10-Scoresheet!$U10)+ABS(Scoresheet!$W10-Scoresheet!$V10)+Scoresheet!$W10)=2,(Scoresheet!$O10+ABS(Scoresheet!$P10-Scoresheet!$O10)+ABS(Scoresheet!$Q10-Scoresheet!$P10)+ABS(Scoresheet!$R10-Scoresheet!$Q10)+ABS(Scoresheet!$S10-Scoresheet!$R10)+ABS(Scoresheet!$T10-Scoresheet!$S10)+ABS(Scoresheet!$U10-Scoresheet!$T10)+ABS(Scoresheet!$V10-Scoresheet!$U10)+ABS(Scoresheet!$W10-Scoresheet!$V10)+Scoresheet!$W10)=0),(IF((Scoresheet!$O10+Scoresheet!$P10+Scoresheet!$Q10+Scoresheet!$R10+Scoresheet!$S10+Scoresheet!$T10+Scoresheet!$U10+Scoresheet!$V10+Scoresheet!$W10)=0,0,ROUND(Scoresheet!S10/(Scoresheet!$O10+Scoresheet!$P10+Scoresheet!$Q10+Scoresheet!$R10+Scoresheet!$S10+Scoresheet!$T10+Scoresheet!$U10+Scoresheet!$V10+Scoresheet!$W10),2))),"ERR!")) -> 1 | P10: =(IF(OR((Scoresheet!$O10+ABS(Scoresheet!$P10-Scoresheet!$O10)+ABS(Scoresheet!$Q10-Scoresheet!$P10)+ABS(Scoresheet!$R10-Scoresheet!$Q10)+ABS(Scoresheet!$S10-Scoresheet!$R10)+ABS(Scoresheet!$T10-Scoresheet!$S10)+ABS(Scoresheet!$U10-Scoresheet!$T10)+ABS(Scoresheet!$V10-Scoresheet!$U10)+ABS(Scoresheet!$W10-Scoresheet!$V10)+Scoresheet!$W10)=2,(Scoresheet!$O10+ABS(Scoresheet!$P10-Scoresheet!$O10)+ABS(Scoresheet!$Q10-Scoresheet!$P10)+ABS(Scoresheet!$R10-Scoresheet!$Q10)+ABS(Scoresheet!$S10-Scoresheet!$R10)+ABS(Scoresheet!$T10-Scoresheet!$S10)+ABS(Scoresheet!$U10-Scoresheet!$T10)+ABS(Scoresheet!$V10-Scoresheet!$U10)+ABS(Scoresheet!$W10-Scoresheet!$V10)+Scoresheet!$W10)=0),(IF((Scoresheet!$O10+Scoresheet!$P10+Scoresheet!$Q10+Scoresheet!$R10+Scoresheet!$S10+Scoresheet!$T10+Scoresheet!$U10+Scoresheet!$V10+Scoresheet!$W10)=0,0,ROUND(Scoresheet!T10/(Scoresheet!$O10+Scoresheet!$P10+Scoresheet!$Q10+Scoresheet!$R10+Scoresheet!$S10+Scoresheet!$T10+Scoresheet!$U10+Scoresheet!$V10+Scoresheet!$W10),2))),"ERR!")) -> 0 | Q10: =(IF(OR((Scoresheet!$O10+ABS(Scoresheet!$P10-Scoresheet!$O10)+ABS(Scoresheet!$Q10-Scoresheet!$P10)+ABS(Scoresheet!$R10-Scoresheet!$Q10)+ABS(Scoresheet!$S10-Scoresheet!$R10)+ABS(Scoresheet!$T10-Scoresheet!$S10)+ABS(Scoresheet!$U10-Scoresheet!$T10)+ABS(Scoresheet!$V10-Scoresheet!$U10)+ABS(Scoresheet!$W10-Scoresheet!$V10)+Scoresheet!$W10)=2,(Scoresheet!$O10+ABS(Scoresheet!$P10-Scoresheet!$O10)+ABS(Scoresheet!$Q10-Scoresheet!$P10)+ABS(Scoresheet!$R10-Scoresheet!$Q10)+ABS(Scoresheet!$S10-Scoresheet!$R10)+ABS(Scoresheet!$T10-Scoresheet!$S10)+ABS(Scoresheet!$U10-Scoresheet!$T10)+ABS(Scoresheet!$V10-Scoresheet!$U10)+ABS(Scoresheet!$W10-Scoresheet!$V10)+Scoresheet!$W10)=0),(IF((Scoresheet!$O10+Scoresheet!$P10+Scoresheet!$Q10+Scoresheet!$R10+Scoresheet!$S10+Scoresheet!$T10+Scoresheet!$U10+Scoresheet!$V10+Scoresheet!$W10)=0,0,ROUND(Scoresheet!U10/(Scoresheet!$O10+Scoresheet!$P10+Scoresheet!$Q10+Scoresheet!$R10+Scoresheet!$S10+Scoresheet!$T10+Scoresheet!$U10+Scoresheet!$V10+Scoresheet!$W10),2))),"ERR!")) -> 0 | R10: =(IF(OR((Scoresheet!$O10+ABS(Scoresheet!$P10-Scoresheet!$O10)+ABS(Scoresheet!$Q10-Scoresheet!$P10)+ABS(Scoresheet!$R10-Scoresheet!$Q10)+ABS(Scoresheet!$S10-Scoresheet!$R10)+ABS(Scoresheet!$T10-Scoresheet!$S10)+ABS(Scoresheet!$U10-Scoresheet!$T10)+ABS(Scoresheet!$V10-Scoresheet!$U10)+ABS(Scoresheet!$W10-Scoresheet!$V10)+Scoresheet!$W10)=2,(Scoresheet!$O10+ABS(Scoresheet!$P10-Scoresheet!$O10)+ABS(Scoresheet!$Q10-Scoresheet!$P10)+ABS(Scoresheet!$R10-Scoresheet!$Q10)+ABS(Scoresheet!$S10-Scoresheet!$R10)+ABS(Scoresheet!$T10-Scoresheet!$S10)+ABS(Scoresheet!$U10-Scoresheet!$T10)+ABS(Scoresheet!$V10-Scoresheet!$U10)+ABS(Scoresheet!$W10-Scoresheet!$V10)+Scoresheet!$W10)=0),(IF((Scoresheet!$O10+Scoresheet!$P10+Scoresheet!$Q10+Scoresheet!$R10+Scoresheet!$S10+Scoresheet!$T10+Scoresheet!$U10+Scoresheet!$V10+Scoresheet!$W10)=0,0,ROUND(Scoresheet!V10/(Scoresheet!$O10+Scoresheet!$P10+Scoresheet!$Q10+Scoresheet!$R10+Scoresheet!$S10+Scoresheet!$T10+Scoresheet!$U10+Scoresheet!$V10+Scoresheet!$W10),2))),"ERR!")) -> 0 | S10: =(IF(OR((Scoresheet!$O10+ABS(Scoresheet!$P10-Scoresheet!$O10)+ABS(Scoresheet!$Q10-Scoresheet!$P10)+ABS(Scoresheet!$R10-Scoresheet!$Q10)+ABS(Scoresheet!$S10-Scoresheet!$R10)+ABS(Scoresheet!$T10-Scoresheet!$S10)+ABS(Scoresheet!$U10-Scoresheet!$T10)+ABS(Scoresheet!$V10-Scoresheet!$U10)+ABS(Scoresheet!$W10-Scoresheet!$V10)+Scoresheet!$W10)=2,(Scoresheet!$O10+ABS(Scoresheet!$P10-Scoresheet!$O10)+ABS(Scoresheet!$Q10-Scoresheet!$P10)+ABS(Scoresheet!$R10-Scoresheet!$Q10)+ABS(Scoresheet!$S10-Scoresheet!$R10)+ABS(Scoresheet!$T10-Scoresheet!$S10)+ABS(Scoresheet!$U10-Scoresheet!$T10)+ABS(Scoresheet!$V10-Scoresheet!$U10)+ABS(Scoresheet!$W10-Scoresheet!$V10)+Scoresheet!$W10)=0),(IF((Scoresheet!$O10+Scoresheet!$P10+Scoresheet!$Q10+Scoresheet!$R10+Scoresheet!$S10+Scoresheet!$T10+Scoresheet!$U10+Scoresheet!$V10+Scoresheet!$W10)=0,0,ROUND(Scoresheet!W10/(Scoresheet!$O10+Scoresheet!$P10+Scoresheet!$Q10+Scoresheet!$R10+Scoresheet!$S10+Scoresheet!$T10+Scoresheet!$U10+Scoresheet!$V10+Scoresheet!$W10),2))),"ERR!")) -> 0 | T10: =Scoresheet!X10 -> 0 | U10: =IF((Scoresheet!$Y10+Scoresheet!$Z10+Scoresheet!$AA10)=0,0,FLOOR(Scoresheet!Y10/(Scoresheet!$Y10+Scoresheet!$Z10+Scoresheet!$AA10),0.01)) -> 0 | V10: =IF((Scoresheet!$Y10+Scoresheet!$Z10+Scoresheet!$AA10)=0,0,FLOOR(Scoresheet!Z10/(Scoresheet!$Y10+Scoresheet!$Z10+Scoresheet!$AA10),0.01)) -> 1 | W10: =IF((Scoresheet!$Y10+Scoresheet!$Z10+Scoresheet!$AA10)=0,0,FLOOR(Scoresheet!AA10/(Scoresheet!$Y10+Scoresheet!$Z10+Scoresheet!$AA10),0.01)) -> 0 | X10: =IF((Scoresheet!$AB10+Scoresheet!$AC10+Scoresheet!$AD10)=0,0,FLOOR(Scoresheet!AB10/(Scoresheet!$AB10+Scoresheet!$AC10+Scoresheet!$AD10),0.01)) -> 0 | Y10: =IF((Scoresheet!$AB10+Scoresheet!$AC10+Scoresheet!$AD10)=0,0,FLOOR(Scoresheet!AC10/(Scoresheet!$AB10+Scoresheet!$AC10+Scoresheet!$AD10),0.01)) -> 0 | Z10: =IF((Scoresheet!$AB10+Scoresheet!$AC10+Scoresheet!$AD10)=0,0,FLOOR(Scoresheet!AD10/(Scoresheet!$AB10+Scoresheet!$AC10+Scoresheet!$AD10),0.01)) -> 1 | AA10: =IF(OR((Scoresheet!$AE10+ABS(Scoresheet!$AF10-Scoresheet!$AE10)+ABS(Scoresheet!$AG10-Scoresheet!$AF10)+ABS(Scoresheet!$AH10-Scoresheet!$AG10)+ABS(Scoresheet!$AI10-Scoresheet!$AH10)+Scoresheet!$AI10)=2,(Scoresheet!$AE10+ABS(Scoresheet!$AF10-Scoresheet!$AE10)+ABS(Scoresheet!$AG10-Scoresheet!$AF10)+ABS(Scoresheet!$AH10-Scoresheet!$AG10)+ABS(Scoresheet!$AI10-Scoresheet!$AH10)+Scoresheet!$AI10)=0),(IF((Scoresheet!$AE10+Scoresheet!$AF10+Scoresheet!$AG10+Scoresheet!$AH10+Scoresheet!$AI10)=0,0,ROUND(Scoresheet!AE10/(Scoresheet!$AE10+Scoresheet!$AF10+Scoresheet!$AG10+Scoresheet!$AH10+Scoresheet!$AI10),2))),"ERR!") -> 0 | AB10: =IF(OR((Scoresheet!$AE10+ABS(Scoresheet!$AF10-Scoresheet!$AE10)+ABS(Scoresheet!$AG10-Scoresheet!$AF10)+ABS(Scoresheet!$AH10-Scoresheet!$AG10)+ABS(Scoresheet!$AI10-Scoresheet!$AH10)+Scoresheet!$AI10)=2,(Scoresheet!$AE10+ABS(Scoresheet!$AF10-Scoresheet!$AE10)+ABS(Scoresheet!$AG10-Scoresheet!$AF10)+ABS(Scoresheet!$AH10-Scoresheet!$AG10)+ABS(Scoresheet!$AI10-Scoresheet!$AH10)+Scoresheet!$AI10)=0),(IF((Scoresheet!$AE10+Scoresheet!$AF10+Scoresheet!$AG10+Scoresheet!$AH10+Scoresheet!$AI10)=0,0,ROUND(Scoresheet!AF10/(Scoresheet!$AE10+Scoresheet!$AF10+Scoresheet!$AG10+Scoresheet!$AH10+Scoresheet!$AI10),2))),"ERR!") -> 1 | AC10: =IF(OR((Scoresheet!$AE10+ABS(Scoresheet!$AF10-Scoresheet!$AE10)+ABS(Scoresheet!$AG10-Scoresheet!$AF10)+ABS(Scoresheet!$AH10-Scoresheet!$AG10)+ABS(Scoresheet!$AI10-Scoresheet!$AH10)+Scoresheet!$AI10)=2,(Scoresheet!$AE10+ABS(Scoresheet!$AF10-Scoresheet!$AE10)+ABS(Scoresheet!$AG10-Scoresheet!$AF10)+ABS(Scoresheet!$AH10-Scoresheet!$AG10)+ABS(Scoresheet!$AI10-Scoresheet!$AH10)+Scoresheet!$AI10)=0),(IF((Scoresheet!$AE10+Scoresheet!$AF10+Scoresheet!$AG10+Scoresheet!$AH10+Scoresheet!$AI10)=0,0,ROUND(Scoresheet!AG10/(Scoresheet!$AE10+Scoresheet!$AF10+Scoresheet!$AG10+Scoresheet!$AH10+Scoresheet!$AI10),2))),"ERR!") -> 0 | AD10: =IF(OR((Scoresheet!$AE10+ABS(Scoresheet!$AF10-Scoresheet!$AE10)+ABS(Scoresheet!$AG10-Scoresheet!$AF10)+ABS(Scoresheet!$AH10-Scoresheet!$AG10)+ABS(Scoresheet!$AI10-Scoresheet!$AH10)+Scoresheet!$AI10)=2,(Scoresheet!$AE10+ABS(Scoresheet!$AF10-Scoresheet!$AE10)+ABS(Scoresheet!$AG10-Scoresheet!$AF10)+ABS(Scoresheet!$AH10-Scoresheet!$AG10)+ABS(Scoresheet!$AI10-Scoresheet!$AH10)+Scoresheet!$AI10)=0),(IF((Scoresheet!$AE10+Scoresheet!$AF10+Scoresheet!$AG10+Scoresheet!$AH10+Scoresheet!$AI10)=0,0,ROUND(Scoresheet!AH10/(Scoresheet!$AE10+Scoresheet!$AF10+Scoresheet!$AG10+Scoresheet!$AH10+Scoresheet!$AI10),2))),"ERR!") -> 0 | AE10: =IF(OR((Scoresheet!$AE10+ABS(Scoresheet!$AF10-Scoresheet!$AE10)+ABS(Scoresheet!$AG10-Scoresheet!$AF10)+ABS(Scoresheet!$AH10-Scoresheet!$AG10)+ABS(Scoresheet!$AI10-Scoresheet!$AH10)+Scoresheet!$AI10)=2,(Scoresheet!$AE10+ABS(Scoresheet!$AF10-Scoresheet!$AE10)+ABS(Scoresheet!$AG10-Scoresheet!$AF10)+ABS(Scoresheet!$AH10-Scoresheet!$AG10)+ABS(Scoresheet!$AI10-Scoresheet!$AH10)+Scoresheet!$AI10)=0),(IF((Scoresheet!$AE10+Scoresheet!$AF10+Scoresheet!$AG10+Scoresheet!$AH10+Scoresheet!$AI10)=0,0,ROUND(Scoresheet!AI10/(Scoresheet!$AE10+Scoresheet!$AF10+Scoresheet!$AG10+Scoresheet!$AH10+Scoresheet!$AI10),2))),"ERR!") -> 0 | AF10: =IF((Scoresheet!$AJ10+Scoresheet!$AK10+Scoresheet!$AL10)=0,0,FLOOR(Scoresheet!AJ10/(Scoresheet!$AJ10+Scoresheet!$AK10+Scoresheet!$AL10),0.01)) -> 0 | AG10: =IF((Scoresheet!$AJ10+Scoresheet!$AK10+Scoresheet!$AL10)=0,0,FLOOR(Scoresheet!AK10/(Scoresheet!$AJ10+Scoresheet!$AK10+Scoresheet!$AL10),0.01)) -> 1 | AH10: =IF((Scoresheet!$AJ10+Scoresheet!$AK10+Scoresheet!$AL10)=0,0,FLOOR(Scoresheet!AL10/(Scoresheet!$AJ10+Scoresheet!$AK10+Scoresheet!$AL10),0.01)) -> 0 | AQ10: =IF((B10)>0,1,0) -> 1 | AR10: =IF(C10+D10>0,1,0) -> 1 | AS10: =IF(E10>0,1,0) -> 0 | AT10: =IF(F10>0,1,0) -> 1 | AU10: =IF(G10>0,1,0) -> 1 | AV10: =IF(H10>0,1,0) -> 1 | AW10: =IF(I10>0,1,0) -> 0 | AX10: =IF(J10>0,1,0) -> 0 | AY10: =IF(K10>0,1,0) -> 0 | AZ10: =IF(L10>0,1,0) -> 0 | ... BV10: =IF(AH10>0,1,0) -> 0 | BX10: =AR10 -> 1 | BY10: =IF(AS10+AT10+AU10+AV10+AW10+AX10>0,1,0) -> 1 | BZ10: =IF(AY10+AZ10+BA10+BB10+BC10+BD10+BE10+BF10+BG10>0,1,0) -> 1 | CA10: =IF(BH10+BI10+BJ10+BK10>0,1,0) -> 1 | CB10: =IF(BL10+BM10+BN10>0,1,0) -> 1 | CC10: =IF(BO10+BP10+BQ10+BR10+BS10>0,1,0) -> 1 | CD10: =IF(BT10+BU10+BV10>0,1,0) -> 1
A11: =IF(B11>0,(ROW(A11)-6),0) -> 5 | B11: =Scoresheet!B11 -> T flexuosum | C11: =IF(Scoresheet!C11=0,0,Scoresheet!C11/(Scoresheet!C11+Scoresheet!D11)) -> 1 | D11: =IF(Scoresheet!D11=0,0,Scoresheet!D11/(Scoresheet!C11+Scoresheet!D11)) -> 0 | E11: =IF(Scoresheet!E11=0,0,Scoresheet!E11/(Scoresheet!E11+Scoresheet!F11)) -> 0 | F11: =IF(Scoresheet!G11=0,0,Scoresheet!G11/(Scoresheet!G11+Scoresheet!H11)*(IF(Result!E11=0,1,Result!E11))) -> 1 | G11: =IF(Scoresheet!I11=0,0,Scoresheet!I11/(Scoresheet!I11+Scoresheet!J11)*(IF(Result!E11=0,1,Result!E11))) -> 1 | H11: =IF(Scoresheet!K11=0,0,Scoresheet!K11/(Scoresheet!L11+Scoresheet!K11)*(IF(Result!E11=0,1,Result!E11))) -> 1 | I11: =IF(Scoresheet!L11=0,0,Scoresheet!L11/(Scoresheet!K11+Scoresheet!L11)*(IF(Result!E11=0,1,Result!E11))) -> 0 | J11: =IF(Scoresheet!M11=0,0,Scoresheet!M11/(Scoresheet!M11+Scoresheet!N11)) -> 0 | K11: =(IF(OR((Scoresheet!$O11+ABS(Scoresheet!$P11-Scoresheet!$O11)+ABS(Scoresheet!$Q11-Scoresheet!$P11)+ABS(Scoresheet!$R11-Scoresheet!$Q11)+ABS(Scoresheet!$S11-Scoresheet!$R11)+ABS(Scoresheet!$T11-Scoresheet!$S11)+ABS(Scoresheet!$U11-Scoresheet!$T11)+ABS(Scoresheet!$V11-Scoresheet!$U11)+ABS(Scoresheet!$W11-Scoresheet!$V11)+Scoresheet!$W11)=2,(Scoresheet!$O11+ABS(Scoresheet!$P11-Scoresheet!$O11)+ABS(Scoresheet!$Q11-Scoresheet!$P11)+ABS(Scoresheet!$R11-Scoresheet!$Q11)+ABS(Scoresheet!$S11-Scoresheet!$R11)+ABS(Scoresheet!$T11-Scoresheet!$S11)+ABS(Scoresheet!$U11-Scoresheet!$T11)+ABS(Scoresheet!$V11-Scoresheet!$U11)+ABS(Scoresheet!$W11-Scoresheet!$V11)+Scoresheet!$W11)=0),(IF((Scoresheet!$O11+Scoresheet!$P11+Scoresheet!$Q11+Scoresheet!$R11+Scoresheet!$S11+Scoresheet!$T11+Scoresheet!$U11+Scoresheet!$V11+Scoresheet!$W11)=0,0,ROUND(Scoresheet!O11/(Scoresheet!$O11+Scoresheet!$P11+Scoresheet!$Q11+Scoresheet!$R11+Scoresheet!$S11+Scoresheet!$T11+Scoresheet!$U11+Scoresheet!$V11+Scoresheet!$W11),2))),"ERR!")) -> 0 | L11: =(IF(OR((Scoresheet!$O11+ABS(Scoresheet!$P11-Scoresheet!$O11)+ABS(Scoresheet!$Q11-Scoresheet!$P11)+ABS(Scoresheet!$R11-Scoresheet!$Q11)+ABS(Scoresheet!$S11-Scoresheet!$R11)+ABS(Scoresheet!$T11-Scoresheet!$S11)+ABS(Scoresheet!$U11-Scoresheet!$T11)+ABS(Scoresheet!$V11-Scoresheet!$U11)+ABS(Scoresheet!$W11-Scoresheet!$V11)+Scoresheet!$W11)=2,(Scoresheet!$O11+ABS(Scoresheet!$P11-Scoresheet!$O11)+ABS(Scoresheet!$Q11-Scoresheet!$P11)+ABS(Scoresheet!$R11-Scoresheet!$Q11)+ABS(Scoresheet!$S11-Scoresheet!$R11)+ABS(Scoresheet!$T11-Scoresheet!$S11)+ABS(Scoresheet!$U11-Scoresheet!$T11)+ABS(Scoresheet!$V11-Scoresheet!$U11)+ABS(Scoresheet!$W11-Scoresheet!$V11)+Scoresheet!$W11)=0),(IF((Scoresheet!$O11+Scoresheet!$P11+Scoresheet!$Q11+Scoresheet!$R11+Scoresheet!$S11+Scoresheet!$T11+Scoresheet!$U11+Scoresheet!$V11+Scoresheet!$W11)=0,0,ROUND(Scoresheet!P11/(Scoresheet!$O11+Scoresheet!$P11+Scoresheet!$Q11+Scoresheet!$R11+Scoresheet!$S11+Scoresheet!$T11+Scoresheet!$U11+Scoresheet!$V11+Scoresheet!$W11),2))),"ERR!")) -> 0 | M11: =(IF(OR((Scoresheet!$O11+ABS(Scoresheet!$P11-Scoresheet!$O11)+ABS(Scoresheet!$Q11-Scoresheet!$P11)+ABS(Scoresheet!$R11-Scoresheet!$Q11)+ABS(Scoresheet!$S11-Scoresheet!$R11)+ABS(Scoresheet!$T11-Scoresheet!$S11)+ABS(Scoresheet!$U11-Scoresheet!$T11)+ABS(Scoresheet!$V11-Scoresheet!$U11)+ABS(Scoresheet!$W11-Scoresheet!$V11)+Scoresheet!$W11)=2,(Scoresheet!$O11+ABS(Scoresheet!$P11-Scoresheet!$O11)+ABS(Scoresheet!$Q11-Scoresheet!$P11)+ABS(Scoresheet!$R11-Scoresheet!$Q11)+ABS(Scoresheet!$S11-Scoresheet!$R11)+ABS(Scoresheet!$T11-Scoresheet!$S11)+ABS(Scoresheet!$U11-Scoresheet!$T11)+ABS(Scoresheet!$V11-Scoresheet!$U11)+ABS(Scoresheet!$W11-Scoresheet!$V11)+Scoresheet!$W11)=0),(IF((Scoresheet!$O11+Scoresheet!$P11+Scoresheet!$Q11+Scoresheet!$R11+Scoresheet!$S11+Scoresheet!$T11+Scoresheet!$U11+Scoresheet!$V11+Scoresheet!$W11)=0,0,ROUND(Scoresheet!Q11/(Scoresheet!$O11+Scoresheet!$P11+Scoresheet!$Q11+Scoresheet!$R11+Scoresheet!$S11+Scoresheet!$T11+Scoresheet!$U11+Scoresheet!$V11+Scoresheet!$W11),2))),"ERR!")) -> 0 | N11: =(IF(OR((Scoresheet!$O11+ABS(Scoresheet!$P11-Scoresheet!$O11)+ABS(Scoresheet!$Q11-Scoresheet!$P11)+ABS(Scoresheet!$R11-Scoresheet!$Q11)+ABS(Scoresheet!$S11-Scoresheet!$R11)+ABS(Scoresheet!$T11-Scoresheet!$S11)+ABS(Scoresheet!$U11-Scoresheet!$T11)+ABS(Scoresheet!$V11-Scoresheet!$U11)+ABS(Scoresheet!$W11-Scoresheet!$V11)+Scoresheet!$W11)=2,(Scoresheet!$O11+ABS(Scoresheet!$P11-Scoresheet!$O11)+ABS(Scoresheet!$Q11-Scoresheet!$P11)+ABS(Scoresheet!$R11-Scoresheet!$Q11)+ABS(Scoresheet!$S11-Scoresheet!$R11)+ABS(Scoresheet!$T11-Scoresheet!$S11)+ABS(Scoresheet!$U11-Scoresheet!$T11)+ABS(Scoresheet!$V11-Scoresheet!$U11)+ABS(Scoresheet!$W11-Scoresheet!$V11)+Scoresheet!$W11)=0),(IF((Scoresheet!$O11+Scoresheet!$P11+Scoresheet!$Q11+Scoresheet!$R11+Scoresheet!$S11+Scoresheet!$T11+Scoresheet!$U11+Scoresheet!$V11+Scoresheet!$W11)=0,0,ROUND(Scoresheet!R11/(Scoresheet!$O11+Scoresheet!$P11+Scoresheet!$Q11+Scoresheet!$R11+Scoresheet!$S11+Scoresheet!$T11+Scoresheet!$U11+Scoresheet!$V11+Scoresheet!$W11),2))),"ERR!")) -> 0 | O11: =(IF(OR((Scoresheet!$O11+ABS(Scoresheet!$P11-Scoresheet!$O11)+ABS(Scoresheet!$Q11-Scoresheet!$P11)+ABS(Scoresheet!$R11-Scoresheet!$Q11)+ABS(Scoresheet!$S11-Scoresheet!$R11)+ABS(Scoresheet!$T11-Scoresheet!$S11)+ABS(Scoresheet!$U11-Scoresheet!$T11)+ABS(Scoresheet!$V11-Scoresheet!$U11)+ABS(Scoresheet!$W11-Scoresheet!$V11)+Scoresheet!$W11)=2,(Scoresheet!$O11+ABS(Scoresheet!$P11-Scoresheet!$O11)+ABS(Scoresheet!$Q11-Scoresheet!$P11)+ABS(Scoresheet!$R11-Scoresheet!$Q11)+ABS(Scoresheet!$S11-Scoresheet!$R11)+ABS(Scoresheet!$T11-Scoresheet!$S11)+ABS(Scoresheet!$U11-Scoresheet!$T11)+ABS(Scoresheet!$V11-Scoresheet!$U11)+ABS(Scoresheet!$W11-Scoresheet!$V11)+Scoresheet!$W11)=0),(IF((Scoresheet!$O11+Scoresheet!$P11+Scoresheet!$Q11+Scoresheet!$R11+Scoresheet!$S11+Scoresheet!$T11+Scoresheet!$U11+Scoresheet!$V11+Scoresheet!$W11)=0,0,ROUND(Scoresheet!S11/(Scoresheet!$O11+Scoresheet!$P11+Scoresheet!$Q11+Scoresheet!$R11+Scoresheet!$S11+Scoresheet!$T11+Scoresheet!$U11+Scoresheet!$V11+Scoresheet!$W11),2))),"ERR!")) -> 0.5 | P11: =(IF(OR((Scoresheet!$O11+ABS(Scoresheet!$P11-Scoresheet!$O11)+ABS(Scoresheet!$Q11-Scoresheet!$P11)+ABS(Scoresheet!$R11-Scoresheet!$Q11)+ABS(Scoresheet!$S11-Scoresheet!$R11)+ABS(Scoresheet!$T11-Scoresheet!$S11)+ABS(Scoresheet!$U11-Scoresheet!$T11)+ABS(Scoresheet!$V11-Scoresheet!$U11)+ABS(Scoresheet!$W11-Scoresheet!$V11)+Scoresheet!$W11)=2,(Scoresheet!$O11+ABS(Scoresheet!$P11-Scoresheet!$O11)+ABS(Scoresheet!$Q11-Scoresheet!$P11)+ABS(Scoresheet!$R11-Scoresheet!$Q11)+ABS(Scoresheet!$S11-Scoresheet!$R11)+ABS(Scoresheet!$T11-Scoresheet!$S11)+ABS(Scoresheet!$U11-Scoresheet!$T11)+ABS(Scoresheet!$V11-Scoresheet!$U11)+ABS(Scoresheet!$W11-Scoresheet!$V11)+Scoresheet!$W11)=0),(IF((Scoresheet!$O11+Scoresheet!$P11+Scoresheet!$Q11+Scoresheet!$R11+Scoresheet!$S11+Scoresheet!$T11+Scoresheet!$U11+Scoresheet!$V11+Scoresheet!$W11)=0,0,ROUND(Scoresheet!T11/(Scoresheet!$O11+Scoresheet!$P11+Scoresheet!$Q11+Scoresheet!$R11+Scoresheet!$S11+Scoresheet!$T11+Scoresheet!$U11+Scoresheet!$V11+Scoresheet!$W11),2))),"ERR!")) -> 0.5 | Q11: =(IF(OR((Scoresheet!$O11+ABS(Scoresheet!$P11-Scoresheet!$O11)+ABS(Scoresheet!$Q11-Scoresheet!$P11)+ABS(Scoresheet!$R11-Scoresheet!$Q11)+ABS(Scoresheet!$S11-Scoresheet!$R11)+ABS(Scoresheet!$T11-Scoresheet!$S11)+ABS(Scoresheet!$U11-Scoresheet!$T11)+ABS(Scoresheet!$V11-Scoresheet!$U11)+ABS(Scoresheet!$W11-Scoresheet!$V11)+Scoresheet!$W11)=2,(Scoresheet!$O11+ABS(Scoresheet!$P11-Scoresheet!$O11)+ABS(Scoresheet!$Q11-Scoresheet!$P11)+ABS(Scoresheet!$R11-Scoresheet!$Q11)+ABS(Scoresheet!$S11-Scoresheet!$R11)+ABS(Scoresheet!$T11-Scoresheet!$S11)+ABS(Scoresheet!$U11-Scoresheet!$T11)+ABS(Scoresheet!$V11-Scoresheet!$U11)+ABS(Scoresheet!$W11-Scoresheet!$V11)+Scoresheet!$W11)=0),(IF((Scoresheet!$O11+Scoresheet!$P11+Scoresheet!$Q11+Scoresheet!$R11+Scoresheet!$S11+Scoresheet!$T11+Scoresheet!$U11+Scoresheet!$V11+Scoresheet!$W11)=0,0,ROUND(Scoresheet!U11/(Scoresheet!$O11+Scoresheet!$P11+Scoresheet!$Q11+Scoresheet!$R11+Scoresheet!$S11+Scoresheet!$T11+Scoresheet!$U11+Scoresheet!$V11+Scoresheet!$W11),2))),"ERR!")) -> 0 | R11: =(IF(OR((Scoresheet!$O11+ABS(Scoresheet!$P11-Scoresheet!$O11)+ABS(Scoresheet!$Q11-Scoresheet!$P11)+ABS(Scoresheet!$R11-Scoresheet!$Q11)+ABS(Scoresheet!$S11-Scoresheet!$R11)+ABS(Scoresheet!$T11-Scoresheet!$S11)+ABS(Scoresheet!$U11-Scoresheet!$T11)+ABS(Scoresheet!$V11-Scoresheet!$U11)+ABS(Scoresheet!$W11-Scoresheet!$V11)+Scoresheet!$W11)=2,(Scoresheet!$O11+ABS(Scoresheet!$P11-Scoresheet!$O11)+ABS(Scoresheet!$Q11-Scoresheet!$P11)+ABS(Scoresheet!$R11-Scoresheet!$Q11)+ABS(Scoresheet!$S11-Scoresheet!$R11)+ABS(Scoresheet!$T11-Scoresheet!$S11)+ABS(Scoresheet!$U11-Scoresheet!$T11)+ABS(Scoresheet!$V11-Scoresheet!$U11)+ABS(Scoresheet!$W11-Scoresheet!$V11)+Scoresheet!$W11)=0),(IF((Scoresheet!$O11+Scoresheet!$P11+Scoresheet!$Q11+Scoresheet!$R11+Scoresheet!$S11+Scoresheet!$T11+Scoresheet!$U11+Scoresheet!$V11+Scoresheet!$W11)=0,0,ROUND(Scoresheet!V11/(Scoresheet!$O11+Scoresheet!$P11+Scoresheet!$Q11+Scoresheet!$R11+Scoresheet!$S11+Scoresheet!$T11+Scoresheet!$U11+Scoresheet!$V11+Scoresheet!$W11),2))),"ERR!")) -> 0 | S11: =(IF(OR((Scoresheet!$O11+ABS(Scoresheet!$P11-Scoresheet!$O11)+ABS(Scoresheet!$Q11-Scoresheet!$P11)+ABS(Scoresheet!$R11-Scoresheet!$Q11)+ABS(Scoresheet!$S11-Scoresheet!$R11)+ABS(Scoresheet!$T11-Scoresheet!$S11)+ABS(Scoresheet!$U11-Scoresheet!$T11)+ABS(Scoresheet!$V11-Scoresheet!$U11)+ABS(Scoresheet!$W11-Scoresheet!$V11)+Scoresheet!$W11)=2,(Scoresheet!$O11+ABS(Scoresheet!$P11-Scoresheet!$O11)+ABS(Scoresheet!$Q11-Scoresheet!$P11)+ABS(Scoresheet!$R11-Scoresheet!$Q11)+ABS(Scoresheet!$S11-Scoresheet!$R11)+ABS(Scoresheet!$T11-Scoresheet!$S11)+ABS(Scoresheet!$U11-Scoresheet!$T11)+ABS(Scoresheet!$V11-Scoresheet!$U11)+ABS(Scoresheet!$W11-Scoresheet!$V11)+Scoresheet!$W11)=0),(IF((Scoresheet!$O11+Scoresheet!$P11+Scoresheet!$Q11+Scoresheet!$R11+Scoresheet!$S11+Scoresheet!$T11+Scoresheet!$U11+Scoresheet!$V11+Scoresheet!$W11)=0,0,ROUND(Scoresheet!W11/(Scoresheet!$O11+Scoresheet!$P11+Scoresheet!$Q11+Scoresheet!$R11+Scoresheet!$S11+Scoresheet!$T11+Scoresheet!$U11+Scoresheet!$V11+Scoresheet!$W11),2))),"ERR!")) -> 0 | T11: =Scoresheet!X11 -> 0 | U11: =IF((Scoresheet!$Y11+Scoresheet!$Z11+Scoresheet!$AA11)=0,0,FLOOR(Scoresheet!Y11/(Scoresheet!$Y11+Scoresheet!$Z11+Scoresheet!$AA11),0.01)) -> 0 | V11: =IF((Scoresheet!$Y11+Scoresheet!$Z11+Scoresheet!$AA11)=0,0,FLOOR(Scoresheet!Z11/(Scoresheet!$Y11+Scoresheet!$Z11+Scoresheet!$AA11),0.01)) -> 1 | W11: =IF((Scoresheet!$Y11+Scoresheet!$Z11+Scoresheet!$AA11)=0,0,FLOOR(Scoresheet!AA11/(Scoresheet!$Y11+Scoresheet!$Z11+Scoresheet!$AA11),0.01)) -> 0 | X11: =IF((Scoresheet!$AB11+Scoresheet!$AC11+Scoresheet!$AD11)=0,0,FLOOR(Scoresheet!AB11/(Scoresheet!$AB11+Scoresheet!$AC11+Scoresheet!$AD11),0.01)) -> 0 | Y11: =IF((Scoresheet!$AB11+Scoresheet!$AC11+Scoresheet!$AD11)=0,0,FLOOR(Scoresheet!AC11/(Scoresheet!$AB11+Scoresheet!$AC11+Scoresheet!$AD11),0.01)) -> 0.5 | Z11: =IF((Scoresheet!$AB11+Scoresheet!$AC11+Scoresheet!$AD11)=0,0,FLOOR(Scoresheet!AD11/(Scoresheet!$AB11+Scoresheet!$AC11+Scoresheet!$AD11),0.01)) -> 0.5 | AA11: =IF(OR((Scoresheet!$AE11+ABS(Scoresheet!$AF11-Scoresheet!$AE11)+ABS(Scoresheet!$AG11-Scoresheet!$AF11)+ABS(Scoresheet!$AH11-Scoresheet!$AG11)+ABS(Scoresheet!$AI11-Scoresheet!$AH11)+Scoresheet!$AI11)=2,(Scoresheet!$AE11+ABS(Scoresheet!$AF11-Scoresheet!$AE11)+ABS(Scoresheet!$AG11-Scoresheet!$AF11)+ABS(Scoresheet!$AH11-Scoresheet!$AG11)+ABS(Scoresheet!$AI11-Scoresheet!$AH11)+Scoresheet!$AI11)=0),(IF((Scoresheet!$AE11+Scoresheet!$AF11+Scoresheet!$AG11+Scoresheet!$AH11+Scoresheet!$AI11)=0,0,ROUND(Scoresheet!AE11/(Scoresheet!$AE11+Scoresheet!$AF11+Scoresheet!$AG11+Scoresheet!$AH11+Scoresheet!$AI11),2))),"ERR!") -> 0.5 | AB11: =IF(OR((Scoresheet!$AE11+ABS(Scoresheet!$AF11-Scoresheet!$AE11)+ABS(Scoresheet!$AG11-Scoresheet!$AF11)+ABS(Scoresheet!$AH11-Scoresheet!$AG11)+ABS(Scoresheet!$AI11-Scoresheet!$AH11)+Scoresheet!$AI11)=2,(Scoresheet!$AE11+ABS(Scoresheet!$AF11-Scoresheet!$AE11)+ABS(Scoresheet!$AG11-Scoresheet!$AF11)+ABS(Scoresheet!$AH11-Scoresheet!$AG11)+ABS(Scoresheet!$AI11-Scoresheet!$AH11)+Scoresheet!$AI11)=0),(IF((Scoresheet!$AE11+Scoresheet!$AF11+Scoresheet!$AG11+Scoresheet!$AH11+Scoresheet!$AI11)=0,0,ROUND(Scoresheet!AF11/(Scoresheet!$AE11+Scoresheet!$AF11+Scoresheet!$AG11+Scoresheet!$AH11+Scoresheet!$AI11),2))),"ERR!") -> 0.5 | AC11: =IF(OR((Scoresheet!$AE11+ABS(Scoresheet!$AF11-Scoresheet!$AE11)+ABS(Scoresheet!$AG11-Scoresheet!$AF11)+ABS(Scoresheet!$AH11-Scoresheet!$AG11)+ABS(Scoresheet!$AI11-Scoresheet!$AH11)+Scoresheet!$AI11)=2,(Scoresheet!$AE11+ABS(Scoresheet!$AF11-Scoresheet!$AE11)+ABS(Scoresheet!$AG11-Scoresheet!$AF11)+ABS(Scoresheet!$AH11-Scoresheet!$AG11)+ABS(Scoresheet!$AI11-Scoresheet!$AH11)+Scoresheet!$AI11)=0),(IF((Scoresheet!$AE11+Scoresheet!$AF11+Scoresheet!$AG11+Scoresheet!$AH11+Scoresheet!$AI11)=0,0,ROUND(Scoresheet!AG11/(Scoresheet!$AE11+Scoresheet!$AF11+Scoresheet!$AG11+Scoresheet!$AH11+Scoresheet!$AI11),2))),"ERR!") -> 0 | AD11: =IF(OR((Scoresheet!$AE11+ABS(Scoresheet!$AF11-Scoresheet!$AE11)+ABS(Scoresheet!$AG11-Scoresheet!$AF11)+ABS(Scoresheet!$AH11-Scoresheet!$AG11)+ABS(Scoresheet!$AI11-Scoresheet!$AH11)+Scoresheet!$AI11)=2,(Scoresheet!$AE11+ABS(Scoresheet!$AF11-Scoresheet!$AE11)+ABS(Scoresheet!$AG11-Scoresheet!$AF11)+ABS(Scoresheet!$AH11-Scoresheet!$AG11)+ABS(Scoresheet!$AI11-Scoresheet!$AH11)+Scoresheet!$AI11)=0),(IF((Scoresheet!$AE11+Scoresheet!$AF11+Scoresheet!$AG11+Scoresheet!$AH11+Scoresheet!$AI11)=0,0,ROUND(Scoresheet!AH11/(Scoresheet!$AE11+Scoresheet!$AF11+Scoresheet!$AG11+Scoresheet!$AH11+Scoresheet!$AI11),2))),"ERR!") -> 0 | AE11: =IF(OR((Scoresheet!$AE11+ABS(Scoresheet!$AF11-Scoresheet!$AE11)+ABS(Scoresheet!$AG11-Scoresheet!$AF11)+ABS(Scoresheet!$AH11-Scoresheet!$AG11)+ABS(Scoresheet!$AI11-Scoresheet!$AH11)+Scoresheet!$AI11)=2,(Scoresheet!$AE11+ABS(Scoresheet!$AF11-Scoresheet!$AE11)+ABS(Scoresheet!$AG11-Scoresheet!$AF11)+ABS(Scoresheet!$AH11-Scoresheet!$AG11)+ABS(Scoresheet!$AI11-Scoresheet!$AH11)+Scoresheet!$AI11)=0),(IF((Scoresheet!$AE11+Scoresheet!$AF11+Scoresheet!$AG11+Scoresheet!$AH11+Scoresheet!$AI11)=0,0,ROUND(Scoresheet!AI11/(Scoresheet!$AE11+Scoresheet!$AF11+Scoresheet!$AG11+Scoresheet!$AH11+Scoresheet!$AI11),2))),"ERR!") -> 0 | AF11: =IF((Scoresheet!$AJ11+Scoresheet!$AK11+Scoresheet!$AL11)=0,0,FLOOR(Scoresheet!AJ11/(Scoresheet!$AJ11+Scoresheet!$AK11+Scoresheet!$AL11),0.01)) -> 0 | AG11: =IF((Scoresheet!$AJ11+Scoresheet!$AK11+Scoresheet!$AL11)=0,0,FLOOR(Scoresheet!AK11/(Scoresheet!$AJ11+Scoresheet!$AK11+Scoresheet!$AL11),0.01)) -> 0 | AH11: =IF((Scoresheet!$AJ11+Scoresheet!$AK11+Scoresheet!$AL11)=0,0,FLOOR(Scoresheet!AL11/(Scoresheet!$AJ11+Scoresheet!$AK11+Scoresheet!$AL11),0.01)) -> 1 | AQ11: =IF((B11)>0,1,0) -> 1 | AR11: =IF(C11+D11>0,1,0) -> 1 | AS11: =IF(E11>0,1,0) -> 0 | AT11: =IF(F11>0,1,0) -> 1 | AU11: =IF(G11>0,1,0) -> 1 | AV11: =IF(H11>0,1,0) -> 1 | AW11: =IF(I11>0,1,0) -> 0 | AX11: =IF(J11>0,1,0) -> 0 | AY11: =IF(K11>0,1,0) -> 0 | AZ11: =IF(L11>0,1,0) -> 0 | ... BV11: =IF(AH11>0,1,0) -> 1 | BX11: =AR11 -> 1 | BY11: =IF(AS11+AT11+AU11+AV11+AW11+AX11>0,1,0) -> 1 | BZ11: =IF(AY11+AZ11+BA11+BB11+BC11+BD11+BE11+BF11+BG11>0,1,0) -> 1 | CA11: =IF(BH11+BI11+BJ11+BK11>0,1,0) -> 1 | CB11: =IF(BL11+BM11+BN11>0,1,0) -> 1 | CC11: =IF(BO11+BP11+BQ11+BR11+BS11>0,1,0) -> 1 | CD11: =IF(BT11+BU11+BV11>0,1,0) -> 1
A12: =IF(B12>0,(ROW(A12)-6),0) -> 6 | B12: =Scoresheet!B12 -> T genesevianum | C12: =IF(Scoresheet!C12=0,0,Scoresheet!C12/(Scoresheet!C12+Scoresheet!D12)) -> 1 | D12: =IF(Scoresheet!D12=0,0,Scoresheet!D12/(Scoresheet!C12+Scoresheet!D12)) -> 0 | E12: =IF(Scoresheet!E12=0,0,Scoresheet!E12/(Scoresheet!E12+Scoresheet!F12)) -> 0 | F12: =IF(Scoresheet!G12=0,0,Scoresheet!G12/(Scoresheet!G12+Scoresheet!H12)*(IF(Result!E12=0,1,Result!E12))) -> 1 | G12: =IF(Scoresheet!I12=0,0,Scoresheet!I12/(Scoresheet!I12+Scoresheet!J12)*(IF(Result!E12=0,1,Result!E12))) -> 1 | H12: =IF(Scoresheet!K12=0,0,Scoresheet!K12/(Scoresheet!L12+Scoresheet!K12)*(IF(Result!E12=0,1,Result!E12))) -> 0 | I12: =IF(Scoresheet!L12=0,0,Scoresheet!L12/(Scoresheet!K12+Scoresheet!L12)*(IF(Result!E12=0,1,Result!E12))) -> 1 | J12: =IF(Scoresheet!M12=0,0,Scoresheet!M12/(Scoresheet!M12+Scoresheet!N12)) -> 0 | K12: =(IF(OR((Scoresheet!$O12+ABS(Scoresheet!$P12-Scoresheet!$O12)+ABS(Scoresheet!$Q12-Scoresheet!$P12)+ABS(Scoresheet!$R12-Scoresheet!$Q12)+ABS(Scoresheet!$S12-Scoresheet!$R12)+ABS(Scoresheet!$T12-Scoresheet!$S12)+ABS(Scoresheet!$U12-Scoresheet!$T12)+ABS(Scoresheet!$V12-Scoresheet!$U12)+ABS(Scoresheet!$W12-Scoresheet!$V12)+Scoresheet!$W12)=2,(Scoresheet!$O12+ABS(Scoresheet!$P12-Scoresheet!$O12)+ABS(Scoresheet!$Q12-Scoresheet!$P12)+ABS(Scoresheet!$R12-Scoresheet!$Q12)+ABS(Scoresheet!$S12-Scoresheet!$R12)+ABS(Scoresheet!$T12-Scoresheet!$S12)+ABS(Scoresheet!$U12-Scoresheet!$T12)+ABS(Scoresheet!$V12-Scoresheet!$U12)+ABS(Scoresheet!$W12-Scoresheet!$V12)+Scoresheet!$W12)=0),(IF((Scoresheet!$O12+Scoresheet!$P12+Scoresheet!$Q12+Scoresheet!$R12+Scoresheet!$S12+Scoresheet!$T12+Scoresheet!$U12+Scoresheet!$V12+Scoresheet!$W12)=0,0,ROUND(Scoresheet!O12/(Scoresheet!$O12+Scoresheet!$P12+Scoresheet!$Q12+Scoresheet!$R12+Scoresheet!$S12+Scoresheet!$T12+Scoresheet!$U12+Scoresheet!$V12+Scoresheet!$W12),2))),"ERR!")) -> 0 | L12: =(IF(OR((Scoresheet!$O12+ABS(Scoresheet!$P12-Scoresheet!$O12)+ABS(Scoresheet!$Q12-Scoresheet!$P12)+ABS(Scoresheet!$R12-Scoresheet!$Q12)+ABS(Scoresheet!$S12-Scoresheet!$R12)+ABS(Scoresheet!$T12-Scoresheet!$S12)+ABS(Scoresheet!$U12-Scoresheet!$T12)+ABS(Scoresheet!$V12-Scoresheet!$U12)+ABS(Scoresheet!$W12-Scoresheet!$V12)+Scoresheet!$W12)=2,(Scoresheet!$O12+ABS(Scoresheet!$P12-Scoresheet!$O12)+ABS(Scoresheet!$Q12-Scoresheet!$P12)+ABS(Scoresheet!$R12-Scoresheet!$Q12)+ABS(Scoresheet!$S12-Scoresheet!$R12)+ABS(Scoresheet!$T12-Scoresheet!$S12)+ABS(Scoresheet!$U12-Scoresheet!$T12)+ABS(Scoresheet!$V12-Scoresheet!$U12)+ABS(Scoresheet!$W12-Scoresheet!$V12)+Scoresheet!$W12)=0),(IF((Scoresheet!$O12+Scoresheet!$P12+Scoresheet!$Q12+Scoresheet!$R12+Scoresheet!$S12+Scoresheet!$T12+Scoresheet!$U12+Scoresheet!$V12+Scoresheet!$W12)=0,0,ROUND(Scoresheet!P12/(Scoresheet!$O12+Scoresheet!$P12+Scoresheet!$Q12+Scoresheet!$R12+Scoresheet!$S12+Scoresheet!$T12+Scoresheet!$U12+Scoresheet!$V12+Scoresheet!$W12),2))),"ERR!")) -> 0 | M12: =(IF(OR((Scoresheet!$O12+ABS(Scoresheet!$P12-Scoresheet!$O12)+ABS(Scoresheet!$Q12-Scoresheet!$P12)+ABS(Scoresheet!$R12-Scoresheet!$Q12)+ABS(Scoresheet!$S12-Scoresheet!$R12)+ABS(Scoresheet!$T12-Scoresheet!$S12)+ABS(Scoresheet!$U12-Scoresheet!$T12)+ABS(Scoresheet!$V12-Scoresheet!$U12)+ABS(Scoresheet!$W12-Scoresheet!$V12)+Scoresheet!$W12)=2,(Scoresheet!$O12+ABS(Scoresheet!$P12-Scoresheet!$O12)+ABS(Scoresheet!$Q12-Scoresheet!$P12)+ABS(Scoresheet!$R12-Scoresheet!$Q12)+ABS(Scoresheet!$S12-Scoresheet!$R12)+ABS(Scoresheet!$T12-Scoresheet!$S12)+ABS(Scoresheet!$U12-Scoresheet!$T12)+ABS(Scoresheet!$V12-Scoresheet!$U12)+ABS(Scoresheet!$W12-Scoresheet!$V12)+Scoresheet!$W12)=0),(IF((Scoresheet!$O12+Scoresheet!$P12+Scoresheet!$Q12+Scoresheet!$R12+Scoresheet!$S12+Scoresheet!$T12+Scoresheet!$U12+Scoresheet!$V12+Scoresheet!$W12)=0,0,ROUND(Scoresheet!Q12/(Scoresheet!$O12+Scoresheet!$P12+Scoresheet!$Q12+Scoresheet!$R12+Scoresheet!$S12+Scoresheet!$T12+Scoresheet!$U12+Scoresheet!$V12+Scoresheet!$W12),2))),"ERR!")) -> 0 | N12: =(IF(OR((Scoresheet!$O12+ABS(Scoresheet!$P12-Scoresheet!$O12)+ABS(Scoresheet!$Q12-Scoresheet!$P12)+ABS(Scoresheet!$R12-Scoresheet!$Q12)+ABS(Scoresheet!$S12-Scoresheet!$R12)+ABS(Scoresheet!$T12-Scoresheet!$S12)+ABS(Scoresheet!$U12-Scoresheet!$T12)+ABS(Scoresheet!$V12-Scoresheet!$U12)+ABS(Scoresheet!$W12-Scoresheet!$V12)+Scoresheet!$W12)=2,(Scoresheet!$O12+ABS(Scoresheet!$P12-Scoresheet!$O12)+ABS(Scoresheet!$Q12-Scoresheet!$P12)+ABS(Scoresheet!$R12-Scoresheet!$Q12)+ABS(Scoresheet!$S12-Scoresheet!$R12)+ABS(Scoresheet!$T12-Scoresheet!$S12)+ABS(Scoresheet!$U12-Scoresheet!$T12)+ABS(Scoresheet!$V12-Scoresheet!$U12)+ABS(Scoresheet!$W12-Scoresheet!$V12)+Scoresheet!$W12)=0),(IF((Scoresheet!$O12+Scoresheet!$P12+Scoresheet!$Q12+Scoresheet!$R12+Scoresheet!$S12+Scoresheet!$T12+Scoresheet!$U12+Scoresheet!$V12+Scoresheet!$W12)=0,0,ROUND(Scoresheet!R12/(Scoresheet!$O12+Scoresheet!$P12+Scoresheet!$Q12+Scoresheet!$R12+Scoresheet!$S12+Scoresheet!$T12+Scoresheet!$U12+Scoresheet!$V12+Scoresheet!$W12),2))),"ERR!")) -> 1 | O12: =(IF(OR((Scoresheet!$O12+ABS(Scoresheet!$P12-Scoresheet!$O12)+ABS(Scoresheet!$Q12-Scoresheet!$P12)+ABS(Scoresheet!$R12-Scoresheet!$Q12)+ABS(Scoresheet!$S12-Scoresheet!$R12)+ABS(Scoresheet!$T12-Scoresheet!$S12)+ABS(Scoresheet!$U12-Scoresheet!$T12)+ABS(Scoresheet!$V12-Scoresheet!$U12)+ABS(Scoresheet!$W12-Scoresheet!$V12)+Scoresheet!$W12)=2,(Scoresheet!$O12+ABS(Scoresheet!$P12-Scoresheet!$O12)+ABS(Scoresheet!$Q12-Scoresheet!$P12)+ABS(Scoresheet!$R12-Scoresheet!$Q12)+ABS(Scoresheet!$S12-Scoresheet!$R12)+ABS(Scoresheet!$T12-Scoresheet!$S12)+ABS(Scoresheet!$U12-Scoresheet!$T12)+ABS(Scoresheet!$V12-Scoresheet!$U12)+ABS(Scoresheet!$W12-Scoresheet!$V12)+Scoresheet!$W12)=0),(IF((Scoresheet!$O12+Scoresheet!$P12+Scoresheet!$Q12+Scoresheet!$R12+Scoresheet!$S12+Scoresheet!$T12+Scoresheet!$U12+Scoresheet!$V12+Scoresheet!$W12)=0,0,ROUND(Scoresheet!S12/(Scoresheet!$O12+Scoresheet!$P12+Scoresheet!$Q12+Scoresheet!$R12+Scoresheet!$S12+Scoresheet!$T12+Scoresheet!$U12+Scoresheet!$V12+Scoresheet!$W12),2))),"ERR!")) -> 0 | P12: =(IF(OR((Scoresheet!$O12+ABS(Scoresheet!$P12-Scoresheet!$O12)+ABS(Scoresheet!$Q12-Scoresheet!$P12)+ABS(Scoresheet!$R12-Scoresheet!$Q12)+ABS(Scoresheet!$S12-Scoresheet!$R12)+ABS(Scoresheet!$T12-Scoresheet!$S12)+ABS(Scoresheet!$U12-Scoresheet!$T12)+ABS(Scoresheet!$V12-Scoresheet!$U12)+ABS(Scoresheet!$W12-Scoresheet!$V12)+Scoresheet!$W12)=2,(Scoresheet!$O12+ABS(Scoresheet!$P12-Scoresheet!$O12)+ABS(Scoresheet!$Q12-Scoresheet!$P12)+ABS(Scoresheet!$R12-Scoresheet!$Q12)+ABS(Scoresheet!$S12-Scoresheet!$R12)+ABS(Scoresheet!$T12-Scoresheet!$S12)+ABS(Scoresheet!$U12-Scoresheet!$T12)+ABS(Scoresheet!$V12-Scoresheet!$U12)+ABS(Scoresheet!$W12-Scoresheet!$V12)+Scoresheet!$W12)=0),(IF((Scoresheet!$O12+Scoresheet!$P12+Scoresheet!$Q12+Scoresheet!$R12+Scoresheet!$S12+Scoresheet!$T12+Scoresheet!$U12+Scoresheet!$V12+Scoresheet!$W12)=0,0,ROUND(Scoresheet!T12/(Scoresheet!$O12+Scoresheet!$P12+Scoresheet!$Q12+Scoresheet!$R12+Scoresheet!$S12+Scoresheet!$T12+Scoresheet!$U12+Scoresheet!$V12+Scoresheet!$W12),2))),"ERR!")) -> 0 | Q12: =(IF(OR((Scoresheet!$O12+ABS(Scoresheet!$P12-Scoresheet!$O12)+ABS(Scoresheet!$Q12-Scoresheet!$P12)+ABS(Scoresheet!$R12-Scoresheet!$Q12)+ABS(Scoresheet!$S12-Scoresheet!$R12)+ABS(Scoresheet!$T12-Scoresheet!$S12)+ABS(Scoresheet!$U12-Scoresheet!$T12)+ABS(Scoresheet!$V12-Scoresheet!$U12)+ABS(Scoresheet!$W12-Scoresheet!$V12)+Scoresheet!$W12)=2,(Scoresheet!$O12+ABS(Scoresheet!$P12-Scoresheet!$O12)+ABS(Scoresheet!$Q12-Scoresheet!$P12)+ABS(Scoresheet!$R12-Scoresheet!$Q12)+ABS(Scoresheet!$S12-Scoresheet!$R12)+ABS(Scoresheet!$T12-Scoresheet!$S12)+ABS(Scoresheet!$U12-Scoresheet!$T12)+ABS(Scoresheet!$V12-Scoresheet!$U12)+ABS(Scoresheet!$W12-Scoresheet!$V12)+Scoresheet!$W12)=0),(IF((Scoresheet!$O12+Scoresheet!$P12+Scoresheet!$Q12+Scoresheet!$R12+Scoresheet!$S12+Scoresheet!$T12+Scoresheet!$U12+Scoresheet!$V12+Scoresheet!$W12)=0,0,ROUND(Scoresheet!U12/(Scoresheet!$O12+Scoresheet!$P12+Scoresheet!$Q12+Scoresheet!$R12+Scoresheet!$S12+Scoresheet!$T12+Scoresheet!$U12+Scoresheet!$V12+Scoresheet!$W12),2))),"ERR!")) -> 0 | R12: =(IF(OR((Scoresheet!$O12+ABS(Scoresheet!$P12-Scoresheet!$O12)+ABS(Scoresheet!$Q12-Scoresheet!$P12)+ABS(Scoresheet!$R12-Scoresheet!$Q12)+ABS(Scoresheet!$S12-Scoresheet!$R12)+ABS(Scoresheet!$T12-Scoresheet!$S12)+ABS(Scoresheet!$U12-Scoresheet!$T12)+ABS(Scoresheet!$V12-Scoresheet!$U12)+ABS(Scoresheet!$W12-Scoresheet!$V12)+Scoresheet!$W12)=2,(Scoresheet!$O12+ABS(Scoresheet!$P12-Scoresheet!$O12)+ABS(Scoresheet!$Q12-Scoresheet!$P12)+ABS(Scoresheet!$R12-Scoresheet!$Q12)+ABS(Scoresheet!$S12-Scoresheet!$R12)+ABS(Scoresheet!$T12-Scoresheet!$S12)+ABS(Scoresheet!$U12-Scoresheet!$T12)+ABS(Scoresheet!$V12-Scoresheet!$U12)+ABS(Scoresheet!$W12-Scoresheet!$V12)+Scoresheet!$W12)=0),(IF((Scoresheet!$O12+Scoresheet!$P12+Scoresheet!$Q12+Scoresheet!$R12+Scoresheet!$S12+Scoresheet!$T12+Scoresheet!$U12+Scoresheet!$V12+Scoresheet!$W12)=0,0,ROUND(Scoresheet!V12/(Scoresheet!$O12+Scoresheet!$P12+Scoresheet!$Q12+Scoresheet!$R12+Scoresheet!$S12+Scoresheet!$T12+Scoresheet!$U12+Scoresheet!$V12+Scoresheet!$W12),2))),"ERR!")) -> 0 | S12: =(IF(OR((Scoresheet!$O12+ABS(Scoresheet!$P12-Scoresheet!$O12)+ABS(Scoresheet!$Q12-Scoresheet!$P12)+ABS(Scoresheet!$R12-Scoresheet!$Q12)+ABS(Scoresheet!$S12-Scoresheet!$R12)+ABS(Scoresheet!$T12-Scoresheet!$S12)+ABS(Scoresheet!$U12-Scoresheet!$T12)+ABS(Scoresheet!$V12-Scoresheet!$U12)+ABS(Scoresheet!$W12-Scoresheet!$V12)+Scoresheet!$W12)=2,(Scoresheet!$O12+ABS(Scoresheet!$P12-Scoresheet!$O12)+ABS(Scoresheet!$Q12-Scoresheet!$P12)+ABS(Scoresheet!$R12-Scoresheet!$Q12)+ABS(Scoresheet!$S12-Scoresheet!$R12)+ABS(Scoresheet!$T12-Scoresheet!$S12)+ABS(Scoresheet!$U12-Scoresheet!$T12)+ABS(Scoresheet!$V12-Scoresheet!$U12)+ABS(Scoresheet!$W12-Scoresheet!$V12)+Scoresheet!$W12)=0),(IF((Scoresheet!$O12+Scoresheet!$P12+Scoresheet!$Q12+Scoresheet!$R12+Scoresheet!$S12+Scoresheet!$T12+Scoresheet!$U12+Scoresheet!$V12+Scoresheet!$W12)=0,0,ROUND(Scoresheet!W12/(Scoresheet!$O12+Scoresheet!$P12+Scoresheet!$Q12+Scoresheet!$R12+Scoresheet!$S12+Scoresheet!$T12+Scoresheet!$U12+Scoresheet!$V12+Scoresheet!$W12),2))),"ERR!")) -> 0 | T12: =Scoresheet!X12 -> 0 | U12: =IF((Scoresheet!$Y12+Scoresheet!$Z12+Scoresheet!$AA12)=0,0,FLOOR(Scoresheet!Y12/(Scoresheet!$Y12+Scoresheet!$Z12+Scoresheet!$AA12),0.01)) -> 0 | V12: =IF((Scoresheet!$Y12+Scoresheet!$Z12+Scoresheet!$AA12)=0,0,FLOOR(Scoresheet!Z12/(Scoresheet!$Y12+Scoresheet!$Z12+Scoresheet!$AA12),0.01)) -> 0 | W12: =IF((Scoresheet!$Y12+Scoresheet!$Z12+Scoresheet!$AA12)=0,0,FLOOR(Scoresheet!AA12/(Scoresheet!$Y12+Scoresheet!$Z12+Scoresheet!$AA12),0.01)) -> 1 | X12: =IF((Scoresheet!$AB12+Scoresheet!$AC12+Scoresheet!$AD12)=0,0,FLOOR(Scoresheet!AB12/(Scoresheet!$AB12+Scoresheet!$AC12+Scoresheet!$AD12),0.01)) -> 0 | Y12: =IF((Scoresheet!$AB12+Scoresheet!$AC12+Scoresheet!$AD12)=0,0,FLOOR(Scoresheet!AC12/(Scoresheet!$AB12+Scoresheet!$AC12+Scoresheet!$AD12),0.01)) -> 1 | Z12: =IF((Scoresheet!$AB12+Scoresheet!$AC12+Scoresheet!$AD12)=0,0,FLOOR(Scoresheet!AD12/(Scoresheet!$AB12+Scoresheet!$AC12+Scoresheet!$AD12),0.01)) -> 0 | AA12: =IF(OR((Scoresheet!$AE12+ABS(Scoresheet!$AF12-Scoresheet!$AE12)+ABS(Scoresheet!$AG12-Scoresheet!$AF12)+ABS(Scoresheet!$AH12-Scoresheet!$AG12)+ABS(Scoresheet!$AI12-Scoresheet!$AH12)+Scoresheet!$AI12)=2,(Scoresheet!$AE12+ABS(Scoresheet!$AF12-Scoresheet!$AE12)+ABS(Scoresheet!$AG12-Scoresheet!$AF12)+ABS(Scoresheet!$AH12-Scoresheet!$AG12)+ABS(Scoresheet!$AI12-Scoresheet!$AH12)+Scoresheet!$AI12)=0),(IF((Scoresheet!$AE12+Scoresheet!$AF12+Scoresheet!$AG12+Scoresheet!$AH12+Scoresheet!$AI12)=0,0,ROUND(Scoresheet!AE12/(Scoresheet!$AE12+Scoresheet!$AF12+Scoresheet!$AG12+Scoresheet!$AH12+Scoresheet!$AI12),2))),"ERR!") -> 0 | AB12: =IF(OR((Scoresheet!$AE12+ABS(Scoresheet!$AF12-Scoresheet!$AE12)+ABS(Scoresheet!$AG12-Scoresheet!$AF12)+ABS(Scoresheet!$AH12-Scoresheet!$AG12)+ABS(Scoresheet!$AI12-Scoresheet!$AH12)+Scoresheet!$AI12)=2,(Scoresheet!$AE12+ABS(Scoresheet!$AF12-Scoresheet!$AE12)+ABS(Scoresheet!$AG12-Scoresheet!$AF12)+ABS(Scoresheet!$AH12-Scoresheet!$AG12)+ABS(Scoresheet!$AI12-Scoresheet!$AH12)+Scoresheet!$AI12)=0),(IF((Scoresheet!$AE12+Scoresheet!$AF12+Scoresheet!$AG12+Scoresheet!$AH12+Scoresheet!$AI12)=0,0,ROUND(Scoresheet!AF12/(Scoresheet!$AE12+Scoresheet!$AF12+Scoresheet!$AG12+Scoresheet!$AH12+Scoresheet!$AI12),2))),"ERR!") -> 1 | AC12: =IF(OR((Scoresheet!$AE12+ABS(Scoresheet!$AF12-Scoresheet!$AE12)+ABS(Scoresheet!$AG12-Scoresheet!$AF12)+ABS(Scoresheet!$AH12-Scoresheet!$AG12)+ABS(Scoresheet!$AI12-Scoresheet!$AH12)+Scoresheet!$AI12)=2,(Scoresheet!$AE12+ABS(Scoresheet!$AF12-Scoresheet!$AE12)+ABS(Scoresheet!$AG12-Scoresheet!$AF12)+ABS(Scoresheet!$AH12-Scoresheet!$AG12)+ABS(Scoresheet!$AI12-Scoresheet!$AH12)+Scoresheet!$AI12)=0),(IF((Scoresheet!$AE12+Scoresheet!$AF12+Scoresheet!$AG12+Scoresheet!$AH12+Scoresheet!$AI12)=0,0,ROUND(Scoresheet!AG12/(Scoresheet!$AE12+Scoresheet!$AF12+Scoresheet!$AG12+Scoresheet!$AH12+Scoresheet!$AI12),2))),"ERR!") -> 0 | AD12: =IF(OR((Scoresheet!$AE12+ABS(Scoresheet!$AF12-Scoresheet!$AE12)+ABS(Scoresheet!$AG12-Scoresheet!$AF12)+ABS(Scoresheet!$AH12-Scoresheet!$AG12)+ABS(Scoresheet!$AI12-Scoresheet!$AH12)+Scoresheet!$AI12)=2,(Scoresheet!$AE12+ABS(Scoresheet!$AF12-Scoresheet!$AE12)+ABS(Scoresheet!$AG12-Scoresheet!$AF12)+ABS(Scoresheet!$AH12-Scoresheet!$AG12)+ABS(Scoresheet!$AI12-Scoresheet!$AH12)+Scoresheet!$AI12)=0),(IF((Scoresheet!$AE12+Scoresheet!$AF12+Scoresheet!$AG12+Scoresheet!$AH12+Scoresheet!$AI12)=0,0,ROUND(Scoresheet!AH12/(Scoresheet!$AE12+Scoresheet!$AF12+Scoresheet!$AG12+Scoresheet!$AH12+Scoresheet!$AI12),2))),"ERR!") -> 0 | AE12: =IF(OR((Scoresheet!$AE12+ABS(Scoresheet!$AF12-Scoresheet!$AE12)+ABS(Scoresheet!$AG12-Scoresheet!$AF12)+ABS(Scoresheet!$AH12-Scoresheet!$AG12)+ABS(Scoresheet!$AI12-Scoresheet!$AH12)+Scoresheet!$AI12)=2,(Scoresheet!$AE12+ABS(Scoresheet!$AF12-Scoresheet!$AE12)+ABS(Scoresheet!$AG12-Scoresheet!$AF12)+ABS(Scoresheet!$AH12-Scoresheet!$AG12)+ABS(Scoresheet!$AI12-Scoresheet!$AH12)+Scoresheet!$AI12)=0),(IF((Scoresheet!$AE12+Scoresheet!$AF12+Scoresheet!$AG12+Scoresheet!$AH12+Scoresheet!$AI12)=0,0,ROUND(Scoresheet!AI12/(Scoresheet!$AE12+Scoresheet!$AF12+Scoresheet!$AG12+Scoresheet!$AH12+Scoresheet!$AI12),2))),"ERR!") -> 0 | AF12: =IF((Scoresheet!$AJ12+Scoresheet!$AK12+Scoresheet!$AL12)=0,0,FLOOR(Scoresheet!AJ12/(Scoresheet!$AJ12+Scoresheet!$AK12+Scoresheet!$AL12),0.01)) -> 0 | AG12: =IF((Scoresheet!$AJ12+Scoresheet!$AK12+Scoresheet!$AL12)=0,0,FLOOR(Scoresheet!AK12/(Scoresheet!$AJ12+Scoresheet!$AK12+Scoresheet!$AL12),0.01)) -> 0 | AH12: =IF((Scoresheet!$AJ12+Scoresheet!$AK12+Scoresheet!$AL12)=0,0,FLOOR(Scoresheet!AL12/(Scoresheet!$AJ12+Scoresheet!$AK12+Scoresheet!$AL12),0.01)) -> 1 | AQ12: =IF((B12)>0,1,0) -> 1 | AR12: =IF(C12+D12>0,1,0) -> 1 | AS12: =IF(E12>0,1,0) -> 0 | AT12: =IF(F12>0,1,0) -> 1 | AU12: =IF(G12>0,1,0) -> 1 | AV12: =IF(H12>0,1,0) -> 0 | AW12: =IF(I12>0,1,0) -> 1 | AX12: =IF(J12>0,1,0) -> 0 | AY12: =IF(K12>0,1,0) -> 0 | AZ12: =IF(L12>0,1,0) -> 0 | ... BV12: =IF(AH12>0,1,0) -> 1 | BX12: =AR12 -> 1 | BY12: =IF(AS12+AT12+AU12+AV12+AW12+AX12>0,1,0) -> 1 | BZ12: =IF(AY12+AZ12+BA12+BB12+BC12+BD12+BE12+BF12+BG12>0,1,0) -> 1 | CA12: =IF(BH12+BI12+BJ12+BK12>0,1,0) -> 1 | CB12: =IF(BL12+BM12+BN12>0,1,0) -> 1 | CC12: =IF(BO12+BP12+BQ12+BR12+BS12>0,1,0) -> 1 | CD12: =IF(BT12+BU12+BV12>0,1,0) -> 1
A13: =IF(B13>0,(ROW(A13)-6),0) -> 7 | B13: =Scoresheet!B13 -> Zizyphoides | C13: =IF(Scoresheet!C13=0,0,Scoresheet!C13/(Scoresheet!C13+Scoresheet!D13)) -> 1 | D13: =IF(Scoresheet!D13=0,0,Scoresheet!D13/(Scoresheet!C13+Scoresheet!D13)) -> 0 | E13: =IF(Scoresheet!E13=0,0,Scoresheet!E13/(Scoresheet!E13+Scoresheet!F13)) -> 1 | F13: =IF(Scoresheet!G13=0,0,Scoresheet!G13/(Scoresheet!G13+Scoresheet!H13)*(IF(Result!E13=0,1,Result!E13))) -> 0 | G13: =IF(Scoresheet!I13=0,0,Scoresheet!I13/(Scoresheet!I13+Scoresheet!J13)*(IF(Result!E13=0,1,Result!E13))) -> 0 | H13: =IF(Scoresheet!K13=0,0,Scoresheet!K13/(Scoresheet!L13+Scoresheet!K13)*(IF(Result!E13=0,1,Result!E13))) -> 0 | I13: =IF(Scoresheet!L13=0,0,Scoresheet!L13/(Scoresheet!K13+Scoresheet!L13)*(IF(Result!E13=0,1,Result!E13))) -> 0 | J13: =IF(Scoresheet!M13=0,0,Scoresheet!M13/(Scoresheet!M13+Scoresheet!N13)) -> 0 | K13: =(IF(OR((Scoresheet!$O13+ABS(Scoresheet!$P13-Scoresheet!$O13)+ABS(Scoresheet!$Q13-Scoresheet!$P13)+ABS(Scoresheet!$R13-Scoresheet!$Q13)+ABS(Scoresheet!$S13-Scoresheet!$R13)+ABS(Scoresheet!$T13-Scoresheet!$S13)+ABS(Scoresheet!$U13-Scoresheet!$T13)+ABS(Scoresheet!$V13-Scoresheet!$U13)+ABS(Scoresheet!$W13-Scoresheet!$V13)+Scoresheet!$W13)=2,(Scoresheet!$O13+ABS(Scoresheet!$P13-Scoresheet!$O13)+ABS(Scoresheet!$Q13-Scoresheet!$P13)+ABS(Scoresheet!$R13-Scoresheet!$Q13)+ABS(Scoresheet!$S13-Scoresheet!$R13)+ABS(Scoresheet!$T13-Scoresheet!$S13)+ABS(Scoresheet!$U13-Scoresheet!$T13)+ABS(Scoresheet!$V13-Scoresheet!$U13)+ABS(Scoresheet!$W13-Scoresheet!$V13)+Scoresheet!$W13)=0),(IF((Scoresheet!$O13+Scoresheet!$P13+Scoresheet!$Q13+Scoresheet!$R13+Scoresheet!$S13+Scoresheet!$T13+Scoresheet!$U13+Scoresheet!$V13+Scoresheet!$W13)=0,0,ROUND(Scoresheet!O13/(Scoresheet!$O13+Scoresheet!$P13+Scoresheet!$Q13+Scoresheet!$R13+Scoresheet!$S13+Scoresheet!$T13+Scoresheet!$U13+Scoresheet!$V13+Scoresheet!$W13),2))),"ERR!")) -> 0 | L13: =(IF(OR((Scoresheet!$O13+ABS(Scoresheet!$P13-Scoresheet!$O13)+ABS(Scoresheet!$Q13-Scoresheet!$P13)+ABS(Scoresheet!$R13-Scoresheet!$Q13)+ABS(Scoresheet!$S13-Scoresheet!$R13)+ABS(Scoresheet!$T13-Scoresheet!$S13)+ABS(Scoresheet!$U13-Scoresheet!$T13)+ABS(Scoresheet!$V13-Scoresheet!$U13)+ABS(Scoresheet!$W13-Scoresheet!$V13)+Scoresheet!$W13)=2,(Scoresheet!$O13+ABS(Scoresheet!$P13-Scoresheet!$O13)+ABS(Scoresheet!$Q13-Scoresheet!$P13)+ABS(Scoresheet!$R13-Scoresheet!$Q13)+ABS(Scoresheet!$S13-Scoresheet!$R13)+ABS(Scoresheet!$T13-Scoresheet!$S13)+ABS(Scoresheet!$U13-Scoresheet!$T13)+ABS(Scoresheet!$V13-Scoresheet!$U13)+ABS(Scoresheet!$W13-Scoresheet!$V13)+Scoresheet!$W13)=0),(IF((Scoresheet!$O13+Scoresheet!$P13+Scoresheet!$Q13+Scoresheet!$R13+Scoresheet!$S13+Scoresheet!$T13+Scoresheet!$U13+Scoresheet!$V13+Scoresheet!$W13)=0,0,ROUND(Scoresheet!P13/(Scoresheet!$O13+Scoresheet!$P13+Scoresheet!$Q13+Scoresheet!$R13+Scoresheet!$S13+Scoresheet!$T13+Scoresheet!$U13+Scoresheet!$V13+Scoresheet!$W13),2))),"ERR!")) -> 0 | M13: =(IF(OR((Scoresheet!$O13+ABS(Scoresheet!$P13-Scoresheet!$O13)+ABS(Scoresheet!$Q13-Scoresheet!$P13)+ABS(Scoresheet!$R13-Scoresheet!$Q13)+ABS(Scoresheet!$S13-Scoresheet!$R13)+ABS(Scoresheet!$T13-Scoresheet!$S13)+ABS(Scoresheet!$U13-Scoresheet!$T13)+ABS(Scoresheet!$V13-Scoresheet!$U13)+ABS(Scoresheet!$W13-Scoresheet!$V13)+Scoresheet!$W13)=2,(Scoresheet!$O13+ABS(Scoresheet!$P13-Scoresheet!$O13)+ABS(Scoresheet!$Q13-Scoresheet!$P13)+ABS(Scoresheet!$R13-Scoresheet!$Q13)+ABS(Scoresheet!$S13-Scoresheet!$R13)+ABS(Scoresheet!$T13-Scoresheet!$S13)+ABS(Scoresheet!$U13-Scoresheet!$T13)+ABS(Scoresheet!$V13-Scoresheet!$U13)+ABS(Scoresheet!$W13-Scoresheet!$V13)+Scoresheet!$W13)=0),(IF((Scoresheet!$O13+Scoresheet!$P13+Scoresheet!$Q13+Scoresheet!$R13+Scoresheet!$S13+Scoresheet!$T13+Scoresheet!$U13+Scoresheet!$V13+Scoresheet!$W13)=0,0,ROUND(Scoresheet!Q13/(Scoresheet!$O13+Scoresheet!$P13+Scoresheet!$Q13+Scoresheet!$R13+Scoresheet!$S13+Scoresheet!$T13+Scoresheet!$U13+Scoresheet!$V13+Scoresheet!$W13),2))),"ERR!")) -> 0 | N13: =(IF(OR((Scoresheet!$O13+ABS(Scoresheet!$P13-Scoresheet!$O13)+ABS(Scoresheet!$Q13-Scoresheet!$P13)+ABS(Scoresheet!$R13-Scoresheet!$Q13)+ABS(Scoresheet!$S13-Scoresheet!$R13)+ABS(Scoresheet!$T13-Scoresheet!$S13)+ABS(Scoresheet!$U13-Scoresheet!$T13)+ABS(Scoresheet!$V13-Scoresheet!$U13)+ABS(Scoresheet!$W13-Scoresheet!$V13)+Scoresheet!$W13)=2,(Scoresheet!$O13+ABS(Scoresheet!$P13-Scoresheet!$O13)+ABS(Scoresheet!$Q13-Scoresheet!$P13)+ABS(Scoresheet!$R13-Scoresheet!$Q13)+ABS(Scoresheet!$S13-Scoresheet!$R13)+ABS(Scoresheet!$T13-Scoresheet!$S13)+ABS(Scoresheet!$U13-Scoresheet!$T13)+ABS(Scoresheet!$V13-Scoresheet!$U13)+ABS(Scoresheet!$W13-Scoresheet!$V13)+Scoresheet!$W13)=0),(IF((Scoresheet!$O13+Scoresheet!$P13+Scoresheet!$Q13+Scoresheet!$R13+Scoresheet!$S13+Scoresheet!$T13+Scoresheet!$U13+Scoresheet!$V13+Scoresheet!$W13)=0,0,ROUND(Scoresheet!R13/(Scoresheet!$O13+Scoresheet!$P13+Scoresheet!$Q13+Scoresheet!$R13+Scoresheet!$S13+Scoresheet!$T13+Scoresheet!$U13+Scoresheet!$V13+Scoresheet!$W13),2))),"ERR!")) -> 0.33 | O13: =(IF(OR((Scoresheet!$O13+ABS(Scoresheet!$P13-Scoresheet!$O13)+ABS(Scoresheet!$Q13-Scoresheet!$P13)+ABS(Scoresheet!$R13-Scoresheet!$Q13)+ABS(Scoresheet!$S13-Scoresheet!$R13)+ABS(Scoresheet!$T13-Scoresheet!$S13)+ABS(Scoresheet!$U13-Scoresheet!$T13)+ABS(Scoresheet!$V13-Scoresheet!$U13)+ABS(Scoresheet!$W13-Scoresheet!$V13)+Scoresheet!$W13)=2,(Scoresheet!$O13+ABS(Scoresheet!$P13-Scoresheet!$O13)+ABS(Scoresheet!$Q13-Scoresheet!$P13)+ABS(Scoresheet!$R13-Scoresheet!$Q13)+ABS(Scoresheet!$S13-Scoresheet!$R13)+ABS(Scoresheet!$T13-Scoresheet!$S13)+ABS(Scoresheet!$U13-Scoresheet!$T13)+ABS(Scoresheet!$V13-Scoresheet!$U13)+ABS(Scoresheet!$W13-Scoresheet!$V13)+Scoresheet!$W13)=0),(IF((Scoresheet!$O13+Scoresheet!$P13+Scoresheet!$Q13+Scoresheet!$R13+Scoresheet!$S13+Scoresheet!$T13+Scoresheet!$U13+Scoresheet!$V13+Scoresheet!$W13)=0,0,ROUND(Scoresheet!S13/(Scoresheet!$O13+Scoresheet!$P13+Scoresheet!$Q13+Scoresheet!$R13+Scoresheet!$S13+Scoresheet!$T13+Scoresheet!$U13+Scoresheet!$V13+Scoresheet!$W13),2))),"ERR!")) -> 0.33 | P13: =(IF(OR((Scoresheet!$O13+ABS(Scoresheet!$P13-Scoresheet!$O13)+ABS(Scoresheet!$Q13-Scoresheet!$P13)+ABS(Scoresheet!$R13-Scoresheet!$Q13)+ABS(Scoresheet!$S13-Scoresheet!$R13)+ABS(Scoresheet!$T13-Scoresheet!$S13)+ABS(Scoresheet!$U13-Scoresheet!$T13)+ABS(Scoresheet!$V13-Scoresheet!$U13)+ABS(Scoresheet!$W13-Scoresheet!$V13)+Scoresheet!$W13)=2,(Scoresheet!$O13+ABS(Scoresheet!$P13-Scoresheet!$O13)+ABS(Scoresheet!$Q13-Scoresheet!$P13)+ABS(Scoresheet!$R13-Scoresheet!$Q13)+ABS(Scoresheet!$S13-Scoresheet!$R13)+ABS(Scoresheet!$T13-Scoresheet!$S13)+ABS(Scoresheet!$U13-Scoresheet!$T13)+ABS(Scoresheet!$V13-Scoresheet!$U13)+ABS(Scoresheet!$W13-Scoresheet!$V13)+Scoresheet!$W13)=0),(IF((Scoresheet!$O13+Scoresheet!$P13+Scoresheet!$Q13+Scoresheet!$R13+Scoresheet!$S13+Scoresheet!$T13+Scoresheet!$U13+Scoresheet!$V13+Scoresheet!$W13)=0,0,ROUND(Scoresheet!T13/(Scoresheet!$O13+Scoresheet!$P13+Scoresheet!$Q13+Scoresheet!$R13+Scoresheet!$S13+Scoresheet!$T13+Scoresheet!$U13+Scoresheet!$V13+Scoresheet!$W13),2))),"ERR!")) -> 0.33 | Q13: =(IF(OR((Scoresheet!$O13+ABS(Scoresheet!$P13-Scoresheet!$O13)+ABS(Scoresheet!$Q13-Scoresheet!$P13)+ABS(Scoresheet!$R13-Scoresheet!$Q13)+ABS(Scoresheet!$S13-Scoresheet!$R13)+ABS(Scoresheet!$T13-Scoresheet!$S13)+ABS(Scoresheet!$U13-Scoresheet!$T13)+ABS(Scoresheet!$V13-Scoresheet!$U13)+ABS(Scoresheet!$W13-Scoresheet!$V13)+Scoresheet!$W13)=2,(Scoresheet!$O13+ABS(Scoresheet!$P13-Scoresheet!$O13)+ABS(Scoresheet!$Q13-Scoresheet!$P13)+ABS(Scoresheet!$R13-Scoresheet!$Q13)+ABS(Scoresheet!$S13-Scoresheet!$R13)+ABS(Scoresheet!$T13-Scoresheet!$S13)+ABS(Scoresheet!$U13-Scoresheet!$T13)+ABS(Scoresheet!$V13-Scoresheet!$U13)+ABS(Scoresheet!$W13-Scoresheet!$V13)+Scoresheet!$W13)=0),(IF((Scoresheet!$O13+Scoresheet!$P13+Scoresheet!$Q13+Scoresheet!$R13+Scoresheet!$S13+Scoresheet!$T13+Scoresheet!$U13+Scoresheet!$V13+Scoresheet!$W13)=0,0,ROUND(Scoresheet!U13/(Scoresheet!$O13+Scoresheet!$P13+Scoresheet!$Q13+Scoresheet!$R13+Scoresheet!$S13+Scoresheet!$T13+Scoresheet!$U13+Scoresheet!$V13+Scoresheet!$W13),2))),"ERR!")) -> 0 | R13: =(IF(OR((Scoresheet!$O13+ABS(Scoresheet!$P13-Scoresheet!$O13)+ABS(Scoresheet!$Q13-Scoresheet!$P13)+ABS(Scoresheet!$R13-Scoresheet!$Q13)+ABS(Scoresheet!$S13-Scoresheet!$R13)+ABS(Scoresheet!$T13-Scoresheet!$S13)+ABS(Scoresheet!$U13-Scoresheet!$T13)+ABS(Scoresheet!$V13-Scoresheet!$U13)+ABS(Scoresheet!$W13-Scoresheet!$V13)+Scoresheet!$W13)=2,(Scoresheet!$O13+ABS(Scoresheet!$P13-Scoresheet!$O13)+ABS(Scoresheet!$Q13-Scoresheet!$P13)+ABS(Scoresheet!$R13-Scoresheet!$Q13)+ABS(Scoresheet!$S13-Scoresheet!$R13)+ABS(Scoresheet!$T13-Scoresheet!$S13)+ABS(Scoresheet!$U13-Scoresheet!$T13)+ABS(Scoresheet!$V13-Scoresheet!$U13)+ABS(Scoresheet!$W13-Scoresheet!$V13)+Scoresheet!$W13)=0),(IF((Scoresheet!$O13+Scoresheet!$P13+Scoresheet!$Q13+Scoresheet!$R13+Scoresheet!$S13+Scoresheet!$T13+Scoresheet!$U13+Scoresheet!$V13+Scoresheet!$W13)=0,0,ROUND(Scoresheet!V13/(Scoresheet!$O13+Scoresheet!$P13+Scoresheet!$Q13+Scoresheet!$R13+Scoresheet!$S13+Scoresheet!$T13+Scoresheet!$U13+Scoresheet!$V13+Scoresheet!$W13),2))),"ERR!")) -> 0 | S13: =(IF(OR((Scoresheet!$O13+ABS(Scoresheet!$P13-Scoresheet!$O13)+ABS(Scoresheet!$Q13-Scoresheet!$P13)+ABS(Scoresheet!$R13-Scoresheet!$Q13)+ABS(Scoresheet!$S13-Scoresheet!$R13)+ABS(Scoresheet!$T13-Scoresheet!$S13)+ABS(Scoresheet!$U13-Scoresheet!$T13)+ABS(Scoresheet!$V13-Scoresheet!$U13)+ABS(Scoresheet!$W13-Scoresheet!$V13)+Scoresheet!$W13)=2,(Scoresheet!$O13+ABS(Scoresheet!$P13-Scoresheet!$O13)+ABS(Scoresheet!$Q13-Scoresheet!$P13)+ABS(Scoresheet!$R13-Scoresheet!$Q13)+ABS(Scoresheet!$S13-Scoresheet!$R13)+ABS(Scoresheet!$T13-Scoresheet!$S13)+ABS(Scoresheet!$U13-Scoresheet!$T13)+ABS(Scoresheet!$V13-Scoresheet!$U13)+ABS(Scoresheet!$W13-Scoresheet!$V13)+Scoresheet!$W13)=0),(IF((Scoresheet!$O13+Scoresheet!$P13+Scoresheet!$Q13+Scoresheet!$R13+Scoresheet!$S13+Scoresheet!$T13+Scoresheet!$U13+Scoresheet!$V13+Scoresheet!$W13)=0,0,ROUND(Scoresheet!W13/(Scoresheet!$O13+Scoresheet!$P13+Scoresheet!$Q13+Scoresheet!$R13+Scoresheet!$S13+Scoresheet!$T13+Scoresheet!$U13+Scoresheet!$V13+Scoresheet!$W13),2))),"ERR!")) -> 0 | T13: =Scoresheet!X13 -> 0 | U13: =IF((Scoresheet!$Y13+Scoresheet!$Z13+Scoresheet!$AA13)=0,0,FLOOR(Scoresheet!Y13/(Scoresheet!$Y13+Scoresheet!$Z13+Scoresheet!$AA13),0.01)) -> 0.5 | V13: =IF((Scoresheet!$Y13+Scoresheet!$Z13+Scoresheet!$AA13)=0,0,FLOOR(Scoresheet!Z13/(Scoresheet!$Y13+Scoresheet!$Z13+Scoresheet!$AA13),0.01)) -> 0.5 | W13: =IF((Scoresheet!$Y13+Scoresheet!$Z13+Scoresheet!$AA13)=0,0,FLOOR(Scoresheet!AA13/(Scoresheet!$Y13+Scoresheet!$Z13+Scoresheet!$AA13),0.01)) -> 0 | X13: =IF((Scoresheet!$AB13+Scoresheet!$AC13+Scoresheet!$AD13)=0,0,FLOOR(Scoresheet!AB13/(Scoresheet!$AB13+Scoresheet!$AC13+Scoresheet!$AD13),0.01)) -> 0 | Y13: =IF((Scoresheet!$AB13+Scoresheet!$AC13+Scoresheet!$AD13)=0,0,FLOOR(Scoresheet!AC13/(Scoresheet!$AB13+Scoresheet!$AC13+Scoresheet!$AD13),0.01)) -> 1 | Z13: =IF((Scoresheet!$AB13+Scoresheet!$AC13+Scoresheet!$AD13)=0,0,FLOOR(Scoresheet!AD13/(Scoresheet!$AB13+Scoresheet!$AC13+Scoresheet!$AD13),0.01)) -> 0 | AA13: =IF(OR((Scoresheet!$AE13+ABS(Scoresheet!$AF13-Scoresheet!$AE13)+ABS(Scoresheet!$AG13-Scoresheet!$AF13)+ABS(Scoresheet!$AH13-Scoresheet!$AG13)+ABS(Scoresheet!$AI13-Scoresheet!$AH13)+Scoresheet!$AI13)=2,(Scoresheet!$AE13+ABS(Scoresheet!$AF13-Scoresheet!$AE13)+ABS(Scoresheet!$AG13-Scoresheet!$AF13)+ABS(Scoresheet!$AH13-Scoresheet!$AG13)+ABS(Scoresheet!$AI13-Scoresheet!$AH13)+Scoresheet!$AI13)=0),(IF((Scoresheet!$AE13+Scoresheet!$AF13+Scoresheet!$AG13+Scoresheet!$AH13+Scoresheet!$AI13)=0,0,ROUND(Scoresheet!AE13/(Scoresheet!$AE13+Scoresheet!$AF13+Scoresheet!$AG13+Scoresheet!$AH13+Scoresheet!$AI13),2))),"ERR!") -> 0.5 | AB13: =IF(OR((Scoresheet!$AE13+ABS(Scoresheet!$AF13-Scoresheet!$AE13)+ABS(Scoresheet!$AG13-Scoresheet!$AF13)+ABS(Scoresheet!$AH13-Scoresheet!$AG13)+ABS(Scoresheet!$AI13-Scoresheet!$AH13)+Scoresheet!$AI13)=2,(Scoresheet!$AE13+ABS(Scoresheet!$AF13-Scoresheet!$AE13)+ABS(Scoresheet!$AG13-Scoresheet!$AF13)+ABS(Scoresheet!$AH13-Scoresheet!$AG13)+ABS(Scoresheet!$AI13-Scoresheet!$AH13)+Scoresheet!$AI13)=0),(IF((Scoresheet!$AE13+Scoresheet!$AF13+Scoresheet!$AG13+Scoresheet!$AH13+Scoresheet!$AI13)=0,0,ROUND(Scoresheet!AF13/(Scoresheet!$AE13+Scoresheet!$AF13+Scoresheet!$AG13+Scoresheet!$AH13+Scoresheet!$AI13),2))),"ERR!") -> 0.5 | AC13: =IF(OR((Scoresheet!$AE13+ABS(Scoresheet!$AF13-Scoresheet!$AE13)+ABS(Scoresheet!$AG13-Scoresheet!$AF13)+ABS(Scoresheet!$AH13-Scoresheet!$AG13)+ABS(Scoresheet!$AI13-Scoresheet!$AH13)+Scoresheet!$AI13)=2,(Scoresheet!$AE13+ABS(Scoresheet!$AF13-Scoresheet!$AE13)+ABS(Scoresheet!$AG13-Scoresheet!$AF13)+ABS(Scoresheet!$AH13-Scoresheet!$AG13)+ABS(Scoresheet!$AI13-Scoresheet!$AH13)+Scoresheet!$AI13)=0),(IF((Scoresheet!$AE13+Scoresheet!$AF13+Scoresheet!$AG13+Scoresheet!$AH13+Scoresheet!$AI13)=0,0,ROUND(Scoresheet!AG13/(Scoresheet!$AE13+Scoresheet!$AF13+Scoresheet!$AG13+Scoresheet!$AH13+Scoresheet!$AI13),2))),"ERR!") -> 0 | AD13: =IF(OR((Scoresheet!$AE13+ABS(Scoresheet!$AF13-Scoresheet!$AE13)+ABS(Scoresheet!$AG13-Scoresheet!$AF13)+ABS(Scoresheet!$AH13-Scoresheet!$AG13)+ABS(Scoresheet!$AI13-Scoresheet!$AH13)+Scoresheet!$AI13)=2,(Scoresheet!$AE13+ABS(Scoresheet!$AF13-Scoresheet!$AE13)+ABS(Scoresheet!$AG13-Scoresheet!$AF13)+ABS(Scoresheet!$AH13-Scoresheet!$AG13)+ABS(Scoresheet!$AI13-Scoresheet!$AH13)+Scoresheet!$AI13)=0),(IF((Scoresheet!$AE13+Scoresheet!$AF13+Scoresheet!$AG13+Scoresheet!$AH13+Scoresheet!$AI13)=0,0,ROUND(Scoresheet!AH13/(Scoresheet!$AE13+Scoresheet!$AF13+Scoresheet!$AG13+Scoresheet!$AH13+Scoresheet!$AI13),2))),"ERR!") -> 0 | AE13: =IF(OR((Scoresheet!$AE13+ABS(Scoresheet!$AF13-Scoresheet!$AE13)+ABS(Scoresheet!$AG13-Scoresheet!$AF13)+ABS(Scoresheet!$AH13-Scoresheet!$AG13)+ABS(Scoresheet!$AI13-Scoresheet!$AH13)+Scoresheet!$AI13)=2,(Scoresheet!$AE13+ABS(Scoresheet!$AF13-Scoresheet!$AE13)+ABS(Scoresheet!$AG13-Scoresheet!$AF13)+ABS(Scoresheet!$AH13-Scoresheet!$AG13)+ABS(Scoresheet!$AI13-Scoresheet!$AH13)+Scoresheet!$AI13)=0),(IF((Scoresheet!$AE13+Scoresheet!$AF13+Scoresheet!$AG13+Scoresheet!$AH13+Scoresheet!$AI13)=0,0,ROUND(Scoresheet!AI13/(Scoresheet!$AE13+Scoresheet!$AF13+Scoresheet!$AG13+Scoresheet!$AH13+Scoresheet!$AI13),2))),"ERR!") -> 0 | AF13: =IF((Scoresheet!$AJ13+Scoresheet!$AK13+Scoresheet!$AL13)=0,0,FLOOR(Scoresheet!AJ13/(Scoresheet!$AJ13+Scoresheet!$AK13+Scoresheet!$AL13),0.01)) -> 0 | AG13: =IF((Scoresheet!$AJ13+Scoresheet!$AK13+Scoresheet!$AL13)=0,0,FLOOR(Scoresheet!AK13/(Scoresheet!$AJ13+Scoresheet!$AK13+Scoresheet!$AL13),0.01)) -> 0.5 | AH13: =IF((Scoresheet!$AJ13+Scoresheet!$AK13+Scoresheet!$AL13)=0,0,FLOOR(Scoresheet!AL13/(Scoresheet!$AJ13+Scoresheet!$AK13+Scoresheet!$AL13),0.01)) -> 0.5 | AQ13: =IF((B13)>0,1,0) -> 1 | AR13: =IF(C13+D13>0,1,0) -> 1 | AS13: =IF(E13>0,1,0) -> 1 | AT13: =IF(F13>0,1,0) -> 0 | AU13: =IF(G13>0,1,0) -> 0 | AV13: =IF(H13>0,1,0) -> 0 | AW13: =IF(I13>0,1,0) -> 0 | AX13: =IF(J13>0,1,0) -> 0 | AY13: =IF(K13>0,1,0) -> 0 | AZ13: =IF(L13>0,1,0) -> 0 | ... BV13: =IF(AH13>0,1,0) -> 1 | BX13: =AR13 -> 1 | BY13: =IF(AS13+AT13+AU13+AV13+AW13+AX13>0,1,0) -> 1 | BZ13: =IF(AY13+AZ13+BA13+BB13+BC13+BD13+BE13+BF13+BG13>0,1,0) -> 1 | CA13: =IF(BH13+BI13+BJ13+BK13>0,1,0) -> 1 | CB13: =IF(BL13+BM13+BN13>0,1,0) -> 1 | CC13: =IF(BO13+BP13+BQ13+BR13+BS13>0,1,0) -> 1 | CD13: =IF(BT13+BU13+BV13>0,1,0) -> 1
A14: =IF(B14>0,(ROW(A14)-6),0) -> 8 | B14: =Scoresheet!B14 -> Pterospermites | C14: =IF(Scoresheet!C14=0,0,Scoresheet!C14/(Scoresheet!C14+Scoresheet!D14)) -> 1 | D14: =IF(Scoresheet!D14=0,0,Scoresheet!D14/(Scoresheet!C14+Scoresheet!D14)) -> 0 | E14: =IF(Scoresheet!E14=0,0,Scoresheet!E14/(Scoresheet!E14+Scoresheet!F14)) -> 0.5 | F14: =IF(Scoresheet!G14=0,0,Scoresheet!G14/(Scoresheet!G14+Scoresheet!H14)*(IF(Result!E14=0,1,Result!E14))) -> 0 | G14: =IF(Scoresheet!I14=0,0,Scoresheet!I14/(Scoresheet!I14+Scoresheet!J14)*(IF(Result!E14=0,1,Result!E14))) -> 0 | H14: =IF(Scoresheet!K14=0,0,Scoresheet!K14/(Scoresheet!L14+Scoresheet!K14)*(IF(Result!E14=0,1,Result!E14))) -> 0 | I14: =IF(Scoresheet!L14=0,0,Scoresheet!L14/(Scoresheet!K14+Scoresheet!L14)*(IF(Result!E14=0,1,Result!E14))) -> 0.5 | J14: =IF(Scoresheet!M14=0,0,Scoresheet!M14/(Scoresheet!M14+Scoresheet!N14)) -> 0 | K14: =(IF(OR((Scoresheet!$O14+ABS(Scoresheet!$P14-Scoresheet!$O14)+ABS(Scoresheet!$Q14-Scoresheet!$P14)+ABS(Scoresheet!$R14-Scoresheet!$Q14)+ABS(Scoresheet!$S14-Scoresheet!$R14)+ABS(Scoresheet!$T14-Scoresheet!$S14)+ABS(Scoresheet!$U14-Scoresheet!$T14)+ABS(Scoresheet!$V14-Scoresheet!$U14)+ABS(Scoresheet!$W14-Scoresheet!$V14)+Scoresheet!$W14)=2,(Scoresheet!$O14+ABS(Scoresheet!$P14-Scoresheet!$O14)+ABS(Scoresheet!$Q14-Scoresheet!$P14)+ABS(Scoresheet!$R14-Scoresheet!$Q14)+ABS(Scoresheet!$S14-Scoresheet!$R14)+ABS(Scoresheet!$T14-Scoresheet!$S14)+ABS(Scoresheet!$U14-Scoresheet!$T14)+ABS(Scoresheet!$V14-Scoresheet!$U14)+ABS(Scoresheet!$W14-Scoresheet!$V14)+Scoresheet!$W14)=0),(IF((Scoresheet!$O14+Scoresheet!$P14+Scoresheet!$Q14+Scoresheet!$R14+Scoresheet!$S14+Scoresheet!$T14+Scoresheet!$U14+Scoresheet!$V14+Scoresheet!$W14)=0,0,ROUND(Scoresheet!O14/(Scoresheet!$O14+Scoresheet!$P14+Scoresheet!$Q14+Scoresheet!$R14+Scoresheet!$S14+Scoresheet!$T14+Scoresheet!$U14+Scoresheet!$V14+Scoresheet!$W14),2))),"ERR!")) -> 0 | L14: =(IF(OR((Scoresheet!$O14+ABS(Scoresheet!$P14-Scoresheet!$O14)+ABS(Scoresheet!$Q14-Scoresheet!$P14)+ABS(Scoresheet!$R14-Scoresheet!$Q14)+ABS(Scoresheet!$S14-Scoresheet!$R14)+ABS(Scoresheet!$T14-Scoresheet!$S14)+ABS(Scoresheet!$U14-Scoresheet!$T14)+ABS(Scoresheet!$V14-Scoresheet!$U14)+ABS(Scoresheet!$W14-Scoresheet!$V14)+Scoresheet!$W14)=2,(Scoresheet!$O14+ABS(Scoresheet!$P14-Scoresheet!$O14)+ABS(Scoresheet!$Q14-Scoresheet!$P14)+ABS(Scoresheet!$R14-Scoresheet!$Q14)+ABS(Scoresheet!$S14-Scoresheet!$R14)+ABS(Scoresheet!$T14-Scoresheet!$S14)+ABS(Scoresheet!$U14-Scoresheet!$T14)+ABS(Scoresheet!$V14-Scoresheet!$U14)+ABS(Scoresheet!$W14-Scoresheet!$V14)+Scoresheet!$W14)=0),(IF((Scoresheet!$O14+Scoresheet!$P14+Scoresheet!$Q14+Scoresheet!$R14+Scoresheet!$S14+Scoresheet!$T14+Scoresheet!$U14+Scoresheet!$V14+Scoresheet!$W14)=0,0,ROUND(Scoresheet!P14/(Scoresheet!$O14+Scoresheet!$P14+Scoresheet!$Q14+Scoresheet!$R14+Scoresheet!$S14+Scoresheet!$T14+Scoresheet!$U14+Scoresheet!$V14+Scoresheet!$W14),2))),"ERR!")) -> 0 | M14: =(IF(OR((Scoresheet!$O14+ABS(Scoresheet!$P14-Scoresheet!$O14)+ABS(Scoresheet!$Q14-Scoresheet!$P14)+ABS(Scoresheet!$R14-Scoresheet!$Q14)+ABS(Scoresheet!$S14-Scoresheet!$R14)+ABS(Scoresheet!$T14-Scoresheet!$S14)+ABS(Scoresheet!$U14-Scoresheet!$T14)+ABS(Scoresheet!$V14-Scoresheet!$U14)+ABS(Scoresheet!$W14-Scoresheet!$V14)+Scoresheet!$W14)=2,(Scoresheet!$O14+ABS(Scoresheet!$P14-Scoresheet!$O14)+ABS(Scoresheet!$Q14-Scoresheet!$P14)+ABS(Scoresheet!$R14-Scoresheet!$Q14)+ABS(Scoresheet!$S14-Scoresheet!$R14)+ABS(Scoresheet!$T14-Scoresheet!$S14)+ABS(Scoresheet!$U14-Scoresheet!$T14)+ABS(Scoresheet!$V14-Scoresheet!$U14)+ABS(Scoresheet!$W14-Scoresheet!$V14)+Scoresheet!$W14)=0),(IF((Scoresheet!$O14+Scoresheet!$P14+Scoresheet!$Q14+Scoresheet!$R14+Scoresheet!$S14+Scoresheet!$T14+Scoresheet!$U14+Scoresheet!$V14+Scoresheet!$W14)=0,0,ROUND(Scoresheet!Q14/(Scoresheet!$O14+Scoresheet!$P14+Scoresheet!$Q14+Scoresheet!$R14+Scoresheet!$S14+Scoresheet!$T14+Scoresheet!$U14+Scoresheet!$V14+Scoresheet!$W14),2))),"ERR!")) -> 0 | N14: =(IF(OR((Scoresheet!$O14+ABS(Scoresheet!$P14-Scoresheet!$O14)+ABS(Scoresheet!$Q14-Scoresheet!$P14)+ABS(Scoresheet!$R14-Scoresheet!$Q14)+ABS(Scoresheet!$S14-Scoresheet!$R14)+ABS(Scoresheet!$T14-Scoresheet!$S14)+ABS(Scoresheet!$U14-Scoresheet!$T14)+ABS(Scoresheet!$V14-Scoresheet!$U14)+ABS(Scoresheet!$W14-Scoresheet!$V14)+Scoresheet!$W14)=2,(Scoresheet!$O14+ABS(Scoresheet!$P14-Scoresheet!$O14)+ABS(Scoresheet!$Q14-Scoresheet!$P14)+ABS(Scoresheet!$R14-Scoresheet!$Q14)+ABS(Scoresheet!$S14-Scoresheet!$R14)+ABS(Scoresheet!$T14-Scoresheet!$S14)+ABS(Scoresheet!$U14-Scoresheet!$T14)+ABS(Scoresheet!$V14-Scoresheet!$U14)+ABS(Scoresheet!$W14-Scoresheet!$V14)+Scoresheet!$W14)=0),(IF((Scoresheet!$O14+Scoresheet!$P14+Scoresheet!$Q14+Scoresheet!$R14+Scoresheet!$S14+Scoresheet!$T14+Scoresheet!$U14+Scoresheet!$V14+Scoresheet!$W14)=0,0,ROUND(Scoresheet!R14/(Scoresheet!$O14+Scoresheet!$P14+Scoresheet!$Q14+Scoresheet!$R14+Scoresheet!$S14+Scoresheet!$T14+Scoresheet!$U14+Scoresheet!$V14+Scoresheet!$W14),2))),"ERR!")) -> 0 | O14: =(IF(OR((Scoresheet!$O14+ABS(Scoresheet!$P14-Scoresheet!$O14)+ABS(Scoresheet!$Q14-Scoresheet!$P14)+ABS(Scoresheet!$R14-Scoresheet!$Q14)+ABS(Scoresheet!$S14-Scoresheet!$R14)+ABS(Scoresheet!$T14-Scoresheet!$S14)+ABS(Scoresheet!$U14-Scoresheet!$T14)+ABS(Scoresheet!$V14-Scoresheet!$U14)+ABS(Scoresheet!$W14-Scoresheet!$V14)+Scoresheet!$W14)=2,(Scoresheet!$O14+ABS(Scoresheet!$P14-Scoresheet!$O14)+ABS(Scoresheet!$Q14-Scoresheet!$P14)+ABS(Scoresheet!$R14-Scoresheet!$Q14)+ABS(Scoresheet!$S14-Scoresheet!$R14)+ABS(Scoresheet!$T14-Scoresheet!$S14)+ABS(Scoresheet!$U14-Scoresheet!$T14)+ABS(Scoresheet!$V14-Scoresheet!$U14)+ABS(Scoresheet!$W14-Scoresheet!$V14)+Scoresheet!$W14)=0),(IF((Scoresheet!$O14+Scoresheet!$P14+Scoresheet!$Q14+Scoresheet!$R14+Scoresheet!$S14+Scoresheet!$T14+Scoresheet!$U14+Scoresheet!$V14+Scoresheet!$W14)=0,0,ROUND(Scoresheet!S14/(Scoresheet!$O14+Scoresheet!$P14+Scoresheet!$Q14+Scoresheet!$R14+Scoresheet!$S14+Scoresheet!$T14+Scoresheet!$U14+Scoresheet!$V14+Scoresheet!$W14),2))),"ERR!")) -> 0 | P14: =(IF(OR((Scoresheet!$O14+ABS(Scoresheet!$P14-Scoresheet!$O14)+ABS(Scoresheet!$Q14-Scoresheet!$P14)+ABS(Scoresheet!$R14-Scoresheet!$Q14)+ABS(Scoresheet!$S14-Scoresheet!$R14)+ABS(Scoresheet!$T14-Scoresheet!$S14)+ABS(Scoresheet!$U14-Scoresheet!$T14)+ABS(Scoresheet!$V14-Scoresheet!$U14)+ABS(Scoresheet!$W14-Scoresheet!$V14)+Scoresheet!$W14)=2,(Scoresheet!$O14+ABS(Scoresheet!$P14-Scoresheet!$O14)+ABS(Scoresheet!$Q14-Scoresheet!$P14)+ABS(Scoresheet!$R14-Scoresheet!$Q14)+ABS(Scoresheet!$S14-Scoresheet!$R14)+ABS(Scoresheet!$T14-Scoresheet!$S14)+ABS(Scoresheet!$U14-Scoresheet!$T14)+ABS(Scoresheet!$V14-Scoresheet!$U14)+ABS(Scoresheet!$W14-Scoresheet!$V14)+Scoresheet!$W14)=0),(IF((Scoresheet!$O14+Scoresheet!$P14+Scoresheet!$Q14+Scoresheet!$R14+Scoresheet!$S14+Scoresheet!$T14+Scoresheet!$U14+Scoresheet!$V14+Scoresheet!$W14)=0,0,ROUND(Scoresheet!T14/(Scoresheet!$O14+Scoresheet!$P14+Scoresheet!$Q14+Scoresheet!$R14+Scoresheet!$S14+Scoresheet!$T14+Scoresheet!$U14+Scoresheet!$V14+Scoresheet!$W14),2))),"ERR!")) -> 0 | Q14: =(IF(OR((Scoresheet!$O14+ABS(Scoresheet!$P14-Scoresheet!$O14)+ABS(Scoresheet!$Q14-Scoresheet!$P14)+ABS(Scoresheet!$R14-Scoresheet!$Q14)+ABS(Scoresheet!$S14-Scoresheet!$R14)+ABS(Scoresheet!$T14-Scoresheet!$S14)+ABS(Scoresheet!$U14-Scoresheet!$T14)+ABS(Scoresheet!$V14-Scoresheet!$U14)+ABS(Scoresheet!$W14-Scoresheet!$V14)+Scoresheet!$W14)=2,(Scoresheet!$O14+ABS(Scoresheet!$P14-Scoresheet!$O14)+ABS(Scoresheet!$Q14-Scoresheet!$P14)+ABS(Scoresheet!$R14-Scoresheet!$Q14)+ABS(Scoresheet!$S14-Scoresheet!$R14)+ABS(Scoresheet!$T14-Scoresheet!$S14)+ABS(Scoresheet!$U14-Scoresheet!$T14)+ABS(Scoresheet!$V14-Scoresheet!$U14)+ABS(Scoresheet!$W14-Scoresheet!$V14)+Scoresheet!$W14)=0),(IF((Scoresheet!$O14+Scoresheet!$P14+Scoresheet!$Q14+Scoresheet!$R14+Scoresheet!$S14+Scoresheet!$T14+Scoresheet!$U14+Scoresheet!$V14+Scoresheet!$W14)=0,0,ROUND(Scoresheet!U14/(Scoresheet!$O14+Scoresheet!$P14+Scoresheet!$Q14+Scoresheet!$R14+Scoresheet!$S14+Scoresheet!$T14+Scoresheet!$U14+Scoresheet!$V14+Scoresheet!$W14),2))),"ERR!")) -> 0.33 | R14: =(IF(OR((Scoresheet!$O14+ABS(Scoresheet!$P14-Scoresheet!$O14)+ABS(Scoresheet!$Q14-Scoresheet!$P14)+ABS(Scoresheet!$R14-Scoresheet!$Q14)+ABS(Scoresheet!$S14-Scoresheet!$R14)+ABS(Scoresheet!$T14-Scoresheet!$S14)+ABS(Scoresheet!$U14-Scoresheet!$T14)+ABS(Scoresheet!$V14-Scoresheet!$U14)+ABS(Scoresheet!$W14-Scoresheet!$V14)+Scoresheet!$W14)=2,(Scoresheet!$O14+ABS(Scoresheet!$P14-Scoresheet!$O14)+ABS(Scoresheet!$Q14-Scoresheet!$P14)+ABS(Scoresheet!$R14-Scoresheet!$Q14)+ABS(Scoresheet!$S14-Scoresheet!$R14)+ABS(Scoresheet!$T14-Scoresheet!$S14)+ABS(Scoresheet!$U14-Scoresheet!$T14)+ABS(Scoresheet!$V14-Scoresheet!$U14)+ABS(Scoresheet!$W14-Scoresheet!$V14)+Scoresheet!$W14)=0),(IF((Scoresheet!$O14+Scoresheet!$P14+Scoresheet!$Q14+Scoresheet!$R14+Scoresheet!$S14+Scoresheet!$T14+Scoresheet!$U14+Scoresheet!$V14+Scoresheet!$W14)=0,0,ROUND(Scoresheet!V14/(Scoresheet!$O14+Scoresheet!$P14+Scoresheet!$Q14+Scoresheet!$R14+Scoresheet!$S14+Scoresheet!$T14+Scoresheet!$U14+Scoresheet!$V14+Scoresheet!$W14),2))),"ERR!")) -> 0.33 | S14: =(IF(OR((Scoresheet!$O14+ABS(Scoresheet!$P14-Scoresheet!$O14)+ABS(Scoresheet!$Q14-Scoresheet!$P14)+ABS(Scoresheet!$R14-Scoresheet!$Q14)+ABS(Scoresheet!$S14-Scoresheet!$R14)+ABS(Scoresheet!$T14-Scoresheet!$S14)+ABS(Scoresheet!$U14-Scoresheet!$T14)+ABS(Scoresheet!$V14-Scoresheet!$U14)+ABS(Scoresheet!$W14-Scoresheet!$V14)+Scoresheet!$W14)=2,(Scoresheet!$O14+ABS(Scoresheet!$P14-Scoresheet!$O14)+ABS(Scoresheet!$Q14-Scoresheet!$P14)+ABS(Scoresheet!$R14-Scoresheet!$Q14)+ABS(Scoresheet!$S14-Scoresheet!$R14)+ABS(Scoresheet!$T14-Scoresheet!$S14)+ABS(Scoresheet!$U14-Scoresheet!$T14)+ABS(Scoresheet!$V14-Scoresheet!$U14)+ABS(Scoresheet!$W14-Scoresheet!$V14)+Scoresheet!$W14)=0),(IF((Scoresheet!$O14+Scoresheet!$P14+Scoresheet!$Q14+Scoresheet!$R14+Scoresheet!$S14+Scoresheet!$T14+Scoresheet!$U14+Scoresheet!$V14+Scoresheet!$W14)=0,0,ROUND(Scoresheet!W14/(Scoresheet!$O14+Scoresheet!$P14+Scoresheet!$Q14+Scoresheet!$R14+Scoresheet!$S14+Scoresheet!$T14+Scoresheet!$U14+Scoresheet!$V14+Scoresheet!$W14),2))),"ERR!")) -> 0.33 | T14: =Scoresheet!X14 -> 0 | U14: =IF((Scoresheet!$Y14+Scoresheet!$Z14+Scoresheet!$AA14)=0,0,FLOOR(Scoresheet!Y14/(Scoresheet!$Y14+Scoresheet!$Z14+Scoresheet!$AA14),0.01)) -> 0 | V14: =IF((Scoresheet!$Y14+Scoresheet!$Z14+Scoresheet!$AA14)=0,0,FLOOR(Scoresheet!Z14/(Scoresheet!$Y14+Scoresheet!$Z14+Scoresheet!$AA14),0.01)) -> 0 | W14: =IF((Scoresheet!$Y14+Scoresheet!$Z14+Scoresheet!$AA14)=0,0,FLOOR(Scoresheet!AA14/(Scoresheet!$Y14+Scoresheet!$Z14+Scoresheet!$AA14),0.01)) -> 1 | X14: =IF((Scoresheet!$AB14+Scoresheet!$AC14+Scoresheet!$AD14)=0,0,FLOOR(Scoresheet!AB14/(Scoresheet!$AB14+Scoresheet!$AC14+Scoresheet!$AD14),0.01)) -> 0.5 | Y14: =IF((Scoresheet!$AB14+Scoresheet!$AC14+Scoresheet!$AD14)=0,0,FLOOR(Scoresheet!AC14/(Scoresheet!$AB14+Scoresheet!$AC14+Scoresheet!$AD14),0.01)) -> 0.5 | Z14: =IF((Scoresheet!$AB14+Scoresheet!$AC14+Scoresheet!$AD14)=0,0,FLOOR(Scoresheet!AD14/(Scoresheet!$AB14+Scoresheet!$AC14+Scoresheet!$AD14),0.01)) -> 0 | AA14: =IF(OR((Scoresheet!$AE14+ABS(Scoresheet!$AF14-Scoresheet!$AE14)+ABS(Scoresheet!$AG14-Scoresheet!$AF14)+ABS(Scoresheet!$AH14-Scoresheet!$AG14)+ABS(Scoresheet!$AI14-Scoresheet!$AH14)+Scoresheet!$AI14)=2,(Scoresheet!$AE14+ABS(Scoresheet!$AF14-Scoresheet!$AE14)+ABS(Scoresheet!$AG14-Scoresheet!$AF14)+ABS(Scoresheet!$AH14-Scoresheet!$AG14)+ABS(Scoresheet!$AI14-Scoresheet!$AH14)+Scoresheet!$AI14)=0),(IF((Scoresheet!$AE14+Scoresheet!$AF14+Scoresheet!$AG14+Scoresheet!$AH14+Scoresheet!$AI14)=0,0,ROUND(Scoresheet!AE14/(Scoresheet!$AE14+Scoresheet!$AF14+Scoresheet!$AG14+Scoresheet!$AH14+Scoresheet!$AI14),2))),"ERR!") -> 0 | AB14: =IF(OR((Scoresheet!$AE14+ABS(Scoresheet!$AF14-Scoresheet!$AE14)+ABS(Scoresheet!$AG14-Scoresheet!$AF14)+ABS(Scoresheet!$AH14-Scoresheet!$AG14)+ABS(Scoresheet!$AI14-Scoresheet!$AH14)+Scoresheet!$AI14)=2,(Scoresheet!$AE14+ABS(Scoresheet!$AF14-Scoresheet!$AE14)+ABS(Scoresheet!$AG14-Scoresheet!$AF14)+ABS(Scoresheet!$AH14-Scoresheet!$AG14)+ABS(Scoresheet!$AI14-Scoresheet!$AH14)+Scoresheet!$AI14)=0),(IF((Scoresheet!$AE14+Scoresheet!$AF14+Scoresheet!$AG14+Scoresheet!$AH14+Scoresheet!$AI14)=0,0,ROUND(Scoresheet!AF14/(Scoresheet!$AE14+Scoresheet!$AF14+Scoresheet!$AG14+Scoresheet!$AH14+Scoresheet!$AI14),2))),"ERR!") -> 1 | AC14: =IF(OR((Scoresheet!$AE14+ABS(Scoresheet!$AF14-Scoresheet!$AE14)+ABS(Scoresheet!$AG14-Scoresheet!$AF14)+ABS(Scoresheet!$AH14-Scoresheet!$AG14)+ABS(Scoresheet!$AI14-Scoresheet!$AH14)+Scoresheet!$AI14)=2,(Scoresheet!$AE14+ABS(Scoresheet!$AF14-Scoresheet!$AE14)+ABS(Scoresheet!$AG14-Scoresheet!$AF14)+ABS(Scoresheet!$AH14-Scoresheet!$AG14)+ABS(Scoresheet!$AI14-Scoresheet!$AH14)+Scoresheet!$AI14)=0),(IF((Scoresheet!$AE14+Scoresheet!$AF14+Scoresheet!$AG14+Scoresheet!$AH14+Scoresheet!$AI14)=0,0,ROUND(Scoresheet!AG14/(Scoresheet!$AE14+Scoresheet!$AF14+Scoresheet!$AG14+Scoresheet!$AH14+Scoresheet!$AI14),2))),"ERR!") -> 0 | AD14: =IF(OR((Scoresheet!$AE14+ABS(Scoresheet!$AF14-Scoresheet!$AE14)+ABS(Scoresheet!$AG14-Scoresheet!$AF14)+ABS(Scoresheet!$AH14-Scoresheet!$AG14)+ABS(Scoresheet!$AI14-Scoresheet!$AH14)+Scoresheet!$AI14)=2,(Scoresheet!$AE14+ABS(Scoresheet!$AF14-Scoresheet!$AE14)+ABS(Scoresheet!$AG14-Scoresheet!$AF14)+ABS(Scoresheet!$AH14-Scoresheet!$AG14)+ABS(Scoresheet!$AI14-Scoresheet!$AH14)+Scoresheet!$AI14)=0),(IF((Scoresheet!$AE14+Scoresheet!$AF14+Scoresheet!$AG14+Scoresheet!$AH14+Scoresheet!$AI14)=0,0,ROUND(Scoresheet!AH14/(Scoresheet!$AE14+Scoresheet!$AF14+Scoresheet!$AG14+Scoresheet!$AH14+Scoresheet!$AI14),2))),"ERR!") -> 0 | AE14: =IF(OR((Scoresheet!$AE14+ABS(Scoresheet!$AF14-Scoresheet!$AE14)+ABS(Scoresheet!$AG14-Scoresheet!$AF14)+ABS(Scoresheet!$AH14-Scoresheet!$AG14)+ABS(Scoresheet!$AI14-Scoresheet!$AH14)+Scoresheet!$AI14)=2,(Scoresheet!$AE14+ABS(Scoresheet!$AF14-Scoresheet!$AE14)+ABS(Scoresheet!$AG14-Scoresheet!$AF14)+ABS(Scoresheet!$AH14-Scoresheet!$AG14)+ABS(Scoresheet!$AI14-Scoresheet!$AH14)+Scoresheet!$AI14)=0),(IF((Scoresheet!$AE14+Scoresheet!$AF14+Scoresheet!$AG14+Scoresheet!$AH14+Scoresheet!$AI14)=0,0,ROUND(Scoresheet!AI14/(Scoresheet!$AE14+Scoresheet!$AF14+Scoresheet!$AG14+Scoresheet!$AH14+Scoresheet!$AI14),2))),"ERR!") -> 0 | AF14: =IF((Scoresheet!$AJ14+Scoresheet!$AK14+Scoresheet!$AL14)=0,0,FLOOR(Scoresheet!AJ14/(Scoresheet!$AJ14+Scoresheet!$AK14+Scoresheet!$AL14),0.01)) -> 0 | AG14: =IF((Scoresheet!$AJ14+Scoresheet!$AK14+Scoresheet!$AL14)=0,0,FLOOR(Scoresheet!AK14/(Scoresheet!$AJ14+Scoresheet!$AK14+Scoresheet!$AL14),0.01)) -> 0 | AH14: =IF((Scoresheet!$AJ14+Scoresheet!$AK14+Scoresheet!$AL14)=0,0,FLOOR(Scoresheet!AL14/(Scoresheet!$AJ14+Scoresheet!$AK14+Scoresheet!$AL14),0.01)) -> 1 | AQ14: =IF((B14)>0,1,0) -> 1 | AR14: =IF(C14+D14>0,1,0) -> 1 | AS14: =IF(E14>0,1,0) -> 1 | AT14: =IF(F14>0,1,0) -> 0 | AU14: =IF(G14>0,1,0) -> 0 | AV14: =IF(H14>0,1,0) -> 0 | AW14: =IF(I14>0,1,0) -> 1 | AX14: =IF(J14>0,1,0) -> 0 | AY14: =IF(K14>0,1,0) -> 0 | AZ14: =IF(L14>0,1,0) -> 0 | ... BV14: =IF(AH14>0,1,0) -> 1 | BX14: =AR14 -> 1 | BY14: =IF(AS14+AT14+AU14+AV14+AW14+AX14>0,1,0) -> 1 | BZ14: =IF(AY14+AZ14+BA14+BB14+BC14+BD14+BE14+BF14+BG14>0,1,0) -> 1 | CA14: =IF(BH14+BI14+BJ14+BK14>0,1,0) -> 1 | CB14: =IF(BL14+BM14+BN14>0,1,0) -> 1 | CC14: =IF(BO14+BP14+BQ14+BR14+BS14>0,1,0) -> 1 | CD14: =IF(BT14+BU14+BV14>0,1,0) -> 1
A15: =IF(B15>0,(ROW(A15)-6),0) -> 9 | B15: =Scoresheet!B15 -> Indet 1 | C15: =IF(Scoresheet!C15=0,0,Scoresheet!C15/(Scoresheet!C15+Scoresheet!D15)) -> 0 | D15: =IF(Scoresheet!D15=0,0,Scoresheet!D15/(Scoresheet!C15+Scoresheet!D15)) -> 1 | E15: =IF(Scoresheet!E15=0,0,Scoresheet!E15/(Scoresheet!E15+Scoresheet!F15)) -> 0 | F15: =IF(Scoresheet!G15=0,0,Scoresheet!G15/(Scoresheet!G15+Scoresheet!H15)*(IF(Result!E15=0,1,Result!E15))) -> 1 | G15: =IF(Scoresheet!I15=0,0,Scoresheet!I15/(Scoresheet!I15+Scoresheet!J15)*(IF(Result!E15=0,1,Result!E15))) -> 1 | H15: =IF(Scoresheet!K15=0,0,Scoresheet!K15/(Scoresheet!L15+Scoresheet!K15)*(IF(Result!E15=0,1,Result!E15))) -> 0 | I15: =IF(Scoresheet!L15=0,0,Scoresheet!L15/(Scoresheet!K15+Scoresheet!L15)*(IF(Result!E15=0,1,Result!E15))) -> 0 | J15: =IF(Scoresheet!M15=0,0,Scoresheet!M15/(Scoresheet!M15+Scoresheet!N15)) -> 1 | K15: =(IF(OR((Scoresheet!$O15+ABS(Scoresheet!$P15-Scoresheet!$O15)+ABS(Scoresheet!$Q15-Scoresheet!$P15)+ABS(Scoresheet!$R15-Scoresheet!$Q15)+ABS(Scoresheet!$S15-Scoresheet!$R15)+ABS(Scoresheet!$T15-Scoresheet!$S15)+ABS(Scoresheet!$U15-Scoresheet!$T15)+ABS(Scoresheet!$V15-Scoresheet!$U15)+ABS(Scoresheet!$W15-Scoresheet!$V15)+Scoresheet!$W15)=2,(Scoresheet!$O15+ABS(Scoresheet!$P15-Scoresheet!$O15)+ABS(Scoresheet!$Q15-Scoresheet!$P15)+ABS(Scoresheet!$R15-Scoresheet!$Q15)+ABS(Scoresheet!$S15-Scoresheet!$R15)+ABS(Scoresheet!$T15-Scoresheet!$S15)+ABS(Scoresheet!$U15-Scoresheet!$T15)+ABS(Scoresheet!$V15-Scoresheet!$U15)+ABS(Scoresheet!$W15-Scoresheet!$V15)+Scoresheet!$W15)=0),(IF((Scoresheet!$O15+Scoresheet!$P15+Scoresheet!$Q15+Scoresheet!$R15+Scoresheet!$S15+Scoresheet!$T15+Scoresheet!$U15+Scoresheet!$V15+Scoresheet!$W15)=0,0,ROUND(Scoresheet!O15/(Scoresheet!$O15+Scoresheet!$P15+Scoresheet!$Q15+Scoresheet!$R15+Scoresheet!$S15+Scoresheet!$T15+Scoresheet!$U15+Scoresheet!$V15+Scoresheet!$W15),2))),"ERR!")) -> 0 | L15: =(IF(OR((Scoresheet!$O15+ABS(Scoresheet!$P15-Scoresheet!$O15)+ABS(Scoresheet!$Q15-Scoresheet!$P15)+ABS(Scoresheet!$R15-Scoresheet!$Q15)+ABS(Scoresheet!$S15-Scoresheet!$R15)+ABS(Scoresheet!$T15-Scoresheet!$S15)+ABS(Scoresheet!$U15-Scoresheet!$T15)+ABS(Scoresheet!$V15-Scoresheet!$U15)+ABS(Scoresheet!$W15-Scoresheet!$V15)+Scoresheet!$W15)=2,(Scoresheet!$O15+ABS(Scoresheet!$P15-Scoresheet!$O15)+ABS(Scoresheet!$Q15-Scoresheet!$P15)+ABS(Scoresheet!$R15-Scoresheet!$Q15)+ABS(Scoresheet!$S15-Scoresheet!$R15)+ABS(Scoresheet!$T15-Scoresheet!$S15)+ABS(Scoresheet!$U15-Scoresheet!$T15)+ABS(Scoresheet!$V15-Scoresheet!$U15)+ABS(Scoresheet!$W15-Scoresheet!$V15)+Scoresheet!$W15)=0),(IF((Scoresheet!$O15+Scoresheet!$P15+Scoresheet!$Q15+Scoresheet!$R15+Scoresheet!$S15+Scoresheet!$T15+Scoresheet!$U15+Scoresheet!$V15+Scoresheet!$W15)=0,0,ROUND(Scoresheet!P15/(Scoresheet!$O15+Scoresheet!$P15+Scoresheet!$Q15+Scoresheet!$R15+Scoresheet!$S15+Scoresheet!$T15+Scoresheet!$U15+Scoresheet!$V15+Scoresheet!$W15),2))),"ERR!")) -> 0 | M15: =(IF(OR((Scoresheet!$O15+ABS(Scoresheet!$P15-Scoresheet!$O15)+ABS(Scoresheet!$Q15-Scoresheet!$P15)+ABS(Scoresheet!$R15-Scoresheet!$Q15)+ABS(Scoresheet!$S15-Scoresheet!$R15)+ABS(Scoresheet!$T15-Scoresheet!$S15)+ABS(Scoresheet!$U15-Scoresheet!$T15)+ABS(Scoresheet!$V15-Scoresheet!$U15)+ABS(Scoresheet!$W15-Scoresheet!$V15)+Scoresheet!$W15)=2,(Scoresheet!$O15+ABS(Scoresheet!$P15-Scoresheet!$O15)+ABS(Scoresheet!$Q15-Scoresheet!$P15)+ABS(Scoresheet!$R15-Scoresheet!$Q15)+ABS(Scoresheet!$S15-Scoresheet!$R15)+ABS(Scoresheet!$T15-Scoresheet!$S15)+ABS(Scoresheet!$U15-Scoresheet!$T15)+ABS(Scoresheet!$V15-Scoresheet!$U15)+ABS(Scoresheet!$W15-Scoresheet!$V15)+Scoresheet!$W15)=0),(IF((Scoresheet!$O15+Scoresheet!$P15+Scoresheet!$Q15+Scoresheet!$R15+Scoresheet!$S15+Scoresheet!$T15+Scoresheet!$U15+Scoresheet!$V15+Scoresheet!$W15)=0,0,ROUND(Scoresheet!Q15/(Scoresheet!$O15+Scoresheet!$P15+Scoresheet!$Q15+Scoresheet!$R15+Scoresheet!$S15+Scoresheet!$T15+Scoresheet!$U15+Scoresheet!$V15+Scoresheet!$W15),2))),"ERR!")) -> 0 | N15: =(IF(OR((Scoresheet!$O15+ABS(Scoresheet!$P15-Scoresheet!$O15)+ABS(Scoresheet!$Q15-Scoresheet!$P15)+ABS(Scoresheet!$R15-Scoresheet!$Q15)+ABS(Scoresheet!$S15-Scoresheet!$R15)+ABS(Scoresheet!$T15-Scoresheet!$S15)+ABS(Scoresheet!$U15-Scoresheet!$T15)+ABS(Scoresheet!$V15-Scoresheet!$U15)+ABS(Scoresheet!$W15-Scoresheet!$V15)+Scoresheet!$W15)=2,(Scoresheet!$O15+ABS(Scoresheet!$P15-Scoresheet!$O15)+ABS(Scoresheet!$Q15-Scoresheet!$P15)+ABS(Scoresheet!$R15-Scoresheet!$Q15)+ABS(Scoresheet!$S15-Scoresheet!$R15)+ABS(Scoresheet!$T15-Scoresheet!$S15)+ABS(Scoresheet!$U15-Scoresheet!$T15)+ABS(Scoresheet!$V15-Scoresheet!$U15)+ABS(Scoresheet!$W15-Scoresheet!$V15)+Scoresheet!$W15)=0),(IF((Scoresheet!$O15+Scoresheet!$P15+Scoresheet!$Q15+Scoresheet!$R15+Scoresheet!$S15+Scoresheet!$T15+Scoresheet!$U15+Scoresheet!$V15+Scoresheet!$W15)=0,0,ROUND(Scoresheet!R15/(Scoresheet!$O15+Scoresheet!$P15+Scoresheet!$Q15+Scoresheet!$R15+Scoresheet!$S15+Scoresheet!$T15+Scoresheet!$U15+Scoresheet!$V15+Scoresheet!$W15),2))),"ERR!")) -> 0 | O15: =(IF(OR((Scoresheet!$O15+ABS(Scoresheet!$P15-Scoresheet!$O15)+ABS(Scoresheet!$Q15-Scoresheet!$P15)+ABS(Scoresheet!$R15-Scoresheet!$Q15)+ABS(Scoresheet!$S15-Scoresheet!$R15)+ABS(Scoresheet!$T15-Scoresheet!$S15)+ABS(Scoresheet!$U15-Scoresheet!$T15)+ABS(Scoresheet!$V15-Scoresheet!$U15)+ABS(Scoresheet!$W15-Scoresheet!$V15)+Scoresheet!$W15)=2,(Scoresheet!$O15+ABS(Scoresheet!$P15-Scoresheet!$O15)+ABS(Scoresheet!$Q15-Scoresheet!$P15)+ABS(Scoresheet!$R15-Scoresheet!$Q15)+ABS(Scoresheet!$S15-Scoresheet!$R15)+ABS(Scoresheet!$T15-Scoresheet!$S15)+ABS(Scoresheet!$U15-Scoresheet!$T15)+ABS(Scoresheet!$V15-Scoresheet!$U15)+ABS(Scoresheet!$W15-Scoresheet!$V15)+Scoresheet!$W15)=0),(IF((Scoresheet!$O15+Scoresheet!$P15+Scoresheet!$Q15+Scoresheet!$R15+Scoresheet!$S15+Scoresheet!$T15+Scoresheet!$U15+Scoresheet!$V15+Scoresheet!$W15)=0,0,ROUND(Scoresheet!S15/(Scoresheet!$O15+Scoresheet!$P15+Scoresheet!$Q15+Scoresheet!$R15+Scoresheet!$S15+Scoresheet!$T15+Scoresheet!$U15+Scoresheet!$V15+Scoresheet!$W15),2))),"ERR!")) -> 0 | P15: =(IF(OR((Scoresheet!$O15+ABS(Scoresheet!$P15-Scoresheet!$O15)+ABS(Scoresheet!$Q15-Scoresheet!$P15)+ABS(Scoresheet!$R15-Scoresheet!$Q15)+ABS(Scoresheet!$S15-Scoresheet!$R15)+ABS(Scoresheet!$T15-Scoresheet!$S15)+ABS(Scoresheet!$U15-Scoresheet!$T15)+ABS(Scoresheet!$V15-Scoresheet!$U15)+ABS(Scoresheet!$W15-Scoresheet!$V15)+Scoresheet!$W15)=2,(Scoresheet!$O15+ABS(Scoresheet!$P15-Scoresheet!$O15)+ABS(Scoresheet!$Q15-Scoresheet!$P15)+ABS(Scoresheet!$R15-Scoresheet!$Q15)+ABS(Scoresheet!$S15-Scoresheet!$R15)+ABS(Scoresheet!$T15-Scoresheet!$S15)+ABS(Scoresheet!$U15-Scoresheet!$T15)+ABS(Scoresheet!$V15-Scoresheet!$U15)+ABS(Scoresheet!$W15-Scoresheet!$V15)+Scoresheet!$W15)=0),(IF((Scoresheet!$O15+Scoresheet!$P15+Scoresheet!$Q15+Scoresheet!$R15+Scoresheet!$S15+Scoresheet!$T15+Scoresheet!$U15+Scoresheet!$V15+Scoresheet!$W15)=0,0,ROUND(Scoresheet!T15/(Scoresheet!$O15+Scoresheet!$P15+Scoresheet!$Q15+Scoresheet!$R15+Scoresheet!$S15+Scoresheet!$T15+Scoresheet!$U15+Scoresheet!$V15+Scoresheet!$W15),2))),"ERR!")) -> 1 | Q15: =(IF(OR((Scoresheet!$O15+ABS(Scoresheet!$P15-Scoresheet!$O15)+ABS(Scoresheet!$Q15-Scoresheet!$P15)+ABS(Scoresheet!$R15-Scoresheet!$Q15)+ABS(Scoresheet!$S15-Scoresheet!$R15)+ABS(Scoresheet!$T15-Scoresheet!$S15)+ABS(Scoresheet!$U15-Scoresheet!$T15)+ABS(Scoresheet!$V15-Scoresheet!$U15)+ABS(Scoresheet!$W15-Scoresheet!$V15)+Scoresheet!$W15)=2,(Scoresheet!$O15+ABS(Scoresheet!$P15-Scoresheet!$O15)+ABS(Scoresheet!$Q15-Scoresheet!$P15)+ABS(Scoresheet!$R15-Scoresheet!$Q15)+ABS(Scoresheet!$S15-Scoresheet!$R15)+ABS(Scoresheet!$T15-Scoresheet!$S15)+ABS(Scoresheet!$U15-Scoresheet!$T15)+ABS(Scoresheet!$V15-Scoresheet!$U15)+ABS(Scoresheet!$W15-Scoresheet!$V15)+Scoresheet!$W15)=0),(IF((Scoresheet!$O15+Scoresheet!$P15+Scoresheet!$Q15+Scoresheet!$R15+Scoresheet!$S15+Scoresheet!$T15+Scoresheet!$U15+Scoresheet!$V15+Scoresheet!$W15)=0,0,ROUND(Scoresheet!U15/(Scoresheet!$O15+Scoresheet!$P15+Scoresheet!$Q15+Scoresheet!$R15+Scoresheet!$S15+Scoresheet!$T15+Scoresheet!$U15+Scoresheet!$V15+Scoresheet!$W15),2))),"ERR!")) -> 0 | R15: =(IF(OR((Scoresheet!$O15+ABS(Scoresheet!$P15-Scoresheet!$O15)+ABS(Scoresheet!$Q15-Scoresheet!$P15)+ABS(Scoresheet!$R15-Scoresheet!$Q15)+ABS(Scoresheet!$S15-Scoresheet!$R15)+ABS(Scoresheet!$T15-Scoresheet!$S15)+ABS(Scoresheet!$U15-Scoresheet!$T15)+ABS(Scoresheet!$V15-Scoresheet!$U15)+ABS(Scoresheet!$W15-Scoresheet!$V15)+Scoresheet!$W15)=2,(Scoresheet!$O15+ABS(Scoresheet!$P15-Scoresheet!$O15)+ABS(Scoresheet!$Q15-Scoresheet!$P15)+ABS(Scoresheet!$R15-Scoresheet!$Q15)+ABS(Scoresheet!$S15-Scoresheet!$R15)+ABS(Scoresheet!$T15-Scoresheet!$S15)+ABS(Scoresheet!$U15-Scoresheet!$T15)+ABS(Scoresheet!$V15-Scoresheet!$U15)+ABS(Scoresheet!$W15-Scoresheet!$V15)+Scoresheet!$W15)=0),(IF((Scoresheet!$O15+Scoresheet!$P15+Scoresheet!$Q15+Scoresheet!$R15+Scoresheet!$S15+Scoresheet!$T15+Scoresheet!$U15+Scoresheet!$V15+Scoresheet!$W15)=0,0,ROUND(Scoresheet!V15/(Scoresheet!$O15+Scoresheet!$P15+Scoresheet!$Q15+Scoresheet!$R15+Scoresheet!$S15+Scoresheet!$T15+Scoresheet!$U15+Scoresheet!$V15+Scoresheet!$W15),2))),"ERR!")) -> 0 | S15: =(IF(OR((Scoresheet!$O15+ABS(Scoresheet!$P15-Scoresheet!$O15)+ABS(Scoresheet!$Q15-Scoresheet!$P15)+ABS(Scoresheet!$R15-Scoresheet!$Q15)+ABS(Scoresheet!$S15-Scoresheet!$R15)+ABS(Scoresheet!$T15-Scoresheet!$S15)+ABS(Scoresheet!$U15-Scoresheet!$T15)+ABS(Scoresheet!$V15-Scoresheet!$U15)+ABS(Scoresheet!$W15-Scoresheet!$V15)+Scoresheet!$W15)=2,(Scoresheet!$O15+ABS(Scoresheet!$P15-Scoresheet!$O15)+ABS(Scoresheet!$Q15-Scoresheet!$P15)+ABS(Scoresheet!$R15-Scoresheet!$Q15)+ABS(Scoresheet!$S15-Scoresheet!$R15)+ABS(Scoresheet!$T15-Scoresheet!$S15)+ABS(Scoresheet!$U15-Scoresheet!$T15)+ABS(Scoresheet!$V15-Scoresheet!$U15)+ABS(Scoresheet!$W15-Scoresheet!$V15)+Scoresheet!$W15)=0),(IF((Scoresheet!$O15+Scoresheet!$P15+Scoresheet!$Q15+Scoresheet!$R15+Scoresheet!$S15+Scoresheet!$T15+Scoresheet!$U15+Scoresheet!$V15+Scoresheet!$W15)=0,0,ROUND(Scoresheet!W15/(Scoresheet!$O15+Scoresheet!$P15+Scoresheet!$Q15+Scoresheet!$R15+Scoresheet!$S15+Scoresheet!$T15+Scoresheet!$U15+Scoresheet!$V15+Scoresheet!$W15),2))),"ERR!")) -> 0 | T15: =Scoresheet!X15 -> 0 | U15: =IF((Scoresheet!$Y15+Scoresheet!$Z15+Scoresheet!$AA15)=0,0,FLOOR(Scoresheet!Y15/(Scoresheet!$Y15+Scoresheet!$Z15+Scoresheet!$AA15),0.01)) -> 0 | V15: =IF((Scoresheet!$Y15+Scoresheet!$Z15+Scoresheet!$AA15)=0,0,FLOOR(Scoresheet!Z15/(Scoresheet!$Y15+Scoresheet!$Z15+Scoresheet!$AA15),0.01)) -> 1 | W15: =IF((Scoresheet!$Y15+Scoresheet!$Z15+Scoresheet!$AA15)=0,0,FLOOR(Scoresheet!AA15/(Scoresheet!$Y15+Scoresheet!$Z15+Scoresheet!$AA15),0.01)) -> 0 | X15: =IF((Scoresheet!$AB15+Scoresheet!$AC15+Scoresheet!$AD15)=0,0,FLOOR(Scoresheet!AB15/(Scoresheet!$AB15+Scoresheet!$AC15+Scoresheet!$AD15),0.01)) -> 1 | Y15: =IF((Scoresheet!$AB15+Scoresheet!$AC15+Scoresheet!$AD15)=0,0,FLOOR(Scoresheet!AC15/(Scoresheet!$AB15+Scoresheet!$AC15+Scoresheet!$AD15),0.01)) -> 0 | Z15: =IF((Scoresheet!$AB15+Scoresheet!$AC15+Scoresheet!$AD15)=0,0,FLOOR(Scoresheet!AD15/(Scoresheet!$AB15+Scoresheet!$AC15+Scoresheet!$AD15),0.01)) -> 0 | AA15: =IF(OR((Scoresheet!$AE15+ABS(Scoresheet!$AF15-Scoresheet!$AE15)+ABS(Scoresheet!$AG15-Scoresheet!$AF15)+ABS(Scoresheet!$AH15-Scoresheet!$AG15)+ABS(Scoresheet!$AI15-Scoresheet!$AH15)+Scoresheet!$AI15)=2,(Scoresheet!$AE15+ABS(Scoresheet!$AF15-Scoresheet!$AE15)+ABS(Scoresheet!$AG15-Scoresheet!$AF15)+ABS(Scoresheet!$AH15-Scoresheet!$AG15)+ABS(Scoresheet!$AI15-Scoresheet!$AH15)+Scoresheet!$AI15)=0),(IF((Scoresheet!$AE15+Scoresheet!$AF15+Scoresheet!$AG15+Scoresheet!$AH15+Scoresheet!$AI15)=0,0,ROUND(Scoresheet!AE15/(Scoresheet!$AE15+Scoresheet!$AF15+Scoresheet!$AG15+Scoresheet!$AH15+Scoresheet!$AI15),2))),"ERR!") -> 0 | AB15: =IF(OR((Scoresheet!$AE15+ABS(Scoresheet!$AF15-Scoresheet!$AE15)+ABS(Scoresheet!$AG15-Scoresheet!$AF15)+ABS(Scoresheet!$AH15-Scoresheet!$AG15)+ABS(Scoresheet!$AI15-Scoresheet!$AH15)+Scoresheet!$AI15)=2,(Scoresheet!$AE15+ABS(Scoresheet!$AF15-Scoresheet!$AE15)+ABS(Scoresheet!$AG15-Scoresheet!$AF15)+ABS(Scoresheet!$AH15-Scoresheet!$AG15)+ABS(Scoresheet!$AI15-Scoresheet!$AH15)+Scoresheet!$AI15)=0),(IF((Scoresheet!$AE15+Scoresheet!$AF15+Scoresheet!$AG15+Scoresheet!$AH15+Scoresheet!$AI15)=0,0,ROUND(Scoresheet!AF15/(Scoresheet!$AE15+Scoresheet!$AF15+Scoresheet!$AG15+Scoresheet!$AH15+Scoresheet!$AI15),2))),"ERR!") -> 1 | AC15: =IF(OR((Scoresheet!$AE15+ABS(Scoresheet!$AF15-Scoresheet!$AE15)+ABS(Scoresheet!$AG15-Scoresheet!$AF15)+ABS(Scoresheet!$AH15-Scoresheet!$AG15)+ABS(Scoresheet!$AI15-Scoresheet!$AH15)+Scoresheet!$AI15)=2,(Scoresheet!$AE15+ABS(Scoresheet!$AF15-Scoresheet!$AE15)+ABS(Scoresheet!$AG15-Scoresheet!$AF15)+ABS(Scoresheet!$AH15-Scoresheet!$AG15)+ABS(Scoresheet!$AI15-Scoresheet!$AH15)+Scoresheet!$AI15)=0),(IF((Scoresheet!$AE15+Scoresheet!$AF15+Scoresheet!$AG15+Scoresheet!$AH15+Scoresheet!$AI15)=0,0,ROUND(Scoresheet!AG15/(Scoresheet!$AE15+Scoresheet!$AF15+Scoresheet!$AG15+Scoresheet!$AH15+Scoresheet!$AI15),2))),"ERR!") -> 0 | AD15: =IF(OR((Scoresheet!$AE15+ABS(Scoresheet!$AF15-Scoresheet!$AE15)+ABS(Scoresheet!$AG15-Scoresheet!$AF15)+ABS(Scoresheet!$AH15-Scoresheet!$AG15)+ABS(Scoresheet!$AI15-Scoresheet!$AH15)+Scoresheet!$AI15)=2,(Scoresheet!$AE15+ABS(Scoresheet!$AF15-Scoresheet!$AE15)+ABS(Scoresheet!$AG15-Scoresheet!$AF15)+ABS(Scoresheet!$AH15-Scoresheet!$AG15)+ABS(Scoresheet!$AI15-Scoresheet!$AH15)+Scoresheet!$AI15)=0),(IF((Scoresheet!$AE15+Scoresheet!$AF15+Scoresheet!$AG15+Scoresheet!$AH15+Scoresheet!$AI15)=0,0,ROUND(Scoresheet!AH15/(Scoresheet!$AE15+Scoresheet!$AF15+Scoresheet!$AG15+Scoresheet!$AH15+Scoresheet!$AI15),2))),"ERR!") -> 0 | AE15: =IF(OR((Scoresheet!$AE15+ABS(Scoresheet!$AF15-Scoresheet!$AE15)+ABS(Scoresheet!$AG15-Scoresheet!$AF15)+ABS(Scoresheet!$AH15-Scoresheet!$AG15)+ABS(Scoresheet!$AI15-Scoresheet!$AH15)+Scoresheet!$AI15)=2,(Scoresheet!$AE15+ABS(Scoresheet!$AF15-Scoresheet!$AE15)+ABS(Scoresheet!$AG15-Scoresheet!$AF15)+ABS(Scoresheet!$AH15-Scoresheet!$AG15)+ABS(Scoresheet!$AI15-Scoresheet!$AH15)+Scoresheet!$AI15)=0),(IF((Scoresheet!$AE15+Scoresheet!$AF15+Scoresheet!$AG15+Scoresheet!$AH15+Scoresheet!$AI15)=0,0,ROUND(Scoresheet!AI15/(Scoresheet!$AE15+Scoresheet!$AF15+Scoresheet!$AG15+Scoresheet!$AH15+Scoresheet!$AI15),2))),"ERR!") -> 0 | AF15: =IF((Scoresheet!$AJ15+Scoresheet!$AK15+Scoresheet!$AL15)=0,0,FLOOR(Scoresheet!AJ15/(Scoresheet!$AJ15+Scoresheet!$AK15+Scoresheet!$AL15),0.01)) -> 0 | AG15: =IF((Scoresheet!$AJ15+Scoresheet!$AK15+Scoresheet!$AL15)=0,0,FLOOR(Scoresheet!AK15/(Scoresheet!$AJ15+Scoresheet!$AK15+Scoresheet!$AL15),0.01)) -> 1 | AH15: =IF((Scoresheet!$AJ15+Scoresheet!$AK15+Scoresheet!$AL15)=0,0,FLOOR(Scoresheet!AL15/(Scoresheet!$AJ15+Scoresheet!$AK15+Scoresheet!$AL15),0.01)) -> 0 | AQ15: =IF((B15)>0,1,0) -> 1 | AR15: =IF(C15+D15>0,1,0) -> 1 | AS15: =IF(E15>0,1,0) -> 0 | AT15: =IF(F15>0,1,0) -> 1 | AU15: =IF(G15>0,1,0) -> 1 | AV15: =IF(H15>0,1,0) -> 0 | AW15: =IF(I15>0,1,0) -> 0 | AX15: =IF(J15>0,1,0) -> 1 | AY15: =IF(K15>0,1,0) -> 0 | AZ15: =IF(L15>0,1,0) -> 0 | ... BV15: =IF(AH15>0,1,0) -> 0 | BX15: =AR15 -> 1 | BY15: =IF(AS15+AT15+AU15+AV15+AW15+AX15>0,1,0) -> 1 | BZ15: =IF(AY15+AZ15+BA15+BB15+BC15+BD15+BE15+BF15+BG15>0,1,0) -> 1 | CA15: =IF(BH15+BI15+BJ15+BK15>0,1,0) -> 1 | CB15: =IF(BL15+BM15+BN15>0,1,0) -> 1 | CC15: =IF(BO15+BP15+BQ15+BR15+BS15>0,1,0) -> 1 | CD15: =IF(BT15+BU15+BV15>0,1,0) -> 1
A16: =IF(B16>0,(ROW(A16)-6),0) -> 10 | B16: =Scoresheet!B16 -> 'Paranymphaea' | C16: =IF(Scoresheet!C16=0,0,Scoresheet!C16/(Scoresheet!C16+Scoresheet!D16)) -> 1 | D16: =IF(Scoresheet!D16=0,0,Scoresheet!D16/(Scoresheet!C16+Scoresheet!D16)) -> 0 | E16: =IF(Scoresheet!E16=0,0,Scoresheet!E16/(Scoresheet!E16+Scoresheet!F16)) -> 1 | F16: =IF(Scoresheet!G16=0,0,Scoresheet!G16/(Scoresheet!G16+Scoresheet!H16)*(IF(Result!E16=0,1,Result!E16))) -> 0 | G16: =IF(Scoresheet!I16=0,0,Scoresheet!I16/(Scoresheet!I16+Scoresheet!J16)*(IF(Result!E16=0,1,Result!E16))) -> 0 | H16: =IF(Scoresheet!K16=0,0,Scoresheet!K16/(Scoresheet!L16+Scoresheet!K16)*(IF(Result!E16=0,1,Result!E16))) -> 0 | I16: =IF(Scoresheet!L16=0,0,Scoresheet!L16/(Scoresheet!K16+Scoresheet!L16)*(IF(Result!E16=0,1,Result!E16))) -> 0 | J16: =IF(Scoresheet!M16=0,0,Scoresheet!M16/(Scoresheet!M16+Scoresheet!N16)) -> 0 | K16: =(IF(OR((Scoresheet!$O16+ABS(Scoresheet!$P16-Scoresheet!$O16)+ABS(Scoresheet!$Q16-Scoresheet!$P16)+ABS(Scoresheet!$R16-Scoresheet!$Q16)+ABS(Scoresheet!$S16-Scoresheet!$R16)+ABS(Scoresheet!$T16-Scoresheet!$S16)+ABS(Scoresheet!$U16-Scoresheet!$T16)+ABS(Scoresheet!$V16-Scoresheet!$U16)+ABS(Scoresheet!$W16-Scoresheet!$V16)+Scoresheet!$W16)=2,(Scoresheet!$O16+ABS(Scoresheet!$P16-Scoresheet!$O16)+ABS(Scoresheet!$Q16-Scoresheet!$P16)+ABS(Scoresheet!$R16-Scoresheet!$Q16)+ABS(Scoresheet!$S16-Scoresheet!$R16)+ABS(Scoresheet!$T16-Scoresheet!$S16)+ABS(Scoresheet!$U16-Scoresheet!$T16)+ABS(Scoresheet!$V16-Scoresheet!$U16)+ABS(Scoresheet!$W16-Scoresheet!$V16)+Scoresheet!$W16)=0),(IF((Scoresheet!$O16+Scoresheet!$P16+Scoresheet!$Q16+Scoresheet!$R16+Scoresheet!$S16+Scoresheet!$T16+Scoresheet!$U16+Scoresheet!$V16+Scoresheet!$W16)=0,0,ROUND(Scoresheet!O16/(Scoresheet!$O16+Scoresheet!$P16+Scoresheet!$Q16+Scoresheet!$R16+Scoresheet!$S16+Scoresheet!$T16+Scoresheet!$U16+Scoresheet!$V16+Scoresheet!$W16),2))),"ERR!")) -> 0 | L16: =(IF(OR((Scoresheet!$O16+ABS(Scoresheet!$P16-Scoresheet!$O16)+ABS(Scoresheet!$Q16-Scoresheet!$P16)+ABS(Scoresheet!$R16-Scoresheet!$Q16)+ABS(Scoresheet!$S16-Scoresheet!$R16)+ABS(Scoresheet!$T16-Scoresheet!$S16)+ABS(Scoresheet!$U16-Scoresheet!$T16)+ABS(Scoresheet!$V16-Scoresheet!$U16)+ABS(Scoresheet!$W16-Scoresheet!$V16)+Scoresheet!$W16)=2,(Scoresheet!$O16+ABS(Scoresheet!$P16-Scoresheet!$O16)+ABS(Scoresheet!$Q16-Scoresheet!$P16)+ABS(Scoresheet!$R16-Scoresheet!$Q16)+ABS(Scoresheet!$S16-Scoresheet!$R16)+ABS(Scoresheet!$T16-Scoresheet!$S16)+ABS(Scoresheet!$U16-Scoresheet!$T16)+ABS(Scoresheet!$V16-Scoresheet!$U16)+ABS(Scoresheet!$W16-Scoresheet!$V16)+Scoresheet!$W16)=0),(IF((Scoresheet!$O16+Scoresheet!$P16+Scoresheet!$Q16+Scoresheet!$R16+Scoresheet!$S16+Scoresheet!$T16+Scoresheet!$U16+Scoresheet!$V16+Scoresheet!$W16)=0,0,ROUND(Scoresheet!P16/(Scoresheet!$O16+Scoresheet!$P16+Scoresheet!$Q16+Scoresheet!$R16+Scoresheet!$S16+Scoresheet!$T16+Scoresheet!$U16+Scoresheet!$V16+Scoresheet!$W16),2))),"ERR!")) -> 0 | M16: =(IF(OR((Scoresheet!$O16+ABS(Scoresheet!$P16-Scoresheet!$O16)+ABS(Scoresheet!$Q16-Scoresheet!$P16)+ABS(Scoresheet!$R16-Scoresheet!$Q16)+ABS(Scoresheet!$S16-Scoresheet!$R16)+ABS(Scoresheet!$T16-Scoresheet!$S16)+ABS(Scoresheet!$U16-Scoresheet!$T16)+ABS(Scoresheet!$V16-Scoresheet!$U16)+ABS(Scoresheet!$W16-Scoresheet!$V16)+Scoresheet!$W16)=2,(Scoresheet!$O16+ABS(Scoresheet!$P16-Scoresheet!$O16)+ABS(Scoresheet!$Q16-Scoresheet!$P16)+ABS(Scoresheet!$R16-Scoresheet!$Q16)+ABS(Scoresheet!$S16-Scoresheet!$R16)+ABS(Scoresheet!$T16-Scoresheet!$S16)+ABS(Scoresheet!$U16-Scoresheet!$T16)+ABS(Scoresheet!$V16-Scoresheet!$U16)+ABS(Scoresheet!$W16-Scoresheet!$V16)+Scoresheet!$W16)=0),(IF((Scoresheet!$O16+Scoresheet!$P16+Scoresheet!$Q16+Scoresheet!$R16+Scoresheet!$S16+Scoresheet!$T16+Scoresheet!$U16+Scoresheet!$V16+Scoresheet!$W16)=0,0,ROUND(Scoresheet!Q16/(Scoresheet!$O16+Scoresheet!$P16+Scoresheet!$Q16+Scoresheet!$R16+Scoresheet!$S16+Scoresheet!$T16+Scoresheet!$U16+Scoresheet!$V16+Scoresheet!$W16),2))),"ERR!")) -> 0 | N16: =(IF(OR((Scoresheet!$O16+ABS(Scoresheet!$P16-Scoresheet!$O16)+ABS(Scoresheet!$Q16-Scoresheet!$P16)+ABS(Scoresheet!$R16-Scoresheet!$Q16)+ABS(Scoresheet!$S16-Scoresheet!$R16)+ABS(Scoresheet!$T16-Scoresheet!$S16)+ABS(Scoresheet!$U16-Scoresheet!$T16)+ABS(Scoresheet!$V16-Scoresheet!$U16)+ABS(Scoresheet!$W16-Scoresheet!$V16)+Scoresheet!$W16)=2,(Scoresheet!$O16+ABS(Scoresheet!$P16-Scoresheet!$O16)+ABS(Scoresheet!$Q16-Scoresheet!$P16)+ABS(Scoresheet!$R16-Scoresheet!$Q16)+ABS(Scoresheet!$S16-Scoresheet!$R16)+ABS(Scoresheet!$T16-Scoresheet!$S16)+ABS(Scoresheet!$U16-Scoresheet!$T16)+ABS(Scoresheet!$V16-Scoresheet!$U16)+ABS(Scoresheet!$W16-Scoresheet!$V16)+Scoresheet!$W16)=0),(IF((Scoresheet!$O16+Scoresheet!$P16+Scoresheet!$Q16+Scoresheet!$R16+Scoresheet!$S16+Scoresheet!$T16+Scoresheet!$U16+Scoresheet!$V16+Scoresheet!$W16)=0,0,ROUND(Scoresheet!R16/(Scoresheet!$O16+Scoresheet!$P16+Scoresheet!$Q16+Scoresheet!$R16+Scoresheet!$S16+Scoresheet!$T16+Scoresheet!$U16+Scoresheet!$V16+Scoresheet!$W16),2))),"ERR!")) -> 0 | O16: =(IF(OR((Scoresheet!$O16+ABS(Scoresheet!$P16-Scoresheet!$O16)+ABS(Scoresheet!$Q16-Scoresheet!$P16)+ABS(Scoresheet!$R16-Scoresheet!$Q16)+ABS(Scoresheet!$S16-Scoresheet!$R16)+ABS(Scoresheet!$T16-Scoresheet!$S16)+ABS(Scoresheet!$U16-Scoresheet!$T16)+ABS(Scoresheet!$V16-Scoresheet!$U16)+ABS(Scoresheet!$W16-Scoresheet!$V16)+Scoresheet!$W16)=2,(Scoresheet!$O16+ABS(Scoresheet!$P16-Scoresheet!$O16)+ABS(Scoresheet!$Q16-Scoresheet!$P16)+ABS(Scoresheet!$R16-Scoresheet!$Q16)+ABS(Scoresheet!$S16-Scoresheet!$R16)+ABS(Scoresheet!$T16-Scoresheet!$S16)+ABS(Scoresheet!$U16-Scoresheet!$T16)+ABS(Scoresheet!$V16-Scoresheet!$U16)+ABS(Scoresheet!$W16-Scoresheet!$V16)+Scoresheet!$W16)=0),(IF((Scoresheet!$O16+Scoresheet!$P16+Scoresheet!$Q16+Scoresheet!$R16+Scoresheet!$S16+Scoresheet!$T16+Scoresheet!$U16+Scoresheet!$V16+Scoresheet!$W16)=0,0,ROUND(Scoresheet!S16/(Scoresheet!$O16+Scoresheet!$P16+Scoresheet!$Q16+Scoresheet!$R16+Scoresheet!$S16+Scoresheet!$T16+Scoresheet!$U16+Scoresheet!$V16+Scoresheet!$W16),2))),"ERR!")) -> 0 | P16: =(IF(OR((Scoresheet!$O16+ABS(Scoresheet!$P16-Scoresheet!$O16)+ABS(Scoresheet!$Q16-Scoresheet!$P16)+ABS(Scoresheet!$R16-Scoresheet!$Q16)+ABS(Scoresheet!$S16-Scoresheet!$R16)+ABS(Scoresheet!$T16-Scoresheet!$S16)+ABS(Scoresheet!$U16-Scoresheet!$T16)+ABS(Scoresheet!$V16-Scoresheet!$U16)+ABS(Scoresheet!$W16-Scoresheet!$V16)+Scoresheet!$W16)=2,(Scoresheet!$O16+ABS(Scoresheet!$P16-Scoresheet!$O16)+ABS(Scoresheet!$Q16-Scoresheet!$P16)+ABS(Scoresheet!$R16-Scoresheet!$Q16)+ABS(Scoresheet!$S16-Scoresheet!$R16)+ABS(Scoresheet!$T16-Scoresheet!$S16)+ABS(Scoresheet!$U16-Scoresheet!$T16)+ABS(Scoresheet!$V16-Scoresheet!$U16)+ABS(Scoresheet!$W16-Scoresheet!$V16)+Scoresheet!$W16)=0),(IF((Scoresheet!$O16+Scoresheet!$P16+Scoresheet!$Q16+Scoresheet!$R16+Scoresheet!$S16+Scoresheet!$T16+Scoresheet!$U16+Scoresheet!$V16+Scoresheet!$W16)=0,0,ROUND(Scoresheet!T16/(Scoresheet!$O16+Scoresheet!$P16+Scoresheet!$Q16+Scoresheet!$R16+Scoresheet!$S16+Scoresheet!$T16+Scoresheet!$U16+Scoresheet!$V16+Scoresheet!$W16),2))),"ERR!")) -> 0.25 | Q16: =(IF(OR((Scoresheet!$O16+ABS(Scoresheet!$P16-Scoresheet!$O16)+ABS(Scoresheet!$Q16-Scoresheet!$P16)+ABS(Scoresheet!$R16-Scoresheet!$Q16)+ABS(Scoresheet!$S16-Scoresheet!$R16)+ABS(Scoresheet!$T16-Scoresheet!$S16)+ABS(Scoresheet!$U16-Scoresheet!$T16)+ABS(Scoresheet!$V16-Scoresheet!$U16)+ABS(Scoresheet!$W16-Scoresheet!$V16)+Scoresheet!$W16)=2,(Scoresheet!$O16+ABS(Scoresheet!$P16-Scoresheet!$O16)+ABS(Scoresheet!$Q16-Scoresheet!$P16)+ABS(Scoresheet!$R16-Scoresheet!$Q16)+ABS(Scoresheet!$S16-Scoresheet!$R16)+ABS(Scoresheet!$T16-Scoresheet!$S16)+ABS(Scoresheet!$U16-Scoresheet!$T16)+ABS(Scoresheet!$V16-Scoresheet!$U16)+ABS(Scoresheet!$W16-Scoresheet!$V16)+Scoresheet!$W16)=0),(IF((Scoresheet!$O16+Scoresheet!$P16+Scoresheet!$Q16+Scoresheet!$R16+Scoresheet!$S16+Scoresheet!$T16+Scoresheet!$U16+Scoresheet!$V16+Scoresheet!$W16)=0,0,ROUND(Scoresheet!U16/(Scoresheet!$O16+Scoresheet!$P16+Scoresheet!$Q16+Scoresheet!$R16+Scoresheet!$S16+Scoresheet!$T16+Scoresheet!$U16+Scoresheet!$V16+Scoresheet!$W16),2))),"ERR!")) -> 0.25 | R16: =(IF(OR((Scoresheet!$O16+ABS(Scoresheet!$P16-Scoresheet!$O16)+ABS(Scoresheet!$Q16-Scoresheet!$P16)+ABS(Scoresheet!$R16-Scoresheet!$Q16)+ABS(Scoresheet!$S16-Scoresheet!$R16)+ABS(Scoresheet!$T16-Scoresheet!$S16)+ABS(Scoresheet!$U16-Scoresheet!$T16)+ABS(Scoresheet!$V16-Scoresheet!$U16)+ABS(Scoresheet!$W16-Scoresheet!$V16)+Scoresheet!$W16)=2,(Scoresheet!$O16+ABS(Scoresheet!$P16-Scoresheet!$O16)+ABS(Scoresheet!$Q16-Scoresheet!$P16)+ABS(Scoresheet!$R16-Scoresheet!$Q16)+ABS(Scoresheet!$S16-Scoresheet!$R16)+ABS(Scoresheet!$T16-Scoresheet!$S16)+ABS(Scoresheet!$U16-Scoresheet!$T16)+ABS(Scoresheet!$V16-Scoresheet!$U16)+ABS(Scoresheet!$W16-Scoresheet!$V16)+Scoresheet!$W16)=0),(IF((Scoresheet!$O16+Scoresheet!$P16+Scoresheet!$Q16+Scoresheet!$R16+Scoresheet!$S16+Scoresheet!$T16+Scoresheet!$U16+Scoresheet!$V16+Scoresheet!$W16)=0,0,ROUND(Scoresheet!V16/(Scoresheet!$O16+Scoresheet!$P16+Scoresheet!$Q16+Scoresheet!$R16+Scoresheet!$S16+Scoresheet!$T16+Scoresheet!$U16+Scoresheet!$V16+Scoresheet!$W16),2))),"ERR!")) -> 0.25 | S16: =(IF(OR((Scoresheet!$O16+ABS(Scoresheet!$P16-Scoresheet!$O16)+ABS(Scoresheet!$Q16-Scoresheet!$P16)+ABS(Scoresheet!$R16-Scoresheet!$Q16)+ABS(Scoresheet!$S16-Scoresheet!$R16)+ABS(Scoresheet!$T16-Scoresheet!$S16)+ABS(Scoresheet!$U16-Scoresheet!$T16)+ABS(Scoresheet!$V16-Scoresheet!$U16)+ABS(Scoresheet!$W16-Scoresheet!$V16)+Scoresheet!$W16)=2,(Scoresheet!$O16+ABS(Scoresheet!$P16-Scoresheet!$O16)+ABS(Scoresheet!$Q16-Scoresheet!$P16)+ABS(Scoresheet!$R16-Scoresheet!$Q16)+ABS(Scoresheet!$S16-Scoresheet!$R16)+ABS(Scoresheet!$T16-Scoresheet!$S16)+ABS(Scoresheet!$U16-Scoresheet!$T16)+ABS(Scoresheet!$V16-Scoresheet!$U16)+ABS(Scoresheet!$W16-Scoresheet!$V16)+Scoresheet!$W16)=0),(IF((Scoresheet!$O16+Scoresheet!$P16+Scoresheet!$Q16+Scoresheet!$R16+Scoresheet!$S16+Scoresheet!$T16+Scoresheet!$U16+Scoresheet!$V16+Scoresheet!$W16)=0,0,ROUND(Scoresheet!W16/(Scoresheet!$O16+Scoresheet!$P16+Scoresheet!$Q16+Scoresheet!$R16+Scoresheet!$S16+Scoresheet!$T16+Scoresheet!$U16+Scoresheet!$V16+Scoresheet!$W16),2))),"ERR!")) -> 0.25 | T16: =Scoresheet!X16 -> 0 | U16: =IF((Scoresheet!$Y16+Scoresheet!$Z16+Scoresheet!$AA16)=0,0,FLOOR(Scoresheet!Y16/(Scoresheet!$Y16+Scoresheet!$Z16+Scoresheet!$AA16),0.01)) -> 0 | V16: =IF((Scoresheet!$Y16+Scoresheet!$Z16+Scoresheet!$AA16)=0,0,FLOOR(Scoresheet!Z16/(Scoresheet!$Y16+Scoresheet!$Z16+Scoresheet!$AA16),0.01)) -> 0 | W16: =IF((Scoresheet!$Y16+Scoresheet!$Z16+Scoresheet!$AA16)=0,0,FLOOR(Scoresheet!AA16/(Scoresheet!$Y16+Scoresheet!$Z16+Scoresheet!$AA16),0.01)) -> 0 | X16: =IF((Scoresheet!$AB16+Scoresheet!$AC16+Scoresheet!$AD16)=0,0,FLOOR(Scoresheet!AB16/(Scoresheet!$AB16+Scoresheet!$AC16+Scoresheet!$AD16),0.01)) -> 1 | Y16: =IF((Scoresheet!$AB16+Scoresheet!$AC16+Scoresheet!$AD16)=0,0,FLOOR(Scoresheet!AC16/(Scoresheet!$AB16+Scoresheet!$AC16+Scoresheet!$AD16),0.01)) -> 0 | Z16: =IF((Scoresheet!$AB16+Scoresheet!$AC16+Scoresheet!$AD16)=0,0,FLOOR(Scoresheet!AD16/(Scoresheet!$AB16+Scoresheet!$AC16+Scoresheet!$AD16),0.01)) -> 0 | AA16: =IF(OR((Scoresheet!$AE16+ABS(Scoresheet!$AF16-Scoresheet!$AE16)+ABS(Scoresheet!$AG16-Scoresheet!$AF16)+ABS(Scoresheet!$AH16-Scoresheet!$AG16)+ABS(Scoresheet!$AI16-Scoresheet!$AH16)+Scoresheet!$AI16)=2,(Scoresheet!$AE16+ABS(Scoresheet!$AF16-Scoresheet!$AE16)+ABS(Scoresheet!$AG16-Scoresheet!$AF16)+ABS(Scoresheet!$AH16-Scoresheet!$AG16)+ABS(Scoresheet!$AI16-Scoresheet!$AH16)+Scoresheet!$AI16)=0),(IF((Scoresheet!$AE16+Scoresheet!$AF16+Scoresheet!$AG16+Scoresheet!$AH16+Scoresheet!$AI16)=0,0,ROUND(Scoresheet!AE16/(Scoresheet!$AE16+Scoresheet!$AF16+Scoresheet!$AG16+Scoresheet!$AH16+Scoresheet!$AI16),2))),"ERR!") -> 0 | AB16: =IF(OR((Scoresheet!$AE16+ABS(Scoresheet!$AF16-Scoresheet!$AE16)+ABS(Scoresheet!$AG16-Scoresheet!$AF16)+ABS(Scoresheet!$AH16-Scoresheet!$AG16)+ABS(Scoresheet!$AI16-Scoresheet!$AH16)+Scoresheet!$AI16)=2,(Scoresheet!$AE16+ABS(Scoresheet!$AF16-Scoresheet!$AE16)+ABS(Scoresheet!$AG16-Scoresheet!$AF16)+ABS(Scoresheet!$AH16-Scoresheet!$AG16)+ABS(Scoresheet!$AI16-Scoresheet!$AH16)+Scoresheet!$AI16)=0),(IF((Scoresheet!$AE16+Scoresheet!$AF16+Scoresheet!$AG16+Scoresheet!$AH16+Scoresheet!$AI16)=0,0,ROUND(Scoresheet!AF16/(Scoresheet!$AE16+Scoresheet!$AF16+Scoresheet!$AG16+Scoresheet!$AH16+Scoresheet!$AI16),2))),"ERR!") -> 0 | AC16: =IF(OR((Scoresheet!$AE16+ABS(Scoresheet!$AF16-Scoresheet!$AE16)+ABS(Scoresheet!$AG16-Scoresheet!$AF16)+ABS(Scoresheet!$AH16-Scoresheet!$AG16)+ABS(Scoresheet!$AI16-Scoresheet!$AH16)+Scoresheet!$AI16)=2,(Scoresheet!$AE16+ABS(Scoresheet!$AF16-Scoresheet!$AE16)+ABS(Scoresheet!$AG16-Scoresheet!$AF16)+ABS(Scoresheet!$AH16-Scoresheet!$AG16)+ABS(Scoresheet!$AI16-Scoresheet!$AH16)+Scoresheet!$AI16)=0),(IF((Scoresheet!$AE16+Scoresheet!$AF16+Scoresheet!$AG16+Scoresheet!$AH16+Scoresheet!$AI16)=0,0,ROUND(Scoresheet!AG16/(Scoresheet!$AE16+Scoresheet!$AF16+Scoresheet!$AG16+Scoresheet!$AH16+Scoresheet!$AI16),2))),"ERR!") -> 0 | AD16: =IF(OR((Scoresheet!$AE16+ABS(Scoresheet!$AF16-Scoresheet!$AE16)+ABS(Scoresheet!$AG16-Scoresheet!$AF16)+ABS(Scoresheet!$AH16-Scoresheet!$AG16)+ABS(Scoresheet!$AI16-Scoresheet!$AH16)+Scoresheet!$AI16)=2,(Scoresheet!$AE16+ABS(Scoresheet!$AF16-Scoresheet!$AE16)+ABS(Scoresheet!$AG16-Scoresheet!$AF16)+ABS(Scoresheet!$AH16-Scoresheet!$AG16)+ABS(Scoresheet!$AI16-Scoresheet!$AH16)+Scoresheet!$AI16)=0),(IF((Scoresheet!$AE16+Scoresheet!$AF16+Scoresheet!$AG16+Scoresheet!$AH16+Scoresheet!$AI16)=0,0,ROUND(Scoresheet!AH16/(Scoresheet!$AE16+Scoresheet!$AF16+Scoresheet!$AG16+Scoresheet!$AH16+Scoresheet!$AI16),2))),"ERR!") -> 0 | AE16: =IF(OR((Scoresheet!$AE16+ABS(Scoresheet!$AF16-Scoresheet!$AE16)+ABS(Scoresheet!$AG16-Scoresheet!$AF16)+ABS(Scoresheet!$AH16-Scoresheet!$AG16)+ABS(Scoresheet!$AI16-Scoresheet!$AH16)+Scoresheet!$AI16)=2,(Scoresheet!$AE16+ABS(Scoresheet!$AF16-Scoresheet!$AE16)+ABS(Scoresheet!$AG16-Scoresheet!$AF16)+ABS(Scoresheet!$AH16-Scoresheet!$AG16)+ABS(Scoresheet!$AI16-Scoresheet!$AH16)+Scoresheet!$AI16)=0),(IF((Scoresheet!$AE16+Scoresheet!$AF16+Scoresheet!$AG16+Scoresheet!$AH16+Scoresheet!$AI16)=0,0,ROUND(Scoresheet!AI16/(Scoresheet!$AE16+Scoresheet!$AF16+Scoresheet!$AG16+Scoresheet!$AH16+Scoresheet!$AI16),2))),"ERR!") -> 0 | AF16: =IF((Scoresheet!$AJ16+Scoresheet!$AK16+Scoresheet!$AL16)=0,0,FLOOR(Scoresheet!AJ16/(Scoresheet!$AJ16+Scoresheet!$AK16+Scoresheet!$AL16),0.01)) -> 0 | AG16: =IF((Scoresheet!$AJ16+Scoresheet!$AK16+Scoresheet!$AL16)=0,0,FLOOR(Scoresheet!AK16/(Scoresheet!$AJ16+Scoresheet!$AK16+Scoresheet!$AL16),0.01)) -> 0 | AH16: =IF((Scoresheet!$AJ16+Scoresheet!$AK16+Scoresheet!$AL16)=0,0,FLOOR(Scoresheet!AL16/(Scoresheet!$AJ16+Scoresheet!$AK16+Scoresheet!$AL16),0.01)) -> 0 | AQ16: =IF((B16)>0,1,0) -> 1 | AR16: =IF(C16+D16>0,1,0) -> 1 | AS16: =IF(E16>0,1,0) -> 1 | AT16: =IF(F16>0,1,0) -> 0 | AU16: =IF(G16>0,1,0) -> 0 | AV16: =IF(H16>0,1,0) -> 0 | AW16: =IF(I16>0,1,0) -> 0 | AX16: =IF(J16>0,1,0) -> 0 | AY16: =IF(K16>0,1,0) -> 0 | AZ16: =IF(L16>0,1,0) -> 0 | ... BV16: =IF(AH16>0,1,0) -> 0 | BX16: =AR16 -> 1 | BY16: =IF(AS16+AT16+AU16+AV16+AW16+AX16>0,1,0) -> 1 | BZ16: =IF(AY16+AZ16+BA16+BB16+BC16+BD16+BE16+BF16+BG16>0,1,0) -> 1 | CA16: =IF(BH16+BI16+BJ16+BK16>0,1,0) -> 0 | CB16: =IF(BL16+BM16+BN16>0,1,0) -> 1 | CC16: =IF(BO16+BP16+BQ16+BR16+BS16>0,1,0) -> 0 | CD16: =IF(BT16+BU16+BV16>0,1,0) -> 0
